Workbook

Sheet Total de adeudo
B3: Dirección de Administración
B4: Unidad de Administración
B5: Coordinación de Conservación y Servicios Generales
B6: Coordinación Técnica de Administración de Activos
B7: División de Arrendamiento y Comercialización
B11: RESUMEN DE ADEUDOS DE LA CISS POR EL CONVENIO DE COLABORACIÓN No. CTAA/044/2021
B15: 1. Cuota Anual 2022 | C15: ='Pena convencional Cuota 2022'!C23 -> 1526090
B16: 2. Pagos realizados 2022 | C16: ='Pena convencional Cuota 2022'!C24 -> 0.0517
B17: 3. Penas convencionales del saldo pendiente del ejercicio 2022 (abril 2022 a mayo 2023) | C17: ='Pena convencional Cuota 2022'!#REF! -> #REF!
B18: 4. Adeudo actualizado ejercicio 2022 (1-2+3) | C18: =C15-C16+C17 -> #REF!
B19: 5. Cuota Anual 2023 | C19: ='Pena convencional Cuota 2023 '!C17 -> 46464000
B20: 6. Pagos realizados 2023 | C20: ='Pena convencional Cuota 2023 '!C18 -> 0
B21: 7. Penas convencionales del saldo pendiente del ejercicio 2023 (mayo 2023) | C21: ='Pena convencional Cuota 2023 '!C19 -> 1161600
B22: 8. Adeudo actualizado ejercicio 2023 (5-6+7) | C22: =C19-C20+C21 -> 47625600
B24: 9. Saldo por concepto de Plan de Pagos (ejercicios 2024, 2025 y 2026) | C24: 36215328
B25: Adeudo total al 31 de mayo de 2023 (4+8+9) | C25: =+C18+C22+C24 -> #REF!

Sheet Pena convencional Cuota 2023 
K2: Dirección de Administración
K3: Unidad de Administración
K4: Coordinación de Conservación y Servicios Generales
K5: Coordinación Técnica de Administración de Activos
K6: División de Arrendamiento y Comercialización
B9: Cálculo de la Pena Convencional CISS
B11: Concepto | C11: Cuota anual | D11: Pago parcial | E11: Adeudo | F11: 44562 | G11: 44593 | H11: 44621 | I11: 45047 | J11: 45078 | K11: 45108 | L11: 45139 | M11: 45170 | N11: 45200 | O11: 45231 | P11: 45261 | Q11: 45292 | R11: 45323 | S11: 45352 | T11: 45383 | U11: 45413 | V11: 45444 | W11: Total
B12: Porcentaje | F12: 2.5 | G12: 2.5 | H12: 2.5 | I12: 2.5 | J12: 2.5 | K12: 2.5 | L12: 2.5 | M12: 2.5 | N12: 2.5 | O12: 2.5 | P12: 2.5 | Q12: 2.5 | R12: 2.5 | S12: 2.5 | T12: 2.5 | U12: 2.5 | V12: 2.5
B13: mayo 2023 | C13: 46464000 | D13: 0 | E13: =C13-D13 -> 46464000 | I13: =E13*(I12/100) -> 1161600 | W13: =SUM(I13:V13) -> 1161600
B14: TOTAL | D14: =SUM(D13) -> 0 | F14: =SUM(#REF!) -> #REF! | G14: =SUM(#REF!) -> #REF! | H14: =SUM(#REF!) -> #REF! | I14: =SUM(I13) -> 1161600 | J14: =SUM(J13) -> 0 | K14: =SUM(K13) -> 0 | L14: =SUM(L13) -> 0 | M14: =SUM(M13) -> 0 | N14: =SUM(N13) -> 0 | O14: =SUM(O13) -> 0 | P14: =SUM(P13) -> 0 | ... V14: =SUM(V13) -> 0 | W14: =SUM(W13:W13) -> 1161600
A15: .
B16: RESUMEN
B17: 1. Cuota Anual 2023 | C17: =C13 -> 46464000
B18: 2. Pagos realizados 2023 | C18: =D14 -> 0
B19: 3. Penas convencionales 2023 | C19: =W14 -> 1161600
B20: 4. Adeudo actualizado (1-2+3) | C20: =C17-C18+C19 -> 47625600

Sheet Pena convencional Cuota 2022
I2: Dirección de Administración
I3: Unidad de Administración
I4: Coordinación de Conservación y Servicios Generales
I5: Coordinación Técnica de Administración de Activos
I6: División de Arrendamiento y Comercialización
B9: Cálculo actualización cuota anual CV IMSS Oaxtepec
B11: Concepto | C11: Cuota anual | D11: 44562 | E11: 44593 | F11: 44621 | G11: 2017 | H11: 2018 | I11: 2019 | J11: 2020 | K11: 2021 | L11: 2022 | M11: 2023
B12: Moneda Nacional | D12: 2.5 | E12: 2.5 | F12: 2.5 | G12: 0.034 | H12: 0.068 | I12: 0.0483 | J12: 0.0283 | K12: 0.0315 | L12: 0.0736 | M12: 0.0782
B13: inicio arrendamiento (2016) | C13: 1526090 | G13: =+C13*(1+G12) -> 1577977.1
C14: 1577977.1 | H14: =+C14*(1+H12) -> 1685279.5
C15: 1685279.5 | I15: =+C15*(1+I12) -> 1766678.5
C16: 1766678.5 | J16: =+C16*(1+J12) -> 1816675.5
C17: 1816675.5 | K17: =+C17*(1+K12) -> 1873900.8
C18: 1873900.8 | L18: =+C18*(1+L12) -> 2011819.9
C19: 2011819.9 | M19: =+C19*(1+M12) -> 2169144.2
B20: TOTAL | D20: =SUM(D13:D19) -> 0 | E20: =SUM(E13:E19) -> 0 | F20: =SUM(F13:F19) -> 0 | G20: =SUM(G13:G19) -> 1577977.1 | H20: =SUM(H13:H19) -> 1685279.5 | I20: =SUM(I13:I19) -> 1766678.5 | J20: =SUM(J13:J19) -> 1816675.5 | K20: =SUM(K13:K19) -> 1873900.8 | ... M20: =SUM(M13:M19) -> 2169144.2
A21: .
B22: RESUMEN
B23: Cuota Anual inicial | C23: =C13 -> 1526090
B24: incremento promedio | C24: =AVERAGE(G12:M12) -> 0.0517
