Workbook
Name ANUAL: #REF!
Name B_2010_original_sg_a: [1]ORIGINAL_SG!$A$10:$E$104
Name BASE: #REF!
Name BUOAP: '[2]UO AP'!$A$1:$D$64
Name CONSTANTES: #REF!
Name CORRIENTES: #REF!
Name Daños_CH_2011: '[3]Ptto Pòlizas CH y Mandos'!$O$45
Name hidden1: [4]hidden1!$A$1:$A$26
Name hidden2: [4]hidden2!$A$1:$A$41
Name hidden4: [4]hidden4!$A$1:$A$2
Name hidden6: [4]hidden6!$A$1:$A$3
Name Inflaciòn_2011: '[3]Estimación Ptto 2011'!$C$83
Name inicial: #REF!
Name Monto_Severidad_EE: '[3]Severidad EE'!$I$8
Name Monto_Severidad_II: '[3]Severidad II'!$I$11
Name Monto_Severidad_RC: '[3]Severidad RC'!$I$8
Name RESUMEN: #REF!
Name Tasa_IVA_2010: [3]Patrimonial!$B$114
Name TC_2009: '[3]Estimación Ptto 2011'!$C$85
Name TC_2011: '[3]Estimación Ptto 2011'!$C$84
Name Vida_CH_2011: '[3]Ptto Pòlizas CH y Mandos'!$E$45
Name Vida_Funcionarios_2011: '[3]Ptto Pòlizas CH y Mandos'!$AG$47

Sheet Anteproyecto Ingresos 2027
B2: Dirección de Administración
B3: Unidad de Administración
B4: Coordinación de Conservación y Servicios Generales
B5: Coordinación Técnica de Administración de Activos
B6: División de Arrendamiento y Comercialización
B8: Programa de Arrendaiento IMSS Arrendatario 2027
L9: pesos
B10: Proyección | C10: Costo del Programa al cierre 2026 | E10: Anteproyecto 2027 | G10: Presupuesto Ajustado 2027 | K10: Proyecciones 2027 Excluidas
C11: Figuras alcanzadas al 21/09/2026 | D11: Monto | E11: No. Arrendamientos | F11: Monto | G11: No. Arrendamientos | I11: Monto | K11: No. Arrendamientos | L11: Monto
B12: Renovaciones sin incremento | C12: 233 | D12: 3.7423055e+08 | E12: 50 | F12: 194144539 | G12: 261 | H12: 1_/ | I12: =+D17 -> 5.256115e+08 | J12: 1_/ | K12: 0 | L12: 0
B13: Renovaciones con incremento | C13: 26 | D13: 1.4664332e+08 | E13: 157 | F13: 321299181 | G13: 1 | H13: 2_/ | I13: =+'Ren con Incremento'!K13 -> 991622.12 | J13: 2_/ | K13: 157 | L13: =+'Renvcon Increm_No_Consideradas'!I170-'Renvcon Increm_No_Consideradas'!G170 -> 29209056
B14: Sustituciones | C14: 2 | D14: 3062400 | E14: 47 | F14: 45057070 | G14: 13 | H14: 3_/ | I14: =+Sustituciones_Incluidos!J26-Sustituciones_Incluidos!G26 -> 4516724.5 | J14: 3_/ | K14: =+E14-G14 -> 34 | L14: =+Sustituciones_No_Considerados!I47-Sustituciones_No_Considerados!G47 -> 4205302
B15: Nuevos Arrendamientos | E15: 32 | F15: 1.5145704e+08 | G15: 11 | H15: 4_/ | I15: =+Nuevos_Incluidos!K24 -> 53732526 | J15: 4_/ | K15: 21 | L15: =+Nuevos_No_Considerados!I34 -> 95260016
B16: Cancelaciones | C16: 10 | D16: 1675225.2 | E16: 7 | F16: 752193 | G16: 7 | H16: 5_/
B17: Total | C17: =SUM(C12:C15) -> 261 | D17: =SUM(D12:D16) -> 5.256115e+08 | E17: =SUM(E12:E16) -> 293 | F17: =SUM(F12:F16) -> 7.1271003e+08 | G17: =+G12+G15 -> 272 | H17: 6_/ | I17: =SUM(I12:I16) -> 5.8485237e+08 | K17: =SUM(K12:K16) -> 212 | L17: =SUM(L12:L16) -> 1.2867437e+08
B21: Área | C21: Presupuesto Autorizado 2027 | D21: Reducción
B22: OOAD | C22: 4.2077375e+08 | D22: 77017041
B23: Nivel Central | C23: 164154868 | D23: 30046366
B24: Total | C24: =C22+C23 -> 5.8492862e+08 | D24: =D22+D23 -> 1.0706341e+08
B26: Disponibilidad | C26: =+C24-I17 -> 76244.902
B28: Notas:
B29: 1_/ Se refiere al Costo del Programa al Cierre del Programa 2026 e Inicio 2027
B30: 2_/ Arrendamiento de Cozumel 43, diferencial del incremento del 5.0.%
B31: 3_/ Sustituciones incluidas en el Programa 2027 y costo estimado del incremento.
B32: 4_/ Nuevos Arrendamientos y su Costo.
B33: 5_/ Cancelaciones previstas para el 2027, el presupuesto hasta su aplicación está considerado en Costo del Programa 2027.
B34: 6_/ Número de Arrendamiento para 2027 = Número de Arrendamiento al inicio de 2027 + Nuevos Arrendamientos
B35: ** El monto de reducción para Nivel Central de 30.0 mdp, no comunicado formalmente.

Sheet Nuevos_Incluidos
B3: Dirección de Administración
B4: Unidad de Administración
B5: Coordinación de Conservación y Servicios Generales
B6: Coordinación Técnica de Administración de Activos
B7: División de Arrendamiento y Comercialización
B9: Programa de Arrendaiento IMSS Arrendatario 2027
B10: Nuevos Arrendamientos Considerados
B12: No. | C12: Organo de Operación Administrativa Desconcentrada | D12: Dirección del inmueble arrendado | E12: Servicio | F12: Monto de renta mensual actual sin IVA | G12: Monto anual con IVA | H12: Figura Anteproyecto 2027 | I12: Importe 2027 | J12: Meses a Pagar | K12: Importe requerido | L12: Estatus
B13: 1 | C13: Chiapas | D13: Boulevard Belisario Domínguez No. 2510, C.P. 29030, Tuxtla Gutiérrez, Chiapas | E13: Oficinas Administrativas Auxiliares de la Jefatura de Servicios Administrativos | F13: 120000 | G13: 1670400 | H13: Nuevo | I13: 1670400 | J13: 12 | K13: =+F13*J13*1.16 -> 1670400 | L13: - Se encuentra en integración. - No se ha solicitado el DJR.
B14: 2 | C14: Chiapas | D14: Calle Monte del Apalaches, Manzana 19, Lote 9, Fraccionamiento Rincón del Bosque, Tapachula Chiapas. | E14: Casa Habitación para Titular de OOAD | F14: 17000 | G14: =+F14*12 -> 204000 | H14: Nuevo | I14: =+G14 -> 204000 | J14: 9 | K14: =+F14*J14 -> 153000 | L14: -Se cuenta con propuesta.
B15: 3 | C15: Chihuahua | D15: Por definir | E15: Sub-Almacen | F15: 500000 | G15: 6960000 | H15: Nuevo | I15: 6960000 | J15: 9 | K15: =+F15*J15*1.16 -> 5220000 | L15: - Se encuentra en integración. - No se ha solicitado el DJR.
B16: 4 | C16: Guanajuato | D16: Avenida Norte No. 106, Zona Industrial Desarrollo Industrial en Condominio San Ignacio Park, C.P. 36276, Silao, Guanajuato. | E16: Archivo de Concentración | F16: 70000 | G16: 974400 | H16: Nuevo | I16: 974400 | J16: 12 | K16: =+F16*J16*1.16 -> 974400 | L16: - Se encuentra en integración. - No se ha solicitado el DJR.
B17: 5 | C17: Hidalgo | D17: Carretera a Acayuca No. 287, Colonia Pequeña Propiedad, C.P. 42191, Zapotlán de Juárez, Hidalgo. | E17: Archivo de Concentración y Bodega de Bienes Adjudicados y Embargados | F17: 724240 | G17: 10081421 | H17: Nuevo | I17: 10081421 | J17: 12 | K17: =+F17*J17*1.16 -> 10081421 | L17: - Se encuentra en integración. - Ya se cuenta con DJR y con el DDPP.
B18: 6 | C18: Michoacán | D18: Tres Marías, Morelia Michoacán | E18: Casa-Habitación TOOAD | F18: 25000 | G18: =+F18*12 -> 300000 | H18: Nuevo | I18: =+G18 -> 300000 | J18: 9 | K18: =+F18*J18 -> 225000 | L18: -Se cuenta con propuesta.
B19: 7 | C19: Nivel Central | D19: Calle Dante N° 14 Colonia Anzures C.P. 11590 Alcaldía Miguel Hidalgo, Ciudad de México, Nivel Central. | E19: Oficinas Administrativas | F19: 2069315.3 | G19: 28804869 | H19: Nuevo | I19: 28804869 | J19: 12 | K19: =+F19*J19*1.16 -> 28804869 | L19: -Se cuenta con propuesta. - Se solicito DJR.
B20: 8 | C20: Nuevo León | D20: Calle Nardo s/n Colonia Cementos. C.P 64520, Municipio Monterrey, Nuevo Leon. | E20: Bodega de Apoyo al Almacen Delegacional | F20: 305397.7 | G20: 4251136 | H20: Nuevo | I20: 4251136 | J20: 12 | K20: =+F20*J20*1.16 -> 4251136 | L20: -Se cuenta con propuesta.
B21: 9 | C21: Veracruz Sur | D21: Por definir | E21: Oficinas Administrativas (Departamento de Construcción y Planeación Inmobiliaria) | F21: 150000 | G21: 2088000 | H21: Nuevo | I21: 2088000 | J21: 9 | K21: =+F21*J21*1.16 -> 1566000 | L21: - Se encuentra en integración.
B22: 10 | C22: Yucatán | D22: Por definir | E22: Casa Habitación para Titular de OOAD | F22: 25500 | G22: 306000 | H22: Nuevo | I22: 306000 | J22: 9 | K22: =+F22*J22 -> 229500 | L22: - Se encuentra en integración.
B23: 11 | C23: Zacatecas | D23: Fresnillo, Zacatecas. | E23: Bodega de bienes embargados | F23: 40000 | G23: 556800 | H23: Nuevo | I23: 556800 | J23: 12 | K23: =+F23*J23*1.16 -> 556800 | L23: -Se cuenta con propuesta. - Se solicito DJR.
E24: Total | F24: =SUM(F13:F23) -> 4046453 | G24: =SUM(G13:G23) -> 56197026 | I24: =SUM(I13:I23) -> 56197026 | K24: =SUM(K13:K23) -> 53732526

Sheet Sustituciones_Incluidos
B3: Dirección de Administración
B4: Unidad de Administración
B5: Coordinación de Conservación y Servicios Generales
B6: Coordinación Técnica de Administración de Activos
B7: División de Arrendamiento y Comercialización
B9: Programa de Arrendaiento IMSS Arrendatario 2027
B10: Sustituciones Consideradas
B12: No. | C12: Organo de Operación Administrativa Desconcentrada | D12: Dirección del inmueble arrendado | E12: Servicio | F12: Monto de renta mensual actual sin IVA | G12: Monto anual con IVA | H12: Figura Anteproyecto 2027 | I12: Meses a pagar | J12: Importe 2027 | K12: Estatus
B13: 1 | C13: Aguascalientes | D13: Boulevard a Zacatecas No. 701, Fraccionamiento Las Hadas, C.P. 20140, Aguascalientes | E13: Oficinas Administrativas de la Subdelegación Metropolitana Norte | F13: 149599.14 | G13: 2082420 | H13: Sustitución | I13: 12 | J13: =+N13*I13 -> 5602800 | K13: -Se cuenta con propuesta. -Se solicitó DJR. | M13: 5602800 | N13: =+M13/12 -> 466900 | O13: =+M13-J13 -> 0
B14: =+B13+1 -> 2 | C14: Colima | D14: Calle 5 de Mayo No. 33, Colonia Centro, C.P. 28100, Tecomán, Colima | E14: Oficinas Administrativas Subdelegacionales | F14: 14015.57 | G14: 195096.73 | H14: Sustitución | I14: 12 | J14: =+N14*I14 -> 800400 | K14: -Se cuenta con propuesta. -Se solicitó DJR. | M14: 800400 | N14: =+M14/12 -> 66700 | O14: =+M14-J14 -> 0
B15: =+B14+1 -> 3 | C15: Estado de México Poniente | D15: José María Pino Suárez No. 202, Col. Santa Clara, C.P. 50090, Toluca, Estado de México Poniente | E15: Oficinas Administrativas Delegacionales (Jefatura de Servicios Jurídicos) | F15: 60000 | G15: 835200 | H15: Sustitución | I15: 12 | J15: =+N15*I15 -> 960480 | K15: -Se cuenta con propuesta. -Se solicitó DJR. | M15: 960480 | N15: =+M15/12 -> 80040 | O15: =+M15-J15 -> 0
B16: =+B15+1 -> 4 | C16: Nayarit | D16: Calle Niño Obrero N°. 319, Colonia Ciudad Industrial, C.P. 63173, Tepic, Nayarit | E16: Bodega de Bienes Embargados y Archivo de Concentración | F16: 55000 | G16: 765600 | H16: Sustitución | I16: 12 | J16: =+N16*I16 -> 880440 | K16: -Se cuenta con propuesta. -Se solicitó DJR. | M16: 880440 | N16: =+M16/12 -> 73370 | O16: =+M16-J16 -> 0
B17: =+B16+1 -> 5 | C17: Oaxaca | D17: Calle Murguía Nº. 509 esquina Libres, Colonia Centro, C.P. 68000, Oaxaca, Oaxaca | E17: Tienda No. 33 IMSS-SNTSS | F17: 47308 | G17: 658527.36 | H17: Sustitución | I17: 12 | J17: =+N17*I17 -> 757307 | K17: -Se cuenta con propuesta. -Se solicitó DJR. | M17: 757307 | N17: =+M17/12 -> 63108.917 | O17: =+M17-J17 -> 0
B18: =+B17+1 -> 6 | C18: Puebla | D18: Calle Avenida 7 Poniente 114-B, Colonia Centro, C.P. 72760, San Pedro Cholula, Puebla | E18: Centro de Seguridad Social | F18: 20000 | G18: 278400 | H18: Sustitución | I18: 12 | J18: =+N18*I18 -> 320160 | K18: -Se cuenta con propuesta. -Se solicitó DJR. | M18: 320160 | N18: =+M18/12 -> 26680 | O18: =+M18-J18 -> 0
B19: =+B18+1 -> 7 | C19: Quintana Roo | D19: Avenida Benito Juárez No. 441, esquina Marciano González, colonia David G. Gutiérrez, C.P. 77013 Municipio de Othón P. Blanco, Chetumal, Quintana Roo | E19: Oficinas Administrativas Subdelegacionales | F19: 190000 | G19: 2644800 | H19: Sustitución | I19: 12 | J19: =+N19*I19 -> 2644800 | K19: -Se cuenta con propuesta. | M19: 2644800 | N19: =+M19/12 -> 220400 | O19: =+M19-J19 -> 0
B20: =+B19+1 -> 8 | C20: Sinaloa | D20: Calle Escuela Poste Nº. 9, Colonia Luis Donaldo Colosio, C.P. 80700, Cósala, Sinaloa | E20: Unidad de Medicina Familiar No. 50 | F20: 2500 | G20: 34800 | H20: Sustitución | I20: 11 | J20: =+N20*I20 -> 29241.667 | K20: -Se cuenta con propuesta. | M20: 31900 | N20: =+M20/12 -> 2658.3333 | O20: =+M20-J20 -> 2658.3333
B21: =+B20+1 -> 9 | C21: Sinaloa | D21: Boulevard Francisco I. Madero Oriente No. 526, Colonia Centro, C.P. 80200, Culiacán, Sinaloa | E21: Oficinas Administrativas Subdelegacionales. | F21: 185255 | G21: 2578749.6 | H21: Sustitución | I21: 12 | J21: =+N21*I21 -> 2578749.6 | K21: -Se cuenta con propuesta. | M21: 2578749.6 | N21: =+M21/12 -> 214895.8 | O21: =+M21-J21 -> 0
B22: =+B21+1 -> 10 | C22: Sonora | D22: Carretera al Varadero Km. 2.5, Fraccionamiento Las Playitas, C.P. 85400, Guaymas, Sonora | E22: Bodega de Bienes Embargados | F22: 6328 | G22: 88085.76 | H22: Sustitución | I22: 12 | J22: =+N22*I22 -> 101299 | K22: -Se cuenta con propuesta. | M22: 101299 | N22: =+M22/12 -> 8441.5833 | O22: =+M22-J22 -> 0
B23: =+B22+1 -> 11 | C23: Sonora | D23: Mariano Jiménez No. 746 entre Guelatao y 5 de Mayo, Colonia Centro, C.P. 85820, Navojoa, Sonora | E23: Bodega de Bienes Embargados | F23: 10884 | G23: 151505.28 | H23: Sustitución | I23: 12 | J23: =+N23*I23 -> 174232 | K23: -Se cuenta con propuesta. | M23: 174232 | N23: =+M23/12 -> 14519.333 | O23: =+M23-J23 -> 0
B24: =+B23+1 -> 12 | C24: Tamaulipas | D24: Calle Santiago No. 3310, Manzana 4, Lote 8, Fracionamiento Las Villas, Finca Santo Domingo, C.P. 87029, Ciudad Victoria, Tamaulipas | E24: Casa Delegado | F24: 20000 | G24: 240000 | H24: Sustitución | I24: 11 | J24: =+N24*I24 -> 220000 | K24: -Se cuenta con propuesta. | M24: 240000 | N24: =+M24/12 -> 20000 | O24: =+M24-J24 -> 20000
B25: =+B24+1 -> 13 | C25: Tlaxcala | D25: Calle 6 Nº. 1710, Colonia Xicoténcatl, C.P. 90062, Tlaxcala, Tlaxcala | E25: Oficinas Administrativas Delegacionales (Departamento de Construcción y Planeación Inmobiliaria) | F25: 42500 | G25: 591600 | H25: Sustitución | I25: 12 | J25: =+N25*I25 -> 591600 | K25: -Se cuenta con propuesta. | M25: 591600 | N25: =+M25/12 -> 49300 | O25: =+M25-J25 -> 0
E26: Total | F26: =SUM(F13:F25) -> 803389.71 | G26: =SUM(G13:G25) -> 11144785 | J26: =SUM(J13:J25) -> 15661509 | M26: 15699368 | N26: =+M26/12 -> 1308280.6
M27: =+M26-J26 -> 37858.333

Sheet Ren con Incremento
B3: Dirección de Administración
B4: Unidad de Administración
B5: Coordinación de Conservación y Servicios Generales
B6: Coordinación Técnica de Administración de Activos
B7: División de Arrendamiento y Comercialización
B9: Programa de Arrendaiento IMSS Arrendatario 2027
B10: Renovación con Incremento
B12: No. | C12: Organo de Operación Administrativa Desconcentrada | D12: Dirección del inmueble arrendado | E12: Servicio | F12: Monto de renta mensual actual sin IVA | G12: Monto anual con IVA | H12: Figura Anteproyecto 2027 | I12: Importe 2027 | J12: Meses a Pagar | K12: Importe requerido | L12: Estatus
B13: 1 | C13: Nivel Central | D13: Calle Cozumel N° 43, Colonia Roma Norte, C.P. 06700, Alcaldía Cuauhtémoc, Nivel Central. | E13: Oficinas Administrativas Nivel Central | F13: =1295222.2*1.1 -> 1424744.4 | G13: =+F13*1.16*12 -> 19832442 | H13: Renovación con incremento | I13: =+G13*1.05 -> 20824064 | J13: 12 | K13: =+J13*O13 -> 991622.12 | L13: Se ha solicitado el DJR. | N13: 991622.12 | O13: =+N13/12 -> 82635.176
E14: Total | F14: =SUM(F13:F13) -> 1424744.4 | G14: =SUM(G13:G13) -> 19832442 | I14: =SUM(I13:I13) -> 20824064 | K14: =SUM(K13:K13) -> 991622.12

Sheet Nuevos_No_Considerados
B3: Dirección de Administración
B4: Unidad de Administración
B5: Coordinación de Conservación y Servicios Generales
B6: Coordinación Técnica de Administración de Activos
B7: División de Arrendamiento y Comercialización
B9: Programa de Arrendaiento IMSS Arrendatario 2027
B10: Nuevos Arrendamientos No Considerados
B12: No. | C12: Organo de Operación Administrativa Desconcentrada | D12: Dirección del inmueble arrendado | E12: Servicio | F12: Monto de renta mensual actual sin IVA | G12: Monto anual con IVA | H12: Figura Anteproyecto 2027 | I12: Importe 2027
B13: 1 | C13: Chiapas | D13: Por definir | E13: Oficinas Administrativas | F13: 600000 | G13: 8352000 | H13: Nuevo | I13: 8352000
B14: 2 | C14: Durango | D14: Por Definir | E14: Oficinas Administrativas | F14: 130000 | G14: 1809600 | H14: Nuevo | I14: 1809600
B15: 3 | C15: Estado de México Poniente | D15: Por definir | E15: Almacén Delegacional | F15: 1500000 | G15: 20880000 | H15: Nuevo | I15: 20880000
B16: 4 | C16: Estado de México Poniente | D16: Por definir | E16: Oficinas alternas a la Jefatura de Servicios de Desarrollo Personal | F16: 50000 | G16: 696000 | H16: Nuevo | I16: 696000
B17: 5 | C17: Jalisco | D17: Por Definir | E17: Bodega de bienes embargados | F17: 950000 | G17: 13224000 | H17: Nuevo | I17: 13224000
B18: 6 | C18: Michoacán | D18: Calle Martínez de Navarrete Ote, No. 7, Fraccionamiento la Luneta, C.P. 59680, Zamora | E18: Bodega de bienes embargados | F18: 95000 | G18: 1322400 | H18: Nuevo | I18: 1322400
B19: 7 | C19: Michoacán | D19: Av. Francisco I Madero Pte. No. 541, col. Centro C.P. 58000, Morelia, Michoacán | E19: Centro de Seguridad Social Morelia | F19: 156000 | G19: 2171520 | H19: Nuevo | I19: 2171520
B20: 8 | C20: Nivel Central | D20: por definir | E20: Oficinas Administrativas | F20: 1684392 | G20: 23446736 | H20: Nuevo | I20: 23446736
B21: 9 | C21: Oaxaca | D21: Por definir | E21: Bodega de Bienes Embargados | F21: 88000 | G21: 1224960 | H21: Nuevo | I21: 1224960
B22: 10 | C22: Oaxaca | D22: Por definir | E22: UMF 38 | F22: 200000 | G22: 2784000 | H22: Nuevo | I22: 2784000
B23: 11 | C23: Oaxaca | D23: Por definir | E23: UMF 41 | F23: 200000 | G23: 2784000 | H23: Nuevo | I23: 2784000
B24: 12 | C24: Puebla | D24: Por definir | E24: Archivo de Concentración | F24: 50000 | G24: 696000 | H24: Nuevo | I24: 696000
... B33: 21 | C33: Zacatecas | D33: Calle Independencia No. 10 Zona Centro, Concepción del Oro, C.P. 98200 | E33: Tienda IMSS-SNTSS | F33: 12000 | G33: 167040 | H33: Nuevo | I33: 167040
E34: TOTAL | F34: =SUM(F13:F33) -> 6843392 | G34: =SUM(G13:G33) -> 95260016 | I34: =SUM(I13:I33) -> 95260016

Sheet Sustituciones_No_Considerados
B3: Dirección de Administración
B4: Unidad de Administración
B5: Coordinación de Conservación y Servicios Generales
B6: Coordinación Técnica de Administración de Activos
B7: División de Arrendamiento y Comercialización
B9: Programa de Arrendaiento IMSS Arrendatario 2027
B10: Sustituciones No Consideradas
B12: No. | C12: Organo de Operación Administrativa Desconcentrada | D12: Dirección del inmueble arrendado | E12: Servicio | F12: Monto de renta mensual actual sin IVA | G12: Monto anual con IVA | H12: Figura Anteproyecto 2027 | I12: Importe 2027
B13: 1 | C13: Aguascalientes | D13: Calle Ecuador No. 205, Planta Baja, Colonia Las Americas, C.P. 20230, Aguascalientes | E13: Oficinas Administrativas de la Subdelegación Metropolitana Sur | F13: 94630.5 | G13: 1317256.6 | H13: Sustitución | I13: 1514846
B14: 2 | C14: Aguascalientes | D14: Calle Mangana No. 201, Fraccionamiento Vista Alegre, C.P. 20290, Aguascalientes, Aguascalientes. | E14: Bodega de Bienes Embargados | F14: 75000 | G14: 900000 | H14: Sustitución | I14: 1035000
B15: 3 | C15: Chiapas | D15: Segunda Calle Oriente y Séptima Avenida Sur No. 12, Colonia Centro, C.P. 30700, Tapachula, Chiapas | E15: Tienda No. 12 | F15: 32031 | G15: 445871.52 | H15: Sustitución | I15: 512753
B16: 4 | C16: Chihuahua | D16: Boulevard Oscar Flores Sánchez Nº. 2250, Colonia Jardines de San Jose, C.P. 32695, Ciudad Juárez, Chihuahua | E16: Tienda Nº. 97 y Oficinas Administrativas (Coordinación de Prestaciones Económicas y Sociales) | F16: 62534 | G16: 810440.64 | H16: Sustitución | I16: 932007
B17: 5 | C17: Chihuahua | D17: Calle General Rosalio Hernández Nº. 21 y Ferrocarriles Nacionales de México, C.P. 31150, Chihuahua, Chihuahua | E17: Almacén Delegacional (Bienes No Terapéuticos) | F17: 42244 | G17: 588036.48 | H17: Sustitución | I17: 676242
B18: 6 | C18: Chihuahua | D18: Calle Privada Santa Rosa Nºs. 21 y 23, C.P. 31150, Chihuahua, Chihuahua | E18: Almacén Delegacional (Bienes Terapéuticos) y Coordinación de Abastecimiento | F18: 89568.75 | G18: 1246797 | H18: Sustitución | I18: 1433817
B19: 7 | C19: Chihuahua | D19: Calle Sierra Mohinora Nº. 6011, Fraccionamiento La Cuesta, C.P. 32650, Ciudad Juárez, Chihuahua | E19: Bodega de Bienes Embargados | F19: 26686 | G19: 371469.12 | H19: Sustitución | I19: 427190
B20: 8 | C20: Chihuahua | D20: Calle Privada Santa Rosa Nº 19, Colonia Centro, C.P. 31150, Chihuahua, Chihuahua | E20: Almacén Delegacional (Bienes de Laboratorio y Lácteos ) | F20: 26525.27 | G20: 369231.76 | H20: Sustitución | I20: 424617
B21: 9 | C21: Guerrero | D21: Ignacio Allende No. 4 Colonia Centro, C.P. 40930, Atoyac de Álvarez, Guerrero | E21: Unidad de Medicina Familiar Nº. 11 | F21: 5000 | G21: 69600 | H21: Sustitución | I21: 80040
B22: 10 | C22: Hidalgo | D22: Cerrada De Frambuesa N.° 2, Piso 2, Fraccionamiento La Huerta, Colonia Centro, C.P. 42300, Pachuca, Hidalgo | E22: Oficinas Administrativas EMS | F22: 16060 | G22: 223555.2 | H22: Sustitución | I22: 257089
B23: 11 | C23: Jalisco | D23: Calle Hidalgo N°. 45, Colonia Centro, C.P. 45350, Arenal, Jalisco | E23: Unidad de Medicina Familiar N°. 12 | F23: 2500 | G23: 34800 | H23: Sustitución | I23: 40020
B24: 12 | C24: Jalisco | D24: Calle Hidalgo N°. 73, Colonia Centro, C.P. 46560, San Juanito de Escobedo, Jalisco | E24: Unidad de Atención Primaria a la Salud N°. 137 | F24: 960.3 | G24: 13367.376 | H24: Sustitución | I24: 15373
... B46: 34 | C46: Veracruz Norte | D46: Melchor Ocampo N°. 4-302 Colonia Centro, C.P. 92800, Tuxpan, Veracruz Norte | E46: Oficinas Administrativas auxiliares Subdelegacionales | F46: 3545 | G46: 49346.4 | H46: Sustitución | I46: 56749
E47: TOTAL | F47: =SUM(F13:F46) -> 2038877.3 | G47: =SUM(G13:G46) -> 28035261 | I47: =SUM(I13:I46) -> 32240563

Sheet Renvcon Increm_No_Consideradas
B3: Dirección de Administración
B4: Unidad de Administración
B5: Coordinación de Conservación y Servicios Generales
B6: Coordinación Técnica de Administración de Activos
B7: División de Arrendamiento y Comercialización
B9: Programa de Arrendaiento IMSS Arrendatario 2027
B10: Renovaciones con Incrementos No Consideradas
B12: No. | C12: Organo de Operación Administrativa Desconcentrada | D12: Dirección del inmueble arrendado | E12: Servicio | F12: Monto de renta mensual actual sin IVA | G12: Monto anual con IVA | H12: Figura Anteproyecto 2027 | I12: Importe 2027
B13: 1 | C13: Aguascalientes | D13: Calle Ecuador No. 205, Planta Alta, Colonia Las Americas, C.P. 20230, Aguascalientes | E13: Centro de Capacitación | F13: 58610 | G13: 815851.2 | H13: Renovación con incremento | I13: 897437
B14: 2 | C14: Aguascalientes | D14: Calle Julio Díaz Torre N° 105, Lote 3, Manzana 28 Interior D y E, Fraccionamiento Ciudad Industrial, C.P. 20290, Aguascalientes, Aguascalientes. | E14: Coordinación de Abastecimiento y Equipamiento, Almacén Delegacional y Archivo de Concentración | F14: 581389.25 | G14: 8092938.4 | H14: Renovación con incremento | I14: 8902233
B15: 3 | C15: Coahuila | D15: Boulevard Constitución, esquina Calle Jiménez, Zona Centro, C.P. 27080, Torreón, Coahuila | E15: Unidad de Medicina Familiar No. 80 | F15: 183860 | G15: 2559331.2 | H15: Renovación con incremento | I15: 2815265
B16: 4 | C16: Coahuila | D16: Boulevard Isidro López Zertuche No. 2791-B, Colonia Universidad, C.P. 25260, Saltillo, Coahuila | E16: Oficinas Administrativas Subdelegacionales | F16: 163275 | G16: 2272788 | H16: Renovación con incremento | I16: 2500067
B17: 5 | C17: Coahuila | D17: Boulevard Independencia y Calle Leona Vicario S/N, C.P. 27000, Torreón, Coahuila | E17: Oficinas Administrativas Subdelegacionales | F17: 363189.65 | G17: 5055599.9 | H17: Renovación con incremento | I17: 5561160
B18: 6 | C18: Coahuila | D18: Boulevard Benito Juárez No. 523, Colonia Roma, C.P. 25000, Monclova, Coahuila | E18: Tienda | F18: 92308 | G18: 1284927.4 | H18: Renovación con incremento | I18: 1413421
B19: 7 | C19: Coahuila | D19: Calle Presidente Cárdenas No. 197 Oriente, Zona Centro, C.P. 25000, Saltillo, Coahuila | E19: Tienda | F19: 89533 | G19: 1246299.4 | H19: Renovación con incremento | I19: 1370930
B20: 8 | C20: Coahuila | D20: Calle Egipto esquina José Sarmiento S/N, Fraccionamiento Virreyes Obrera, C.P. 25220, Saltillo, Coahuila | E20: Archivo de Concentración y Oficina de Servicios Generales | F20: 83000 | G20: 1155360 | H20: Renovación con incremento | I20: 1270896
B21: 9 | C21: Coahuila | D21: Carretera Saltillo-Zacatecas Km. 22, Puente La Encantada, C.P. 25950, Saltillo, Coahuila. | E21: Almacen Delegacional | F21: 684000 | G21: 9521280 | H21: Renovación con incremento | I21: 10473408
B22: 10 | C22: Colima | D22: Avenida de los Maestros No. 324, Colonia Huertas del Sol, C.P. 28050, Colima, Colima | E22: Centro de Capacitación | F22: 19762.3 | G22: 275091.22 | H22: Renovación con incremento | I22: 302601
B23: 11 | C23: Colima | D23: Calle Lic. Gustavo Díaz Ordaz No. 120, Colonia El Moralete, C.P. 28060, Colima, Colima | E23: Tienda | F23: 50000 | G23: 696000 | H23: Renovación con incremento | I23: 765600
B24: 12 | C24: Colima | D24: Calle León Felipe No. 346, Colonia Real Vista Hermosa II, C.P. 28018, Colima, Colima. | E24: Casa Delegado | F24: 20800 | G24: 249600 | H24: Renovación con incremento | I24: 274560
... B169: 157 | C169: Sur D.F. | D169: Calle Yucatán No. 15, Colonia Hipódromo Condesa, Alcaldía Cuauhtémoc, C.P. 06700Ciudad de México, D.F. Sur | E169: Oficinas Administrativas Subdelegacionales No. 6 y Oficinas Delegacionales por 2,500.00 m2 (Diversas áreas) | F169: 1207024.5 | G169: 16801781 | H169: Renovación con incremento | I169: 18481959
E170: Total | F170: =SUM(F13:F169) -> 21388919 | G170: =SUM(G13:G169) -> 2.9209012e+08 | I170: =SUM(I13:I169) -> 321299181

Sheet Calendario_2027
B1: Dirección de Administración
B2: Unidad de Administración
B3: Coordinación de Conservación y Servicios Generales
B4: Coordinación Técnica de Administración de Activos
B5: División de Arrendamiento y Comercialización
B7: Anteproyecto 2027
B8: Permisos de Uso Temporal Revocable y Contratos de Subarrendamiento
N9: millones pesos
B10: Concepto | C10: Enero | D10: Febrero | E10: Marzo | F10: Abril | G10: Mayo | H10: Junio | I10: Julio | J10: Agosto | K10: Septiembre | L10: Octubre | M10: Noviembre | N10: Diciembre | O10: Monto Anual
R11: 1000000
B12: Antetpoyecto de Ingresos 2026 | R12: =+R54 -> 19127784 | S12: =+S54 -> 14075360 | T12: =+T54 -> 12394720 | U12: =+U54 -> 13024960 | V12: =+V54 -> 19747520 | W12: =+W54 -> 37184160 | X12: =+X54 -> 9768720 | Y12: =+Y54 -> 12604800 | ... AC12: =+AC54 -> 20075178 | AD12: =SUM(R12:AC12) -> 1.9539744e+08 | AE12: =SUM(R18:AC53) -> 1.9539744e+08
B13: Ingresos por Permisos de Uso Temporal Revocable y Contratos de Subarrend. | C13: =+R14 -> 4.600909 | D13: =+S14 -> 3.3856222 | E13: =+T14 -> 2.9813688 | F13: =+U14 -> 3.1329638 | G13: =+V14 -> 4.7499774 | H13: =+W14 -> 8.9441065 | I13: =+X14 -> 2.3497229 | J13: =+Y14 -> 3.0319005 | ... N13: =+AC14 -> 4.8287907 | O13: =SUM(C13:N13) -> 47 | R13: =+R12/$AD$12 -> 0.097891681 | S13: =+S12/$AD$12 -> 0.072034515 | T13: =+T12/$AD$12 -> 0.063433379 | U13: =+U12/$AD$12 -> 0.066658805 | V13: =+V12/$AD$12 -> 0.10106335 | W13: =+W12/$AD$12 -> 0.19030014 | X13: =+X12/$AD$12 -> 0.049994104 | Y13: =+Y12/$AD$12 -> 0.064508521 | ... AC13: =+AC12/$AD$12 -> 0.10274023 | AD13: =SUM(R13:AC13) -> 1
R14: =+R13*$AD$14 -> 4.600909 | S14: =+S13*$AD$14 -> 3.3856222 | T14: =+T13*$AD$14 -> 2.9813688 | U14: =+U13*$AD$14 -> 3.1329638 | V14: =+V13*$AD$14 -> 4.7499774 | W14: =+W13*$AD$14 -> 8.9441065 | X14: =+X13*$AD$14 -> 2.3497229 | Y14: =+Y13*$AD$14 -> 3.0319005 | ... AC14: =+AC13*$AD$14 -> 4.8287907 | AD14: =+'Anteproyecto Ingresos 2027'!E14 -> 47 | AE14: =+AD14*1000000 -> 47000000
N15: (pesos)
A16: Uni Oper | C16: ENERO | D16: FEBRERO | E16: MARZO | F16: ABRIL | G16: MAYO | H16: JUNIO | I16: JULIO | J16: AGOSTO | K16: SEPTIEMBRE | L16: OCTUBRE | M16: NOVIEMBRE | N16: DICIEMBRE | O16: Monto Anual | R16: ENERO | S16: FEBRERO | T16: MARZO | U16: ABRIL | V16: MAYO | W16: JUNIO | X16: JULIO | Y16: AGOSTO | Z16: SEPTIEMBRE | AA16: OCTUBRE | AB16: NOVIEMBRE | AC16: DICIEMBRE | AE16: ENERO | AF16: FEBRERO | AG16: MARZO | AH16: ABRIL | AI16: MAYO | AJ16: JUNIO | AK16: JULIO | AL16: AGOSTO | AM16: SEPTIEMBRE | AN16: OCTUBRE | AO16: NOVIEMBRE | AP16: DICIEMBRE | AR16: ENERO | AS16: FEBRERO | AT16: MARZO | AU16: ABRIL | AV16: MAYO | AW16: JUNIO | AX16: JULIO | AY16: AGOSTO | AZ16: SEPTIEMBRE | BA16: OCTUBRE | BB16: NOVIEMBRE | BC16: DICIEMBRE
A18: AGUASCALIENTES | B18: AGUASCALIENTES | C18: =ROUND(AR18,0) -> 0 | D18: =ROUND(AS18,0) -> 0 | E18: =ROUND(AT18,0) -> 69816 | F18: =ROUND(AU18,0) -> 2410 | G18: =ROUND(AV18,0) -> 0 | H18: =ROUND(AW18,0) -> 0 | I18: =ROUND(AX18,0) -> 0 | J18: =ROUND(AY18,0) -> 0 | ... N18: =ROUND(BC18,0) -> 69541 | O18: =SUM(C18:N18) -> 141767 | Q18: AGUASCALIENTES | R18: 0 | S18: 0 | T18: 290252.83 | U18: 10017.665 | V18: 0 | W18: 0 | X18: 0 | Y18: 0 | Z18: 0 | AA18: 0 | AB18: 0 | AC18: 289110 | AE18: =+R18/$AE$12 -> 0 | AF18: =+S18/$AE$12 -> 0 | AG18: =+T18/$AE$12 -> 0.0014854485 | AH18: =+U18/$AE$12 -> 5.1268147e-05 | AI18: =+V18/$AE$12 -> 0 | AJ18: =+W18/$AE$12 -> 0 | AK18: =+X18/$AE$12 -> 0 | AL18: =+Y18/$AE$12 -> 0 | ... AP18: =+AC18/$AE$12 -> 0.0014795997 | AR18: =+AE18*$AE$14 -> 0 | AS18: =+AF18*$AE$14 -> 0 | AT18: =+AG18*$AE$14 -> 69816.078 | AU18: =+AH18*$AE$14 -> 2409.6029 | AV18: =+AI18*$AE$14 -> 0 | AW18: =+AJ18*$AE$14 -> 0 | AX18: =+AK18*$AE$14 -> 0 | AY18: =+AL18*$AE$14 -> 0 | ... BC18: =+AP18*$AE$14 -> 69541.186
A19: BAJA CALIFORNIA | B19: BAJA CALIFORNIA | C19: =ROUND(AR19,0) -> 8551 | D19: =ROUND(AS19,0) -> 13202 | E19: =ROUND(AT19,0) -> 21363 | F19: =ROUND(AU19,0) -> 14385 | G19: =ROUND(AV19,0) -> 31790 | H19: =ROUND(AW19,0) -> 57148 | I19: =ROUND(AX19,0) -> 6619 | J19: =ROUND(AY19,0) -> 6603 | ... N19: =ROUND(BC19,0) -> 2462 | O19: =SUM(C19:N19) -> 419687 | Q19: BAJA CALIFORNIA | R19: 35550.788 | S19: 54886.551 | T19: 88813.421 | U19: 59802.423 | V19: 132165.53 | W19: 237587.88 | X19: 27516.278 | Y19: 27453.254 | Z19: 15289.622 | AA19: 177200.38 | AB19: 878301.41 | AC19: 10236.148 | AE19: =+R19/$AE$12 -> 0.00018194091 | AF19: =+S19/$AE$12 -> 0.00028089698 | AG19: =+T19/$AE$12 -> 0.00045452704 | AH19: =+U19/$AE$12 -> 0.0003060553 | AI19: =+V19/$AE$12 -> 0.00067639335 | AJ19: =+W19/$AE$12 -> 0.0012159211 | AK19: =+X19/$AE$12 -> 0.0001408221 | AL19: =+Y19/$AE$12 -> 0.00014049956 | ... AP19: =+AC19/$AE$12 -> 5.2386295e-05 | AR19: =+AE19*$AE$14 -> 8551.2227 | AS19: =+AF19*$AE$14 -> 13202.158 | AT19: =+AG19*$AE$14 -> 21362.771 | AU19: =+AH19*$AE$14 -> 14384.599 | AV19: =+AI19*$AE$14 -> 31790.487 | AW19: =+AJ19*$AE$14 -> 57148.292 | AX19: =+AK19*$AE$14 -> 6618.6388 | AY19: =+AL19*$AE$14 -> 6603.4793 | ... BC19: =+AP19*$AE$14 -> 2462.1559
A20: BAJA CALIFORNIA SUR | B20: BAJA CALIFORNIA SUR | C20: =ROUND(AR20,0) -> 10372 | D20: =ROUND(AS20,0) -> 8585 | E20: =ROUND(AT20,0) -> 16634 | F20: =ROUND(AU20,0) -> 21217 | G20: =ROUND(AV20,0) -> 54096 | H20: =ROUND(AW20,0) -> 72324 | I20: =ROUND(AX20,0) -> 0 | J20: =ROUND(AY20,0) -> 0 | ... N20: =ROUND(BC20,0) -> 55050 | O20: =SUM(C20:N20) -> 299124 | Q20: BAJA CALIFORNIA SUR | R20: 43121.021 | S20: 35689.441 | T20: 69152.034 | U20: 88209.441 | V20: 224900.09 | W20: 300678.05 | X20: 0 | Y20: 0 | Z20: 131782.13 | AA20: 34771.391 | AB20: 86409.055 | AC20: 228863.25 | AE20: =+R20/$AE$12 -> 0.00022068365 | AF20: =+S20/$AE$12 -> 0.0001826505 | AG20: =+T20/$AE$12 -> 0.0003539045 | AH20: =+U20/$AE$12 -> 0.00045143601 | AI20: =+V20/$AE$12 -> 0.0011509879 | AJ20: =+W20/$AE$12 -> 0.0015388024 | AK20: =+X20/$AE$12 -> 0 | AL20: =+Y20/$AE$12 -> 0 | ... AP20: =+AC20/$AE$12 -> 0.0011712705 | AR20: =+AE20*$AE$14 -> 10372.132 | AS20: =+AF20*$AE$14 -> 8584.5736 | AT20: =+AG20*$AE$14 -> 16633.511 | AU20: =+AH20*$AE$14 -> 21217.492 | AV20: =+AI20*$AE$14 -> 54096.432 | AW20: =+AJ20*$AE$14 -> 72323.712 | AX20: =+AK20*$AE$14 -> 0 | AY20: =+AL20*$AE$14 -> 0 | ... BC20: =+AP20*$AE$14 -> 55049.712
A21: CAMPECHE | B21: CAMPECHE | C21: =ROUND(AR21,0) -> 3747 | D21: =ROUND(AS21,0) -> 7720 | E21: =ROUND(AT21,0) -> 31537 | F21: =ROUND(AU21,0) -> 5547 | G21: =ROUND(AV21,0) -> 13510 | H21: =ROUND(AW21,0) -> 0 | I21: =ROUND(AX21,0) -> 0 | J21: =ROUND(AY21,0) -> 0 | ... N21: =ROUND(BC21,0) -> 6343 | O21: =SUM(C21:N21) -> 121505 | Q21: CAMPECHE | R21: 15576.382 | S21: 32094.972 | T21: 131109.88 | U21: 23062.582 | V21: 56168.039 | W21: 0 | X21: 0 | Y21: 0 | Z21: 0 | AA21: 9486.1624 | AB21: 211276.41 | AC21: 26370.292 | AE21: =+R21/$AE$12 -> 7.9716405e-05 | AF21: =+S21/$AE$12 -> 0.00016425482 | AG21: =+T21/$AE$12 -> 0.00067099076 | AH21: =+U21/$AE$12 -> 0.00011802909 | AI21: =+V21/$AE$12 -> 0.00028745535 | AJ21: =+W21/$AE$12 -> 0 | AK21: =+X21/$AE$12 -> 0 | AL21: =+Y21/$AE$12 -> 0 | ... AP21: =+AC21/$AE$12 -> 0.0001349572 | AR21: =+AE21*$AE$14 -> 3746.671 | AS21: =+AF21*$AE$14 -> 7719.9766 | AT21: =+AG21*$AE$14 -> 31536.566 | AU21: =+AH21*$AE$14 -> 5547.3673 | AV21: =+AI21*$AE$14 -> 13510.401 | AW21: =+AJ21*$AE$14 -> 0 | AX21: =+AK21*$AE$14 -> 0 | AY21: =+AL21*$AE$14 -> 0 | ... BC21: =+AP21*$AE$14 -> 6342.9885
A22: COAHUILA | B22: COAHUILA | C22: =ROUND(AR22,0) -> 6886 | D22: =ROUND(AS22,0) -> 87622 | E22: =ROUND(AT22,0) -> 68940 | F22: =ROUND(AU22,0) -> 21422 | G22: =ROUND(AV22,0) -> 3345 | H22: =ROUND(AW22,0) -> 2666 | I22: =ROUND(AX22,0) -> 450 | J22: =ROUND(AY22,0) -> 62270 | K22: =ROUND(AZ22,0) -> 6658 | M22: =ROUND(BB22,0) -> 6027 | N22: =ROUND(BC22,0) -> 1471 | O22: =SUM(C22:N22) -> 267757 | Q22: COAHUILA | R22: 28627.602 | S22: 364278.72 | T22: 286610.04 | U22: 89059.214 | V22: 13905.195 | W22: 11082.77 | X22: 1869.712 | Y22: 258881.58 | Z22: 27680.141 | AA22: -1566.1464 | AB22: 25056.242 | AC22: 0 | AE22: =+R22/$AE$12 -> 0.0001465096 | AF22: =+S22/$AE$12 -> 0.0018642963 | AG22: =+T22/$AE$12 -> 0.0014668055 | AH22: =+U22/$AE$12 -> 0.00045578496 | AI22: =+V22/$AE$12 -> 7.116365e-05 | AJ22: =+W22/$AE$12 -> 5.6719117e-05 | AK22: =+X22/$AE$12 -> 9.568764e-06 | AL22: =+Y22/$AE$12 -> 0.0013248975 | ... AP22: =+AC22/$AE$12 -> 0 | AR22: =+AE22*$AE$14 -> 6885.9513 | AS22: =+AF22*$AE$14 -> 87621.924 | AT22: =+AG22*$AE$14 -> 68939.859 | AU22: =+AH22*$AE$14 -> 21421.893 | AV22: =+AI22*$AE$14 -> 3344.6916 | AW22: =+AJ22*$AE$14 -> 2665.7985 | AX22: =+AK22*$AE$14 -> 449.73191 | AY22: =+AL22*$AE$14 -> 62270.183 | ... BB22: =+AO22*$AE$14 -> 6026.9129 | BC22: 1471
A23: COLIMA | B23: COLIMA | C23: =ROUND(AR23,0) -> 4885 | D23: =ROUND(AS23,0) -> 5200 | E23: =ROUND(AT23,0) -> 20083 | F23: =ROUND(AU23,0) -> 0 | G23: =ROUND(AV23,0) -> 0 | H23: =ROUND(AW23,0) -> 0 | I23: =ROUND(AX23,0) -> 0 | J23: =ROUND(AY23,0) -> 20327 | ... N23: =ROUND(BC23,0) -> 0 | O23: =SUM(C23:N23) -> 64773 | Q23: COLIMA | R23: 20309.484 | S23: 21617.232 | T23: 83494.195 | U23: 0 | V23: 0 | W23: 0 | X23: 0 | Y23: 84506.781 | Z23: 608.1816 | AA23: 58750.973 | AB23: 0 | AC23: 0 | AE23: =+R23/$AE$12 -> 0.00010393935 | AF23: =+S23/$AE$12 -> 0.00011063211 | AG23: =+T23/$AE$12 -> 0.00042730444 | AH23: =+U23/$AE$12 -> 0 | AI23: =+V23/$AE$12 -> 0 | AJ23: =+W23/$AE$12 -> 0 | AK23: =+X23/$AE$12 -> 0 | AL23: =+Y23/$AE$12 -> 0.00043248663 | ... AP23: =+AC23/$AE$12 -> 0 | AR23: =+AE23*$AE$14 -> 4885.1497 | AS23: =+AF23*$AE$14 -> 5199.7094 | AT23: =+AG23*$AE$14 -> 20083.309 | AU23: =+AH23*$AE$14 -> 0 | AV23: =+AI23*$AE$14 -> 0 | AW23: =+AJ23*$AE$14 -> 0 | AX23: =+AK23*$AE$14 -> 0 | AY23: =+AL23*$AE$14 -> 20326.872 | ... BC23: =+AP23*$AE$14 -> 0
A24: CHIAPAS | B24: CHIAPAS | C24: =ROUND(AR24,0) -> 6284 | D24: =ROUND(AS24,0) -> 0 | E24: =ROUND(AT24,0) -> 0 | F24: =ROUND(AU24,0) -> 0 | G24: =ROUND(AV24,0) -> 0 | H24: =ROUND(AW24,0) -> 0 | I24: =ROUND(AX24,0) -> 0 | J24: =ROUND(AY24,0) -> 253990 | ... N24: =ROUND(BC24,0) -> 0 | O24: =SUM(C24:N24) -> 261911 | Q24: CHIAPAS | R24: 26124.498 | S24: 0 | T24: 0 | U24: 0 | V24: 0 | W24: 0 | X24: 0 | Y24: 1055937.7 | Z24: 6806.592 | AA24: 0 | AB24: 0 | AC24: 0 | AE24: =+R24/$AE$12 -> 0.00013369929 | AF24: =+S24/$AE$12 -> 0 | AG24: =+T24/$AE$12 -> 0 | AH24: =+U24/$AE$12 -> 0 | AI24: =+V24/$AE$12 -> 0 | AJ24: =+W24/$AE$12 -> 0 | AK24: =+X24/$AE$12 -> 0 | AL24: =+Y24/$AE$12 -> 0.0054040508 | ... AP24: =+AC24/$AE$12 -> 0 | AR24: =+AE24*$AE$14 -> 6283.8664 | AS24: =+AF24*$AE$14 -> 0 | AT24: =+AG24*$AE$14 -> 0 | AU24: =+AH24*$AE$14 -> 0 | AV24: =+AI24*$AE$14 -> 0 | AW24: =+AJ24*$AE$14 -> 0 | AX24: =+AK24*$AE$14 -> 0 | AY24: =+AL24*$AE$14 -> 253990.39 | ... BC24: =+AP24*$AE$14 -> 0
A25: CHIHUAHUA | B25: CHIHUAHUA | C25: =ROUND(AR25,0) -> 75142 | D25: =ROUND(AS25,0) -> 41269 | E25: =ROUND(AT25,0) -> 16912 | F25: =ROUND(AU25,0) -> 28915 | G25: =ROUND(AV25,0) -> 42119 | H25: =ROUND(AW25,0) -> 105834 | I25: =ROUND(AX25,0) -> 38727 | J25: =ROUND(AY25,0) -> 19755 | ... N25: =ROUND(BC25,0) -> 8793 | O25: =SUM(C25:N25) -> 402424 | Q25: CHIHUAHUA | R25: 312395.26 | S25: 171572.34 | T25: 70308.524 | U25: 120209.88 | V25: 175106.93 | W25: 439994.7 | X25: 161003.21 | Y25: 82130.776 | Z25: 16575.312 | AA25: 31190.578 | AB25: 55995.774 | AC25: 36557.071 | AE25: =+R25/$AE$12 -> 0.0015987684 | AF25: =+S25/$AE$12 -> 0.00087806849 | AG25: =+T25/$AE$12 -> 0.00035982316 | AH25: =+U25/$AE$12 -> 0.00061520702 | AI25: =+V25/$AE$12 -> 0.00089615775 | AJ25: =+W25/$AE$12 -> 0.0022517936 | AK25: =+X25/$AE$12 -> 0.00082397809 | AL25: =+Y25/$AE$12 -> 0.00042032677 | ... AP25: =+AC25/$AE$12 -> 0.00018709084 | AR25: =+AE25*$AE$14 -> 75142.117 | AS25: =+AF25*$AE$14 -> 41269.219 | AT25: =+AG25*$AE$14 -> 16911.688 | AU25: =+AH25*$AE$14 -> 28914.73 | AV25: =+AI25*$AE$14 -> 42119.414 | AW25: =+AJ25*$AE$14 -> 105834.3 | AX25: =+AK25*$AE$14 -> 38726.97 | AY25: =+AL25*$AE$14 -> 19755.358 | ... BC25: =+AP25*$AE$14 -> 8793.2694
A26: NIVEL CENTRAL | B26: NIVEL CENTRAL | C26: =ROUND(AR26,0) -> 3197533 | D26: =ROUND(AS26,0) -> 1381539 | E26: =ROUND(AT26,0) -> 1398755 | F26: =ROUND(AU26,0) -> 2125723 | G26: =ROUND(AV26,0) -> 3374482 | H26: =ROUND(AW26,0) -> 6178366 | I26: =ROUND(AX26,0) -> 1484591 | J26: =ROUND(AY26,0) -> 1755437 | ... N26: =ROUND(BC26,0) -> 2199496 | O26: =SUM(C26:N26) -> 29842407 | Q26: NIVEL CENTRAL | R26: 13293398 | S26: 5743600.9 | T26: 5815172 | U26: 8837465.8 | V26: 14029047 | W26: 25685891 | X26: 6172028.6 | Y26: 7298041.6 | Z26: 10351085 | AA26: 9828687.3 | AB26: 7868015.9 | AC26: 9144166.9 | AE26: =+R26/$AE$12 -> 0.068032611 | AF26: =+S26/$AE$12 -> 0.029394453 | AG26: =+T26/$AE$12 -> 0.029760737 | AH26: =+U26/$AE$12 -> 0.045228155 | AI26: =+V26/$AE$12 -> 0.071797495 | AJ26: =+W26/$AE$12 -> 0.13145459 | AK26: =+X26/$AE$12 -> 0.031587049 | AL26: =+Y26/$AE$12 -> 0.03734973 | ... AP26: =+AC26/$AE$12 -> 0.046797782 | AR26: =+AE26*$AE$14 -> 3197532.7 | AS26: =+AF26*$AE$14 -> 1381539.3 | AT26: =+AG26*$AE$14 -> 1398754.7 | AU26: =+AH26*$AE$14 -> 2125723.3 | AV26: =+AI26*$AE$14 -> 3374482.3 | AW26: =+AJ26*$AE$14 -> 6178365.9 | AX26: =+AK26*$AE$14 -> 1484591.3 | AY26: =+AL26*$AE$14 -> 1755437.3 | ... BC26: =+AP26*$AE$14 -> 2199495.8
A27: DURANGO | B27: DURANGO | C27: =ROUND(AR27,0) -> 3248 | D27: =ROUND(AS27,0) -> 11589 | E27: =ROUND(AT27,0) -> 12889 | F27: =ROUND(AU27,0) -> 6702 | G27: =ROUND(AV27,0) -> 0 | H27: =ROUND(AW27,0) -> 0 | I27: =ROUND(AX27,0) -> 351 | J27: =ROUND(AY27,0) -> 6399 | ... N27: =ROUND(BC27,0) -> 104259 | O27: =SUM(C27:N27) -> 145437 | Q27: DURANGO | R27: 13503.942 | S27: 48181.848 | T27: 53586.156 | U27: 27862.91 | V27: 0 | W27: 0 | X27: 1459.0056 | Y27: 26601.38 | Z27: 0 | AA27: 0 | AB27: 0 | AC27: 433447.56 | AE27: =+R27/$AE$12 -> 6.9110129e-05 | AF27: =+S27/$AE$12 -> 0.00024658382 | AG27: =+T27/$AE$12 -> 0.00027424185 | AH27: =+U27/$AE$12 -> 0.00014259609 | AI27: =+V27/$AE$12 -> 0 | AJ27: =+W27/$AE$12 -> 0 | AK27: =+X27/$AE$12 -> 7.4668613e-06 | AL27: =+Y27/$AE$12 -> 0.00013613986 | ... AP27: =+AC27/$AE$12 -> 0.0022182868 | AR27: =+AE27*$AE$14 -> 3248.1761 | AS27: =+AF27*$AE$14 -> 11589.44 | AT27: =+AG27*$AE$14 -> 12889.367 | AU27: =+AH27*$AE$14 -> 6702.016 | AV27: =+AI27*$AE$14 -> 0 | AW27: =+AJ27*$AE$14 -> 0 | AX27: =+AK27*$AE$14 -> 350.94248 | AY27: =+AL27*$AE$14 -> 6398.5733 | ... BC27: =+AP27*$AE$14 -> 104259.48
A28: GUANAJUATO | B28: GUANAJUATO | C28: =ROUND(AR28,0) -> 4851 | D28: =ROUND(AS28,0) -> 5973 | E28: =ROUND(AT28,0) -> 13523 | F28: =ROUND(AU28,0) -> 78581 | G28: =ROUND(AV28,0) -> 14860 | H28: =ROUND(AW28,0) -> 325459 | I28: =ROUND(AX28,0) -> 0 | J28: =ROUND(AY28,0) -> 10510 | ... N28: =ROUND(BC28,0) -> 65278 | O28: =SUM(C28:N28) -> 537763 | Q28: GUANAJUATO | R28: 20167.68 | S28: 24832.506 | T28: 56221.61 | U28: 326690.16 | V28: 61777.175 | W28: 1353062.3 | X28: 0 | Y28: 43694.539 | Z28: 34914.246 | AA28: 20092.051 | AB28: 22853.553 | AC28: 271384.5 | AE28: =+R28/$AE$12 -> 0.00010321363 | AF28: =+S28/$AE$12 -> 0.00012708716 | AG28: =+T28/$AE$12 -> 0.00028772951 | AH28: =+U28/$AE$12 -> 0.0016719265 | AI28: =+V28/$AE$12 -> 0.00031616164 | AJ28: =+W28/$AE$12 -> 0.0069246672 | AK28: =+X28/$AE$12 -> 0 | AL28: =+Y28/$AE$12 -> 0.00022361879 | ... AP28: =+AC28/$AE$12 -> 0.0013888846 | AR28: =+AE28*$AE$14 -> 4851.0408 | AS28: =+AF28*$AE$14 -> 5973.0966 | AT28: =+AG28*$AE$14 -> 13523.287 | AU28: =+AH28*$AE$14 -> 78580.544 | AV28: =+AI28*$AE$14 -> 14859.597 | AW28: =+AJ28*$AE$14 -> 325459.36 | AX28: =+AK28*$AE$14 -> 0 | AY28: =+AL28*$AE$14 -> 10510.083 | ... BC28: =+AP28*$AE$14 -> 65277.576
A29: GUERRERO | B29: GUERRERO | C29: =ROUND(AR29,0) -> 171665 | D29: =ROUND(AS29,0) -> 16587 | E29: =ROUND(AT29,0) -> 74288 | F29: =ROUND(AU29,0) -> 14301 | G29: =ROUND(AV29,0) -> 0 | H29: =ROUND(AW29,0) -> 0 | I29: =ROUND(AX29,0) -> 0 | J29: =ROUND(AY29,0) -> 0 | ... N29: =ROUND(BC29,0) -> 167914 | O29: =SUM(C29:N29) -> 507711 | Q29: GUERRERO | R29: 713679.57 | S29: 68958.76 | T29: 308843.86 | U29: 59456.842 | V29: 0 | W29: 0 | X29: 0 | Y29: 0 | Z29: 251940.54 | AA29: 9790.7784 | AB29: 0 | AC29: 698086.39 | AE29: =+R29/$AE$12 -> 0.003652451 | AF29: =+S29/$AE$12 -> 0.00035291537 | AG29: =+T29/$AE$12 -> 0.0015805932 | AH29: =+U29/$AE$12 -> 0.00030428669 | AI29: =+V29/$AE$12 -> 0 | AJ29: =+W29/$AE$12 -> 0 | AK29: =+X29/$AE$12 -> 0 | AL29: =+Y29/$AE$12 -> 0 | ... AP29: =+AC29/$AE$12 -> 0.0035726486 | AR29: =+AE29*$AE$14 -> 171665.2 | AS29: =+AF29*$AE$14 -> 16587.022 | AT29: =+AG29*$AE$14 -> 74287.879 | AU29: =+AH29*$AE$14 -> 14301.475 | AV29: =+AI29*$AE$14 -> 0 | AW29: =+AJ29*$AE$14 -> 0 | AX29: =+AK29*$AE$14 -> 0 | AY29: =+AL29*$AE$14 -> 0 | ... BC29: =+AP29*$AE$14 -> 167914.48
A30: HIDALGO | B30: HIDALGO | C30: =ROUND(AR30,0) -> 1262 | D30: =ROUND(AS30,0) -> 22527 | E30: =ROUND(AT30,0) -> 0 | F30: =ROUND(AU30,0) -> 1055 | G30: =ROUND(AV30,0) -> 0 | H30: =ROUND(AW30,0) -> 0 | I30: =ROUND(AX30,0) -> 0 | J30: =ROUND(AY30,0) -> 0 | ... N30: =ROUND(BC30,0) -> 1508 | O30: =SUM(C30:N30) -> 26352 | Q30: HIDALGO | R30: 5245.6976 | S30: 93653.664 | T30: 0 | U30: 4385.42 | V30: 0 | W30: 0 | X30: 0 | Y30: 0 | Z30: 0 | AA30: 0 | AB30: 0 | AC30: 6268.7872 | AE30: =+R30/$AE$12 -> 2.6846296e-05 | AF30: =+S30/$AE$12 -> 0.00047929831 | AG30: =+T30/$AE$12 -> 0 | AH30: =+U30/$AE$12 -> 2.244359e-05 | AI30: =+V30/$AE$12 -> 0 | AJ30: =+W30/$AE$12 -> 0 | AK30: =+X30/$AE$12 -> 0 | AL30: =+Y30/$AE$12 -> 0 | ... AP30: =+AC30/$AE$12 -> 3.2082238e-05 | AR30: =+AE30*$AE$14 -> 1261.7759 | AS30: =+AF30*$AE$14 -> 22527.021 | AT30: =+AG30*$AE$14 -> 0 | AU30: =+AH30*$AE$14 -> 1054.8487 | AV30: =+AI30*$AE$14 -> 0 | AW30: =+AJ30*$AE$14 -> 0 | AX30: =+AK30*$AE$14 -> 0 | AY30: =+AL30*$AE$14 -> 0 | ... BC30: =+AP30*$AE$14 -> 1507.8652
A31: JALISCO | B31: JALISCO | C31: =ROUND(AR31,0) -> 83390 | D31: =ROUND(AS31,0) -> 41089 | E31: =ROUND(AT31,0) -> 24805 | F31: =ROUND(AU31,0) -> 88139 | G31: =ROUND(AV31,0) -> 344771 | H31: =ROUND(AW31,0) -> 294245 | I31: =ROUND(AX31,0) -> 181263 | J31: =ROUND(AY31,0) -> 40133 | ... N31: =ROUND(BC31,0) -> 41398 | O31: =SUM(C31:N31) -> 1254964 | Q31: JALISCO | R31: 346685.57 | S31: 170821.3 | T31: 103123.02 | U31: 366429.94 | V31: 1433346.4 | W31: 1223293.7 | X31: 753582.17 | Y31: 166849.74 | Z31: 174240.35 | AA31: 106335.14 | AB31: 200564.43 | AC31: 172108.04 | AE31: =+R31/$AE$12 -> 0.0017742585 | AF31: =+S31/$AE$12 -> 0.00087422485 | AG31: =+T31/$AE$12 -> 0.00052776034 | AH31: =+U31/$AE$12 -> 0.0018753057 | AI31: =+V31/$AE$12 -> 0.0073355435 | AJ31: =+W31/$AE$12 -> 0.0062605412 | AK31: =+X31/$AE$12 -> 0.0038566634 | AL31: =+Y31/$AE$12 -> 0.00085389929 | ... AP31: =+AC31/$AE$12 -> 0.0008808101 | AR31: =+AE31*$AE$14 -> 83390.149 | AS31: =+AF31*$AE$14 -> 41088.568 | AT31: =+AG31*$AE$14 -> 24804.736 | AU31: =+AH31*$AE$14 -> 88139.369 | AV31: =+AI31*$AE$14 -> 344770.54 | AW31: =+AJ31*$AE$14 -> 294245.44 | AX31: =+AK31*$AE$14 -> 181263.18 | AY31: =+AL31*$AE$14 -> 40133.267 | ... BC31: =+AP31*$AE$14 -> 41398.075
A32: EDO. MEX. OTE. | B32: EDO. MEX. OTE. | C32: =ROUND(AR32,0) -> 562073 | D32: =ROUND(AS32,0) -> 0 | E32: =ROUND(AT32,0) -> 50952 | F32: =ROUND(AU32,0) -> 59296 | G32: =ROUND(AV32,0) -> 40336 | H32: =ROUND(AW32,0) -> 114958 | I32: =ROUND(AX32,0) -> 31076 | J32: =ROUND(AY32,0) -> 11953 | ... N32: =ROUND(BC32,0) -> 0 | O32: =SUM(C32:N32) -> 871458 | Q32: EDO. MEX. OTE. | R32: 2336759.8 | S32: 0 | T32: 211828.92 | U32: 246516.28 | V32: 167691.11 | W32: 477925.7 | X32: 129197.1 | Y32: 49693.374 | Z32: 1828.7464 | AA32: 1555.6424 | AB32: 0 | AC32: 0 | AE32: =+R32/$AE$12 -> 0.011959009 | AF32: =+S32/$AE$12 -> 0 | AG32: =+T32/$AE$12 -> 0.0010840926 | AH32: =+U32/$AE$12 -> 0.0012616147 | AI32: =+V32/$AE$12 -> 0.00085820524 | AJ32: =+W32/$AE$12 -> 0.0024459158 | AK32: =+X32/$AE$12 -> 0.00066120159 | AL32: =+Y32/$AE$12 -> 0.00025431947 | ... AP32: =+AC32/$AE$12 -> 0 | AR32: =+AE32*$AE$14 -> 562073.42 | AS32: =+AF32*$AE$14 -> 0 | AT32: =+AG32*$AE$14 -> 50952.351 | AU32: =+AH32*$AE$14 -> 59295.889 | AV32: =+AI32*$AE$14 -> 40335.646 | AW32: =+AJ32*$AE$14 -> 114958.04 | AX32: =+AK32*$AE$14 -> 31076.475 | AY32: =+AL32*$AE$14 -> 11953.015 | ... BC32: =+AP32*$AE$14 -> 0
A33: EDO. MEX. PTE. | B33: EDO. MEX. PTE. | C33: =ROUND(AR33,0) -> 8075 | D33: =ROUND(AS33,0) -> 8149 | E33: =ROUND(AT33,0) -> 110218 | F33: =ROUND(AU33,0) -> 14954 | G33: =ROUND(AV33,0) -> 0 | H33: =ROUND(AW33,0) -> 0 | I33: =ROUND(AX33,0) -> 0 | J33: =ROUND(AY33,0) -> 80053 | ... N33: =ROUND(BC33,0) -> 212596 | O33: =SUM(C33:N33) -> 446910 | Q33: EDO. MEX. PTE. | R33: 33569.734 | S33: 33880.652 | T33: 458220.19 | U33: 62170.025 | V33: 0 | W33: 0 | X33: 0 | Y33: 332810.84 | Z33: 38361.658 | AA33: 3192.1656 | AB33: 11931.494 | AC33: 883843.32 | AE33: =+R33/$AE$12 -> 0.00017180232 | AF33: =+S33/$AE$12 -> 0.00017339353 | AG33: =+T33/$AE$12 -> 0.0023450675 | AH33: =+U33/$AE$12 -> 0.00031817215 | AI33: =+V33/$AE$12 -> 0 | AJ33: =+W33/$AE$12 -> 0 | AK33: =+X33/$AE$12 -> 0 | AL33: =+Y33/$AE$12 -> 0.0017032507 | ... AP33: =+AC33/$AE$12 -> 0.0045233106 | AR33: =+AE33*$AE$14 -> 8074.709 | AS33: =+AF33*$AE$14 -> 8149.4959 | AT33: =+AG33*$AE$14 -> 110218.17 | AU33: =+AH33*$AE$14 -> 14954.091 | AV33: =+AI33*$AE$14 -> 0 | AW33: =+AJ33*$AE$14 -> 0 | AX33: =+AK33*$AE$14 -> 0 | AY33: =+AL33*$AE$14 -> 80052.785 | ... BC33: =+AP33*$AE$14 -> 212595.6
A34: MICHOACAN | B34: MICHOACAN | C34: =ROUND(AR34,0) -> 10048 | D34: =ROUND(AS34,0) -> 11071 | E34: =ROUND(AT34,0) -> 8509 | F34: =ROUND(AU34,0) -> 11316 | G34: =ROUND(AV34,0) -> 6061 | H34: =ROUND(AW34,0) -> 26698 | I34: =ROUND(AX34,0) -> 6388 | J34: =ROUND(AY34,0) -> 17198 | ... N34: =ROUND(BC34,0) -> 19522 | O34: =SUM(C34:N34) -> 151065 | Q34: MICHOACAN | R34: 41772.307 | S34: 46027.478 | T34: 35374.321 | U34: 47044.265 | V34: 25196.995 | W34: 110992.62 | X34: 26559.364 | Y34: 71497.577 | Z34: 12182.539 | AA34: 120549.16 | AB34: 9680.4864 | AC34: 81160.206 | AE34: =+R34/$AE$12 -> 0.00021378124 | AF34: =+S34/$AE$12 -> 0.00023555824 | AG34: =+T34/$AE$12 -> 0.00018103779 | AH34: =+U34/$AE$12 -> 0.00024076193 | AI34: =+V34/$AE$12 -> 0.00012895253 | AJ34: =+W34/$AE$12 -> 0.00056803516 | AK34: =+X34/$AE$12 -> 0.00013592483 | AL34: =+Y34/$AE$12 -> 0.00036590846 | ... AP34: =+AC34/$AE$12 -> 0.00041535962 | AR34: =+AE34*$AE$14 -> 10047.718 | AS34: =+AF34*$AE$14 -> 11071.237 | AT34: =+AG34*$AE$14 -> 8508.7761 | AU34: =+AH34*$AE$14 -> 11315.811 | AV34: =+AI34*$AE$14 -> 6060.7691 | AW34: =+AJ34*$AE$14 -> 26697.652 | AX34: =+AK34*$AE$14 -> 6388.467 | AY34: =+AL34*$AE$14 -> 17197.698 | ... BC34: =+AP34*$AE$14 -> 19521.902
... A53: SUR, D. F. | B53: SUR, D. F. | C53: =ROUND(AR53,0) -> 71151 | D53: =ROUND(AS53,0) -> 998684 | E53: =ROUND(AT53,0) -> 6552 | F53: =ROUND(AU53,0) -> 15028 | G53: =ROUND(AV53,0) -> 0 | H53: =ROUND(AW53,0) -> 81735 | I53: =ROUND(AX53,0) -> 0 | J53: =ROUND(AY53,0) -> 331362 | ... N53: =ROUND(BC53,0) -> 71816 | O53: =SUM(C53:N53) -> 1975841 | Q53: SUR, D. F. | R53: 295804.19 | S53: 4151920.3 | T53: 27238.973 | U53: 62477.792 | V53: 0 | W53: 339804.4 | X53: 0 | Y53: 1377603.8 | Z53: 1450126.6 | AA53: 9194.1512 | AB53: 201607.47 | AC53: 298565.7 | AE53: =+R53/$AE$12 -> 0.0015138591 | AF53: =+S53/$AE$12 -> 0.021248591 | AG53: =+T53/$AE$12 -> 0.00013940291 | AH53: =+U53/$AE$12 -> 0.00031974724 | AI53: =+V53/$AE$12 -> 0 | AJ53: =+W53/$AE$12 -> 0.0017390422 | AK53: =+X53/$AE$12 -> 0 | AL53: =+Y53/$AE$12 -> 0.0070502653 | ... AP53: =+AC53/$AE$12 -> 0.0015279918 | AR53: =+AE53*$AE$14 -> 71151.378 | AS53: =+AF53*$AE$14 -> 998683.77 | AT53: =+AG53*$AE$14 -> 6551.937 | AU53: =+AH53*$AE$14 -> 15028.12 | AV53: =+AI53*$AE$14 -> 0 | AW53: =+AJ53*$AE$14 -> 81734.984 | AX53: =+AK53*$AE$14 -> 0 | AY53: =+AL53*$AE$14 -> 331362.47 | ... BC53: =+AP53*$AE$14 -> 71815.616
A54: Total | C54: =SUM(C18:C53) -> 4600908 | D54: =SUM(D18:D53) -> 3385620 | E54: =SUM(E18:E53) -> 2981371 | F54: =SUM(F18:F53) -> 3132962 | G54: =SUM(G18:G53) -> 4749977 | H54: =SUM(H18:H53) -> 8944105 | I54: =SUM(I18:I53) -> 2349723 | J54: =SUM(J18:J53) -> 3031900 | ... O54: =SUM(O18:O53) -> 47001840 | R54: =SUM(R18:R53) -> 19127784 | S54: =SUM(S18:S53) -> 14075360 | T54: =SUM(T18:T53) -> 12394720 | U54: =SUM(U18:U53) -> 13024960 | V54: =SUM(V18:V53) -> 19747520 | W54: =SUM(W18:W53) -> 37184160 | X54: =SUM(X18:X53) -> 9768720 | Y54: =SUM(Y18:Y53) -> 12604800 | ... AC54: =SUM(AC18:AC53) -> 20075178 | BC54: =SUM(AR18:BC53) -> 47001471

Sheet Antepy Ingresos 2027 OOAD
B2: Dirección de Administración
B3: Unidad de Administración
B4: Coordinación de Conservación y Servicios Generales
B5: Coordinación Técnica de Administración de Activos
B6: División de Arrendamiento y Comercialización
B8: Progrma de Arrendaiento IMSS Arrendatario 2027
J9: pesos
B10: OOAD | C10: Expectativa de Cierre 2026 | E10: Anteproyecto 2027 | G10: Presupuesto Ajustado 2027 | I10: Proyecciones 2027 Excluidas
C11: No. Arrendamientos | D11: Monto | E11: No. Arrendamientos | F11: Monto | G11: No. Arrendamientos | H11: Monto | I11: No. Arrendamientos | J11: Monto
B12: Aguascalientes | C12: 6 | D12: 13538976 | E12: 6 | F12: 15074810 | G12: 6 | H12: 17950237
B13: Baja California | C13: 1 | D13: 4593600 | E13: 1 | F13: 4593600 | G13: 1 | H13: 4593600
B14: Baja California Sur | C14: 5 | D14: 5760811.5 | E14: 5 | F14: 5760812 | G14: 5 | H14: 5760812
B15: Campeche | C15: 1 | D15: 166920 | E15: 1 | F15: 166920 | G15: 1 | H15: 166920
B16: Chiapas | C16: 10 | D16: 3534275.1 | E16: 13 | F16: 14129090 | G16: 11 | H16: 5506208.5 | I16: 2 | J16: 8556000
B17: Chihuahua | C17: 15 | D17: 6820744.9 | E17: 16 | F17: 14632123 | G17: 16 | H17: 14124225
B18: Coahuila | C18: 7 | D18: 23095586 | E18: 7 | F18: 25405147 | G18: 7 | H18: 25405147
B19: Colima | C19: 5 | D19: 2598988 | E19: 5 | F19: 2868643 | G19: 5 | H19: 3444681
B20: Durango | C20: 12 | D20: 19166127 | E20: 13 | F20: 22892342 | G20: 12 | H20: 21082742 | I20: 1 | J20: 1809600
B21: Estado de México Oriente | C21: 1 | D21: 23056542 | E21: 1 | F21: 25362196 | G21: 1 | H21: 25362196
B22: Estado de México Poniente | C22: 9 | D22: 18714396 | E22: 11 | F22: 42203597 | G22: 9 | H22: 20627597 | I22: 2 | J22: 21576000
B23: Guanajuato | C23: 10 | D23: 8159977.2 | E23: 11 | F23: 9950378 | G23: 11 | H23: 9950378
B24: Guerrero | C24: 5 | D24: 611115.84 | E24: 5 | F24: 675710 | G24: 5 | H24: 665270
B25: Hidalgo | C25: 3 | D25: 18664982 | E25: 4 | F25: 28779938 | G25: 4 | H25: 28746404
B26: Jalisco | C26: 31 | D26: 34159577 | E26: 32 | F26: 50576766 | G26: 31 | H26: 37318424 | I26: 1 | J26: 13224000
B27: Michoacán | C27: 7 | D27: 4809848.2 | E27: 10 | F27: 8923212 | G27: 7 | H27: 5129292 | I27: 3 | J27: 3793920
B28: Morelos | C28: 2 | D28: 238270.59 | E28: 2 | F28: 262098 | G28: 2 | H28: 262098
B29: Nayarit | C29: 2 | D29: 1065599.9 | E29: 2 | F29: 1210440 | G29: 2 | H29: 1210440
B30: Nivel Central | C30: 7 | D30: 140653168 | E30: 9 | F30: 2.0237425e+08 | G30: 8 | H30: 1.7892752e+08 | I30: 1 | J30: 23446736
B31: Norte D.F. | C31: 1 | D31: 2254250.2 | E31: 1 | F31: 2479676 | G31: 1 | H31: 2479676
B32: Nuevo León | C32: 4 | D32: 2724237.5 | E32: 5 | F32: 7021767 | G32: 5 | H32: 7021767
B33: Oaxaca | C33: 17 | D33: 14246461 | E33: 20 | F33: 22541492 | G33: 17 | H33: 15532244 | I33: 3 | J33: 6792960
B34: Puebla | C34: 9 | D34: 4308348.2 | E34: 14 | F34: 7790520 | G34: 9 | H34: 4617882.1 | I34: 5 | J34: 2992800
B35: Querétaro | C35: 6 | D35: 7961072.4 | E35: 6 | F35: 8007920 | G35: 6 | H35: 7961073.4
B36: Quintana Roo | C36: 4 | D36: 7469033.5 | E36: 4 | F36: 8348178 | G36: 4 | H36: 8348178
B37: San Luis Potosí | C37: 4 | D37: 803089.9 | E37: 5 | F37: 9892424 | G37: 4 | H37: 844424 | I37: 1 | J37: 9048000
B38: Sinaloa | C38: 14 | D38: 13218079 | E38: 14 | F38: 14334950 | G38: 14 | H38: 14073950
B39: Sonora | C39: 17 | D39: 16352575 | E39: 17 | F39: 18061666 | G39: 17 | H39: 16923562
B40: Sur D.F. | C40: 3 | D40: 94228623 | E40: 3 | F40: 95908802 | G40: 3 | H40: 95908802
B41: Tabasco | C41: 1 | D41: 180000 | E41: 1 | F41: 198000 | G41: 1 | H41: 198000
B42: Tamaulipas | C42: 10 | D42: 4635441.8 | E42: 12 | F42: 5556871 | G42: 10 | H42: 4933791.5 | I42: 2 | J42: 612480
...

Sheet Hoja2

Sheet Hoja3
