Workbook
Name ANUAL: #REF!
Name ANUAL: #REF!
Name ANUAL: #REF!
Name B_2010_original_sg_a: [1]ORIGINAL_SG!$A$10:$E$104
Name BASE: #REF!
Name BASE: #REF!
Name BASE: #REF!
Name BUOAP: '[2]UO AP'!$A$1:$D$64
Name CONSTANTES: #REF!
Name CONSTANTES: #REF!
Name CONSTANTES: #REF!
Name CORRIENTES: #REF!
Name CORRIENTES: #REF!
Name CORRIENTES: #REF!
Name Daños_CH_2011: '[3]Ptto Pòlizas CH y Mandos'!$O$45
Name Daños_CH_2011: '[4]Ptto Pòlizas CH y Mandos'!$O$45
Name hidden1: [5]hidden1!$A$1:$A$26
Name hidden2: [5]hidden2!$A$1:$A$41
Name hidden4: [5]hidden4!$A$1:$A$2
Name hidden6: [5]hidden6!$A$1:$A$3
Name Inflaciòn_2011: '[3]Estimación Ptto 2011'!$C$83
Name Inflaciòn_2011: '[4]Estimación Ptto 2011'!$C$83
Name inicial: #REF!
Name inicial: #REF!
Name inicial: #REF!
Name Monto_Severidad_EE: '[3]Severidad EE'!$I$8
Name Monto_Severidad_EE: '[4]Severidad EE'!$I$8
Name Monto_Severidad_II: '[3]Severidad II'!$I$11
Name Monto_Severidad_II: '[4]Severidad II'!$I$11
Name Monto_Severidad_RC: '[3]Severidad RC'!$I$8
Name Monto_Severidad_RC: '[4]Severidad RC'!$I$8
Name RESUMEN: #REF!
Name RESUMEN: #REF!
Name RESUMEN: #REF!
Name Tasa_IVA_2010: [3]Patrimonial!$B$114
Name Tasa_IVA_2010: [4]Patrimonial!$B$114
Name TC_2009: '[3]Estimación Ptto 2011'!$C$85
Name TC_2009: '[4]Estimación Ptto 2011'!$C$85
Name TC_2011: '[3]Estimación Ptto 2011'!$C$84
Name TC_2011: '[4]Estimación Ptto 2011'!$C$84
Name Vida_CH_2011: '[3]Ptto Pòlizas CH y Mandos'!$E$45
Name Vida_CH_2011: '[4]Ptto Pòlizas CH y Mandos'!$E$45
Name Vida_Funcionarios_2011: '[3]Ptto Pòlizas CH y Mandos'!$AG$47
Name Vida_Funcionarios_2011: '[4]Ptto Pòlizas CH y Mandos'!$AG$47

Sheet CANCELACION
A3: No. | B3: OOAD | C3: Dirección | D3: Servicio | E3: Importe
A4: 1 | B4: Chiapas | C4: 2a. Calle Sur Poniente esquina Calle Privada No. 190, Fraccionamiento Las Orquídeas, C.P. 30068, Comitán de Domínguez, Chiapas. | D4: Oficinas Administrativas | E4: 73080
A5: =+A4+1 -> 2 | B5: Jalisco | C5: Calle Guanajuato N°. 92, Colonia Centro, C.P. 49541, Valle de Juárez, Jalisco | D5: Unidad de Atención Primaria a La Salud N°. 120 | E5: 38976
A6: =+A5+1 -> 3 | B6: Jalisco | C6: Calle 5 de Mayo S/N, Colonia Centro, C.P. 47690, San Diego de Alejandría, Jalisco | D6: Unidad de Atención Primaria a La Salud N°. 131 | E6: 10960.608
A7: =+A6+1 -> 4 | B7: Jalisco | C7: Calle Allende Nº. 36, Colonia Centro, C.P. 47250, Villa Hidalgo, Jalisco | D7: Unidad de Atención Primaria a la Salud N°. 135 | E7: 31278.24
A8: =+A7+1 -> 5 | B8: Jalisco | C8: Calle Hidalgo N°. 195, Colonia Centro, C.P. 48900, Autlán de Navarro, Jalisco | D8: Bodega de Abastecimiento del Hospital General de Zona Nº. 20 y Bodega de Bienes Embargados | E8: 60482.4
A9: =+A8+1 -> 6 | B9: Sinaloa | C9: Francisco Zarco No. 117 Oriente, Colonia Miguel Alemán. | D9: Oficinas Administrativas EMS | E9: 189377.56
A10: =+A9+1 -> 7 | B10: Tamaulipas | C10: Calle Diaz Mirón Nº. 604, Zona Centro, C.P. 89000, Tampico, Tamaulipas | D10: Bodega de Bienes Embargados | E10: 348035.64
D11: Total | E11: =SUM(E4:E10) -> 752190.45

Sheet Anteproyecto 2027
C1: INSTITUTO MEXICANO DEL SEGURO SOCIAL | E1: Figura | F1: Cierre 2026 | G1: 2027 | I1: Variación | L1: =IF(#REF!-#REF!=I274,"ok","error") -> #REF!
C2: COORDINACIÓN DE SERVICIOS GENERALES | F2: Importe | G2: No. Inmuebles | H2: Importe
C3: COORDINACIÓN TÉCNICA DE ADMINISTRACIÓN DE ACTIVOS | E3: =+M11 -> Sustitución | F3: =+O273 -> 39180046 | G3: =+M273 -> 47 | H3: =+N273 -> 45057070 | I3: =+H3-F3 -> 5877024.3
C4: DIVISIÓN DE ARRENDAMIENTO Y COMERCIALIZACIÓN | E4: =+P11 -> Renovación con incremento | F4: =+R273 -> 2.9209012e+08 | G4: =+P273 -> 157 | H4: =+Q273 -> 321299181 | I4: =+H4-F4 -> 29209056
E5: =+S11 -> Renovación sin incremento | F5: =+T273 -> 194144539 | G5: =+S273 -> 50 | H5: =+T273 -> 194144539 | I5: =+F5-H5 -> 0
C6: PADRÓN DE ARRENDAMIENTO INMOBILIARIO 2027 | E6: =+U11 -> Cancelación | F6: =+W273 -> 752190.45 | G6: =+U273 -> 7 | H6: =+V273 -> 752193 | I6: =+F6-H6 -> -2.5536
E7: =+Nuevos!C5 -> Nuevos Arrendamientos | G7: =+Nuevos!B39 -> 32 | H7: =+Nuevos!$G$40 -> 1.5145704e+08 | I7: =+H7 -> 1.5145704e+08
B8: INMUEBLES ARRENDADOS 2027 | E8: Total | F8: =SUM(F3:F7) -> 5.261669e+08 | G8: =SUM(G3:G7) -> 293 | H8: =SUM(H3:H7) -> 7.1271003e+08 | I8: =SUM(I3:I7) -> 1.8654312e+08
B11: No. | C11: Organo de Operación Administrativa Desconcentrada | D11: Dirección del inmueble arrendado | E11: Servicio | F11: Monto de renta mensual actual sin IVA | G11: Monto anual con IVA | H11: Figura Anteproyecto 2027 | I11: Importe 2027 | J11: Monto por OOAD | K11: Nuevos | L11: Total | M11: Sustitución | P11: Renovación con incremento | S11: Renovación sin incremento | U11: Cancelación
B12: 1 | C12: Aguascalientes | D12: Boulevard a Zacatecas No. 701, Fraccionamiento Las Hadas, C.P. 20140, Aguascalientes | E12: Oficinas Administrativas de la Subdelegación Metropolitana Norte | F12: 149599.14 | G12: =+F12*12*1.16 -> 2082420 | H12: Sustitución | I12: =ROUNDUP(+G12*1.15,0) -> 2394784 | M12: =IF(H12="sustitución",1,0) -> 1 | N12: =IF($H12="sustitución",$I12,0) -> 2394784 | O12: =IF($H12="sustitución",$G12,0) -> 2082420 | P12: =IF(H12="Renovación con incremento",1,0) -> 0 | Q12: =IF($H12="Renovación con incremento",$I12,0) -> 0 | R12: =IF($H12="Renovación con incremento",$G12,0) -> 0 | S12: =IF(H12="Renovación sin incremento",1,0) -> 0 | T12: =IF($H12="Renovación sin incremento",$I12,0) -> 0 | U12: =IF($H12="Cancelación",1,0) -> 0 | V12: =IF($H12="Cancelación",$I12,0) -> 0 | W12: =IF($H12="Cancelación",$G12,0) -> 0 | Y12: 5602800 | Z12: 1
B13: =+B12+1 -> 2 | C13: Aguascalientes | D13: Calle Ecuador No. 205, Planta Baja, Colonia Las Americas, C.P. 20230, Aguascalientes | E13: Oficinas Administrativas de la Subdelegación Metropolitana Sur | F13: 94630.5 | G13: =+F13*12*1.16 -> 1317256.6 | H13: Sustitución | I13: =ROUNDUP(+G13*1.15,0) -> 1514846 | M13: =IF(H13="sustitución",1,0) -> 1 | N13: =IF($H13="sustitución",$I13,0) -> 1514846 | O13: =IF($H13="sustitución",$G13,0) -> 1317256.6 | P13: =IF(H13="Renovación con incremento",1,0) -> 0 | Q13: =IF($H13="Renovación con incremento",$I13,0) -> 0 | R13: =IF($H13="Renovación con incremento",$G13,0) -> 0 | S13: =IF(H13="Renovación sin incremento",1,0) -> 0 | T13: =IF($H13="Renovación sin incremento",$I13,0) -> 0 | U13: =IF($H13="Cancelación",1,0) -> 0 | V13: =IF($H13="Cancelación",$I13,0) -> 0 | W13: =IF($H13="Cancelación",$G13,0) -> 0
B14: =+B13+1 -> 3 | C14: Aguascalientes | D14: Calle Ecuador No. 205, Planta Alta, Colonia Las Americas, C.P. 20230, Aguascalientes | E14: Centro de Capacitación | F14: 58610 | G14: =+F14*12*1.16 -> 815851.2 | H14: Renovación con incremento | I14: =ROUNDUP(G14*1.1,0) -> 897437 | M14: =IF(H14="sustitución",1,0) -> 0 | N14: =IF($H14="sustitución",$I14,0) -> 0 | O14: =IF($H14="sustitución",$G14,0) -> 0 | P14: =IF(H14="Renovación con incremento",1,0) -> 1 | Q14: =IF($H14="Renovación con incremento",$I14,0) -> 897437 | R14: =IF($H14="Renovación con incremento",$G14,0) -> 815851.2 | S14: =IF(H14="Renovación sin incremento",1,0) -> 0 | T14: =IF($H14="Renovación sin incremento",$I14,0) -> 0 | U14: =IF($H14="Cancelación",1,0) -> 0 | V14: =IF($H14="Cancelación",$I14,0) -> 0 | W14: =IF($H14="Cancelación",$G14,0) -> 0
B15: =+B14+1 -> 4 | C15: Aguascalientes | D15: Calle Julio Díaz Torre N° 105, Lote 3, Manzana 28 Interior D y E, Fraccionamiento Ciudad Industrial, C.P. 20290, Aguascalientes, Aguascalientes. | E15: Coordinación de Abastecimiento y Equipamiento, Almacén Delegacional y Archivo de Concentración | F15: 581389.25 | G15: =+F15*12*1.16 -> 8092938.4 | H15: Renovación con incremento | I15: =ROUNDUP(G15*1.1,0) -> 8902233 | M15: =IF(H15="sustitución",1,0) -> 0 | N15: =IF($H15="sustitución",$I15,0) -> 0 | O15: =IF($H15="sustitución",$G15,0) -> 0 | P15: =IF(H15="Renovación con incremento",1,0) -> 1 | Q15: =IF($H15="Renovación con incremento",$I15,0) -> 8902233 | R15: =IF($H15="Renovación con incremento",$G15,0) -> 8092938.4 | S15: =IF(H15="Renovación sin incremento",1,0) -> 0 | T15: =IF($H15="Renovación sin incremento",$I15,0) -> 0 | U15: =IF($H15="Cancelación",1,0) -> 0 | V15: =IF($H15="Cancelación",$I15,0) -> 0 | W15: =IF($H15="Cancelación",$G15,0) -> 0
B16: =+B15+1 -> 5 | C16: Aguascalientes | D16: Avenida Arroyo El Molino N° 301, Casa 163, Condominio Real del Molino, C.P. 20983, Jesús María, Aguascalientes | E16: Casa Delegado | F16: 27542.5 | G16: =+F16*12 -> 330510 | H16: Renovación sin incremento | I16: =ROUNDUP(G16,0) -> 330510 | M16: =IF(H16="sustitución",1,0) -> 0 | N16: =IF($H16="sustitución",$I16,0) -> 0 | O16: =IF($H16="sustitución",$G16,0) -> 0 | P16: =IF(H16="Renovación con incremento",1,0) -> 0 | Q16: =IF($H16="Renovación con incremento",$I16,0) -> 0 | R16: =IF($H16="Renovación con incremento",$G16,0) -> 0 | S16: =IF(H16="Renovación sin incremento",1,0) -> 1 | T16: =IF($H16="Renovación sin incremento",$I16,0) -> 330510 | U16: =IF($H16="Cancelación",1,0) -> 0 | V16: =IF($H16="Cancelación",$I16,0) -> 0 | W16: =IF($H16="Cancelación",$G16,0) -> 0
B17: =+B16+1 -> 6 | C17: Aguascalientes | D17: Calle Mangana No. 201, Fraccionamiento Vista Alegre, C.P. 20290, Aguascalientes, Aguascalientes. | E17: Bodega de Bienes Embargados | F17: 75000 | G17: =+F17*12 -> 900000 | H17: Sustitución | I17: =ROUNDUP(+G17*1.15,0) -> 1035000 | J17: =SUM(I12:I17) -> 15074810 | L17: =+K17+J17 -> 15074810 | M17: =IF(H17="sustitución",1,0) -> 1 | N17: =IF($H17="sustitución",$I17,0) -> 1035000 | O17: =IF($H17="sustitución",$G17,0) -> 900000 | P17: =IF(H17="Renovación con incremento",1,0) -> 0 | Q17: =IF($H17="Renovación con incremento",$I17,0) -> 0 | R17: =IF($H17="Renovación con incremento",$G17,0) -> 0 | S17: =IF(H17="Renovación sin incremento",1,0) -> 0 | T17: =IF($H17="Renovación sin incremento",$I17,0) -> 0 | U17: =IF($H17="Cancelación",1,0) -> 0 | V17: =IF($H17="Cancelación",$I17,0) -> 0 | W17: =IF($H17="Cancelación",$G17,0) -> 0
B18: =+B17+1 -> 7 | C18: Baja California | D18: Boulevard Lázaro Cárdenas No. 2209-C, Colonia Plutarco Elías Calles Deleg. Gonzalez Ortega C.P 21379, Mexicali, Baja California | E18: Oficinas Administrativas Subdelegacionales | F18: 330000 | G18: =+F18*12*1.16 -> 4593600 | H18: Renovación sin incremento | I18: =ROUNDUP(G18,0) -> 4593600 | J18: =+I18 -> 4593600 | L18: =+K18+J18 -> 4593600 | M18: =IF(H18="sustitución",1,0) -> 0 | N18: =IF($H18="sustitución",$I18,0) -> 0 | O18: =IF($H18="sustitución",$G18,0) -> 0 | P18: =IF(H18="Renovación con incremento",1,0) -> 0 | Q18: =IF($H18="Renovación con incremento",$I18,0) -> 0 | R18: =IF($H18="Renovación con incremento",$G18,0) -> 0 | S18: =IF(H18="Renovación sin incremento",1,0) -> 1 | T18: =IF($H18="Renovación sin incremento",$I18,0) -> 4593600 | U18: =IF($H18="Cancelación",1,0) -> 0 | V18: =IF($H18="Cancelación",$I18,0) -> 0 | W18: =IF($H18="Cancelación",$G18,0) -> 0
B19: =+B18+1 -> 8 | C19: Baja California Sur | D19: Calle Ignacio Allende No. 1135, esquina Félix Ortega y Marcelo Rubio Ruíz, Colonia Centro, C.P. 23000, La Paz, Baja California Sur | E19: Servicio de Rehabilitación y Medicina Física y Centro de Capacitación y Calidad | F19: 37264.5 | G19: =+F19*12*1.16 -> 518721.84 | H19: Renovación sin incremento | I19: =ROUNDUP(G19,0) -> 518722 | M19: =IF(H19="sustitución",1,0) -> 0 | N19: =IF($H19="sustitución",$I19,0) -> 0 | O19: =IF($H19="sustitución",$G19,0) -> 0 | P19: =IF(H19="Renovación con incremento",1,0) -> 0 | Q19: =IF($H19="Renovación con incremento",$I19,0) -> 0 | R19: =IF($H19="Renovación con incremento",$G19,0) -> 0 | S19: =IF(H19="Renovación sin incremento",1,0) -> 1 | T19: =IF($H19="Renovación sin incremento",$I19,0) -> 518722 | U19: =IF($H19="Cancelación",1,0) -> 0 | V19: =IF($H19="Cancelación",$I19,0) -> 0 | W19: =IF($H19="Cancelación",$G19,0) -> 0
B20: =+B19+1 -> 9 | C20: Baja California Sur | D20: Boulevard Tecnológico No. 1810, Colonia Guaymitas, C.P. 23407, San José del Cabo, Baja California Sur | E20: Oficinas Administrativas Auxiliares Subdelegacionales | F20: 24725.35 | G20: =+F20*12*1.16 -> 344176.87 | H20: Renovación sin incremento | I20: =ROUNDUP(G20,0) -> 344177 | M20: =IF(H20="sustitución",1,0) -> 0 | N20: =IF($H20="sustitución",$I20,0) -> 0 | O20: =IF($H20="sustitución",$G20,0) -> 0 | P20: =IF(H20="Renovación con incremento",1,0) -> 0 | Q20: =IF($H20="Renovación con incremento",$I20,0) -> 0 | R20: =IF($H20="Renovación con incremento",$G20,0) -> 0 | S20: =IF(H20="Renovación sin incremento",1,0) -> 1 | T20: =IF($H20="Renovación sin incremento",$I20,0) -> 344177 | U20: =IF($H20="Cancelación",1,0) -> 0 | V20: =IF($H20="Cancelación",$I20,0) -> 0 | W20: =IF($H20="Cancelación",$G20,0) -> 0
B21: =+B20+1 -> 10 | C21: Baja California Sur | D21: Avenida Venustiano Carranza No. 114 entre Ignacio Zaragoza y Hugo Cervantes del Rio, Colonia Centro, C.P. 23600, Ciudad Constitución, Comondú Baja California Sur | E21: Oficinas Administrativas Auxiliares Subdelegacionales | F21: 9000 | G21: =+F21*12*1.16 -> 125280 | H21: Renovación sin incremento | I21: =ROUNDUP(G21,0) -> 125280 | M21: =IF(H21="sustitución",1,0) -> 0 | N21: =IF($H21="sustitución",$I21,0) -> 0 | O21: =IF($H21="sustitución",$G21,0) -> 0 | P21: =IF(H21="Renovación con incremento",1,0) -> 0 | Q21: =IF($H21="Renovación con incremento",$I21,0) -> 0 | R21: =IF($H21="Renovación con incremento",$G21,0) -> 0 | S21: =IF(H21="Renovación sin incremento",1,0) -> 1 | T21: =IF($H21="Renovación sin incremento",$I21,0) -> 125280 | U21: =IF($H21="Cancelación",1,0) -> 0 | V21: =IF($H21="Cancelación",$I21,0) -> 0 | W21: =IF($H21="Cancelación",$G21,0) -> 0
B22: =+B21+1 -> 11 | C22: Baja California Sur | D22: Calle Valentín Gómez Farías No. 166, entre Republica y Manuel Torre Iglesias, Colonia Esterito, C.P. 23060, La Paz, Baja California Sur | E22: Bodega de Bienes Embargados y Archivo de Concentración | F22: 42861.55 | G22: =+F22*12*1.16 -> 596632.78 | H22: Renovación sin incremento | I22: =ROUNDUP(G22,0) -> 596633 | M22: =IF(H22="sustitución",1,0) -> 0 | N22: =IF($H22="sustitución",$I22,0) -> 0 | O22: =IF($H22="sustitución",$G22,0) -> 0 | P22: =IF(H22="Renovación con incremento",1,0) -> 0 | Q22: =IF($H22="Renovación con incremento",$I22,0) -> 0 | R22: =IF($H22="Renovación con incremento",$G22,0) -> 0 | S22: =IF(H22="Renovación sin incremento",1,0) -> 1 | T22: =IF($H22="Renovación sin incremento",$I22,0) -> 596633 | U22: =IF($H22="Cancelación",1,0) -> 0 | V22: =IF($H22="Cancelación",$I22,0) -> 0 | W22: =IF($H22="Cancelación",$G22,0) -> 0
B23: =+B22+1 -> 12 | C23: Baja California Sur | D23: Calle 22 s/n, Lote 008, Manzana 13 C, Colonia Desarrollo Aeropuerto, C.P. 23435, Los Cabos, Baja California Sur | E23: Almacén para recepción, resguardo y distribución de materiales terápeuticos y diversos. | F23: 300000 | G23: =+F23*12*1.16 -> 4176000 | H23: Renovación sin incremento | I23: =ROUNDUP(G23,0) -> 4176000 | J23: =SUM(I19:I23) -> 5760812 | L23: =+K23+J23 -> 5760812 | M23: =IF(H23="sustitución",1,0) -> 0 | N23: =IF($H23="sustitución",$I23,0) -> 0 | O23: =IF($H23="sustitución",$G23,0) -> 0 | P23: =IF(H23="Renovación con incremento",1,0) -> 0 | Q23: =IF($H23="Renovación con incremento",$I23,0) -> 0 | R23: =IF($H23="Renovación con incremento",$G23,0) -> 0 | S23: =IF(H23="Renovación sin incremento",1,0) -> 1 | T23: =IF($H23="Renovación sin incremento",$I23,0) -> 4176000 | U23: =IF($H23="Cancelación",1,0) -> 0 | V23: =IF($H23="Cancelación",$I23,0) -> 0 | W23: =IF($H23="Cancelación",$G23,0) -> 0
B24: =+B23+1 -> 13 | C24: Campeche | D24: Calle Cordillera N° 34, Departamento 202, Fraccionamiento Lomas de la Eminencia, C.P. 24035, San Francisco de Campeche, Campeche. | E24: Casa Delegado | F24: 13910 | G24: =+F24*12 -> 166920 | H24: Renovación sin incremento | I24: =ROUNDUP(G24,0) -> 166920 | J24: =+I24 -> 166920 | L24: =+K24+J24 -> 166920 | M24: =IF(H24="sustitución",1,0) -> 0 | N24: =IF($H24="sustitución",$I24,0) -> 0 | O24: =IF($H24="sustitución",$G24,0) -> 0 | P24: =IF(H24="Renovación con incremento",1,0) -> 0 | Q24: =IF($H24="Renovación con incremento",$I24,0) -> 0 | R24: =IF($H24="Renovación con incremento",$G24,0) -> 0 | S24: =IF(H24="Renovación sin incremento",1,0) -> 1 | T24: =IF($H24="Renovación sin incremento",$I24,0) -> 166920 | U24: =IF($H24="Cancelación",1,0) -> 0 | V24: =IF($H24="Cancelación",$I24,0) -> 0 | W24: =IF($H24="Cancelación",$G24,0) -> 0
B25: =+B24+1 -> 14 | C25: Coahuila | D25: Boulevard Constitución, esquina Calle Jiménez, Zona Centro, C.P. 27080, Torreón, Coahuila | E25: Unidad de Medicina Familiar No. 80 | F25: 183860 | G25: =+F25*12*1.16 -> 2559331.2 | H25: Renovación con incremento | I25: =ROUNDUP(G25*1.1,0) -> 2815265 | M25: =IF(H25="sustitución",1,0) -> 0 | N25: =IF($H25="sustitución",$I25,0) -> 0 | O25: =IF($H25="sustitución",$G25,0) -> 0 | P25: =IF(H25="Renovación con incremento",1,0) -> 1 | Q25: =IF($H25="Renovación con incremento",$I25,0) -> 2815265 | R25: =IF($H25="Renovación con incremento",$G25,0) -> 2559331.2 | S25: =IF(H25="Renovación sin incremento",1,0) -> 0 | T25: =IF($H25="Renovación sin incremento",$I25,0) -> 0 | U25: =IF($H25="Cancelación",1,0) -> 0 | V25: =IF($H25="Cancelación",$I25,0) -> 0 | W25: =IF($H25="Cancelación",$G25,0) -> 0
B26: =+B25+1 -> 15 | C26: Coahuila | D26: Boulevard Isidro López Zertuche No. 2791-B, Colonia Universidad, C.P. 25260, Saltillo, Coahuila | E26: Oficinas Administrativas Subdelegacionales | F26: 163275 | G26: =+F26*12*1.16 -> 2272788 | H26: Renovación con incremento | I26: =ROUNDUP(G26*1.1,0) -> 2500067 | M26: =IF(H26="sustitución",1,0) -> 0 | N26: =IF($H26="sustitución",$I26,0) -> 0 | O26: =IF($H26="sustitución",$G26,0) -> 0 | P26: =IF(H26="Renovación con incremento",1,0) -> 1 | Q26: =IF($H26="Renovación con incremento",$I26,0) -> 2500067 | R26: =IF($H26="Renovación con incremento",$G26,0) -> 2272788 | S26: =IF(H26="Renovación sin incremento",1,0) -> 0 | T26: =IF($H26="Renovación sin incremento",$I26,0) -> 0 | U26: =IF($H26="Cancelación",1,0) -> 0 | V26: =IF($H26="Cancelación",$I26,0) -> 0 | W26: =IF($H26="Cancelación",$G26,0) -> 0
B27: =+B26+1 -> 16 | C27: Coahuila | D27: Boulevard Independencia y Calle Leona Vicario S/N, C.P. 27000, Torreón, Coahuila | E27: Oficinas Administrativas Subdelegacionales | F27: 363189.65 | G27: =+F27*12*1.16 -> 5055599.9 | H27: Renovación con incremento | I27: =ROUNDUP(G27*1.1,0) -> 5561160 | M27: =IF(H27="sustitución",1,0) -> 0 | N27: =IF($H27="sustitución",$I27,0) -> 0 | O27: =IF($H27="sustitución",$G27,0) -> 0 | P27: =IF(H27="Renovación con incremento",1,0) -> 1 | Q27: =IF($H27="Renovación con incremento",$I27,0) -> 5561160 | R27: =IF($H27="Renovación con incremento",$G27,0) -> 5055599.9 | S27: =IF(H27="Renovación sin incremento",1,0) -> 0 | T27: =IF($H27="Renovación sin incremento",$I27,0) -> 0 | U27: =IF($H27="Cancelación",1,0) -> 0 | V27: =IF($H27="Cancelación",$I27,0) -> 0 | W27: =IF($H27="Cancelación",$G27,0) -> 0
B28: =+B27+1 -> 17 | C28: Coahuila | D28: Boulevard Benito Juárez No. 523, Colonia Roma, C.P. 25000, Monclova, Coahuila | E28: Tienda | F28: 92308 | G28: =+F28*12*1.16 -> 1284927.4 | H28: Renovación con incremento | I28: =ROUNDUP(G28*1.1,0) -> 1413421 | M28: =IF(H28="sustitución",1,0) -> 0 | N28: =IF($H28="sustitución",$I28,0) -> 0 | O28: =IF($H28="sustitución",$G28,0) -> 0 | P28: =IF(H28="Renovación con incremento",1,0) -> 1 | Q28: =IF($H28="Renovación con incremento",$I28,0) -> 1413421 | R28: =IF($H28="Renovación con incremento",$G28,0) -> 1284927.4 | S28: =IF(H28="Renovación sin incremento",1,0) -> 0 | T28: =IF($H28="Renovación sin incremento",$I28,0) -> 0 | U28: =IF($H28="Cancelación",1,0) -> 0 | V28: =IF($H28="Cancelación",$I28,0) -> 0 | W28: =IF($H28="Cancelación",$G28,0) -> 0
B29: =+B28+1 -> 18 | C29: Coahuila | D29: Calle Presidente Cárdenas No. 197 Oriente, Zona Centro, C.P. 25000, Saltillo, Coahuila | E29: Tienda | F29: 89533 | G29: =+F29*12*1.16 -> 1246299.4 | H29: Renovación con incremento | I29: =ROUNDUP(G29*1.1,0) -> 1370930 | M29: =IF(H29="sustitución",1,0) -> 0 | N29: =IF($H29="sustitución",$I29,0) -> 0 | O29: =IF($H29="sustitución",$G29,0) -> 0 | P29: =IF(H29="Renovación con incremento",1,0) -> 1 | Q29: =IF($H29="Renovación con incremento",$I29,0) -> 1370930 | R29: =IF($H29="Renovación con incremento",$G29,0) -> 1246299.4 | S29: =IF(H29="Renovación sin incremento",1,0) -> 0 | T29: =IF($H29="Renovación sin incremento",$I29,0) -> 0 | U29: =IF($H29="Cancelación",1,0) -> 0 | V29: =IF($H29="Cancelación",$I29,0) -> 0 | W29: =IF($H29="Cancelación",$G29,0) -> 0
B30: =+B29+1 -> 19 | C30: Coahuila | D30: Calle Egipto esquina José Sarmiento S/N, Fraccionamiento Virreyes Obrera, C.P. 25220, Saltillo, Coahuila | E30: Archivo de Concentración y Oficina de Servicios Generales | F30: 83000 | G30: =+F30*12*1.16 -> 1155360 | H30: Renovación con incremento | I30: =ROUNDUP(G30*1.1,0) -> 1270896 | M30: =IF(H30="sustitución",1,0) -> 0 | N30: =IF($H30="sustitución",$I30,0) -> 0 | O30: =IF($H30="sustitución",$G30,0) -> 0 | P30: =IF(H30="Renovación con incremento",1,0) -> 1 | Q30: =IF($H30="Renovación con incremento",$I30,0) -> 1270896 | R30: =IF($H30="Renovación con incremento",$G30,0) -> 1155360 | S30: =IF(H30="Renovación sin incremento",1,0) -> 0 | T30: =IF($H30="Renovación sin incremento",$I30,0) -> 0 | U30: =IF($H30="Cancelación",1,0) -> 0 | V30: =IF($H30="Cancelación",$I30,0) -> 0 | W30: =IF($H30="Cancelación",$G30,0) -> 0
B31: =+B30+1 -> 20 | C31: Coahuila | D31: Carretera Saltillo-Zacatecas Km. 22, Puente La Encantada, C.P. 25950, Saltillo, Coahuila. | E31: Almacen Delegacional | F31: 684000 | G31: =+F31*12*1.16 -> 9521280 | H31: Renovación con incremento | I31: =ROUNDUP(G31*1.1,0) -> 10473408 | J31: =SUM(I25:I31) -> 25405147 | L31: =+K31+J31 -> 25405147 | M31: =IF(H31="sustitución",1,0) -> 0 | N31: =IF($H31="sustitución",$I31,0) -> 0 | O31: =IF($H31="sustitución",$G31,0) -> 0 | P31: =IF(H31="Renovación con incremento",1,0) -> 1 | Q31: =IF($H31="Renovación con incremento",$I31,0) -> 10473408 | R31: =IF($H31="Renovación con incremento",$G31,0) -> 9521280 | S31: =IF(H31="Renovación sin incremento",1,0) -> 0 | T31: =IF($H31="Renovación sin incremento",$I31,0) -> 0 | U31: =IF($H31="Cancelación",1,0) -> 0 | V31: =IF($H31="Cancelación",$I31,0) -> 0 | W31: =IF($H31="Cancelación",$G31,0) -> 0
B32: =+B31+1 -> 21 | C32: Colima | D32: Avenida de los Maestros No. 324, Colonia Huertas del Sol, C.P. 28050, Colima, Colima | E32: Centro de Capacitación | F32: 19762.3 | G32: =+F32*12*1.16 -> 275091.22 | H32: Renovación con incremento | I32: =ROUNDUP(G32*1.1,0) -> 302601 | M32: =IF(H32="sustitución",1,0) -> 0 | N32: =IF($H32="sustitución",$I32,0) -> 0 | O32: =IF($H32="sustitución",$G32,0) -> 0 | P32: =IF(H32="Renovación con incremento",1,0) -> 1 | Q32: =IF($H32="Renovación con incremento",$I32,0) -> 302601 | R32: =IF($H32="Renovación con incremento",$G32,0) -> 275091.22 | S32: =IF(H32="Renovación sin incremento",1,0) -> 0 | T32: =IF($H32="Renovación sin incremento",$I32,0) -> 0 | U32: =IF($H32="Cancelación",1,0) -> 0 | V32: =IF($H32="Cancelación",$I32,0) -> 0 | W32: =IF($H32="Cancelación",$G32,0) -> 0
B33: =+B32+1 -> 22 | C33: Colima | D33: Calle 5 de Mayo No. 33, Colonia Centro, C.P. 28100, Tecomán, Colima | E33: Oficinas Administrativas Subdelegacionales | F33: 14015.57 | G33: =+F33*12*1.16 -> 195096.73 | H33: Sustitución | I33: =ROUNDUP(+G33*1.15,0) -> 224362 | M33: =IF(H33="sustitución",1,0) -> 1 | N33: =IF($H33="sustitución",$I33,0) -> 224362 | O33: =IF($H33="sustitución",$G33,0) -> 195096.73 | P33: =IF(H33="Renovación con incremento",1,0) -> 0 | Q33: =IF($H33="Renovación con incremento",$I33,0) -> 0 | R33: =IF($H33="Renovación con incremento",$G33,0) -> 0 | S33: =IF(H33="Renovación sin incremento",1,0) -> 0 | T33: =IF($H33="Renovación sin incremento",$I33,0) -> 0 | U33: =IF($H33="Cancelación",1,0) -> 0 | V33: =IF($H33="Cancelación",$I33,0) -> 0 | W33: =IF($H33="Cancelación",$G33,0) -> 0 | Y33: 800400 | Z33: 1
B34: =+B33+1 -> 23 | C34: Colima | D34: Calle Lic. Gustavo Díaz Ordaz No. 120, Colonia El Moralete, C.P. 28060, Colima, Colima | E34: Tienda | F34: 50000 | G34: =+F34*12*1.16 -> 696000 | H34: Renovación con incremento | I34: =ROUNDUP(G34*1.1,0) -> 765600 | M34: =IF(H34="sustitución",1,0) -> 0 | N34: =IF($H34="sustitución",$I34,0) -> 0 | O34: =IF($H34="sustitución",$G34,0) -> 0 | P34: =IF(H34="Renovación con incremento",1,0) -> 1 | Q34: =IF($H34="Renovación con incremento",$I34,0) -> 765600 | R34: =IF($H34="Renovación con incremento",$G34,0) -> 696000 | S34: =IF(H34="Renovación sin incremento",1,0) -> 0 | T34: =IF($H34="Renovación sin incremento",$I34,0) -> 0 | U34: =IF($H34="Cancelación",1,0) -> 0 | V34: =IF($H34="Cancelación",$I34,0) -> 0 | W34: =IF($H34="Cancelación",$G34,0) -> 0
B35: =+B34+1 -> 24 | C35: Colima | D35: Calle León Felipe No. 346, Colonia Real Vista Hermosa II, C.P. 28018, Colima, Colima. | E35: Casa Delegado | F35: 20800 | G35: =+F35*12 -> 249600 | H35: Renovación con incremento | I35: =ROUNDUP(G35*1.1,0) -> 274560 | M35: =IF(H35="sustitución",1,0) -> 0 | N35: =IF($H35="sustitución",$I35,0) -> 0 | O35: =IF($H35="sustitución",$G35,0) -> 0 | P35: =IF(H35="Renovación con incremento",1,0) -> 1 | Q35: =IF($H35="Renovación con incremento",$I35,0) -> 274560 | R35: =IF($H35="Renovación con incremento",$G35,0) -> 249600 | S35: =IF(H35="Renovación sin incremento",1,0) -> 0 | T35: =IF($H35="Renovación sin incremento",$I35,0) -> 0 | U35: =IF($H35="Cancelación",1,0) -> 0 | V35: =IF($H35="Cancelación",$I35,0) -> 0 | W35: =IF($H35="Cancelación",$G35,0) -> 0
B36: =+B35+1 -> 25 | C36: Colima | D36: Avenida de los Deportistas No. 1144, Colonia El Tecolote, C.P. 28090, Colima, Colima. | E36: Sub-almacén | F36: 85000 | G36: =+F36*12*1.16 -> 1183200 | H36: Renovación con incremento | I36: =ROUNDUP(G36*1.1,0) -> 1301520 | J36: =SUM(I32:I36) -> 2868643 | L36: =+K36+J36 -> 2868643 | M36: =IF(H36="sustitución",1,0) -> 0 | N36: =IF($H36="sustitución",$I36,0) -> 0 | O36: =IF($H36="sustitución",$G36,0) -> 0 | P36: =IF(H36="Renovación con incremento",1,0) -> 1 | Q36: =IF($H36="Renovación con incremento",$I36,0) -> 1301520 | R36: =IF($H36="Renovación con incremento",$G36,0) -> 1183200 | S36: =IF(H36="Renovación sin incremento",1,0) -> 0 | T36: =IF($H36="Renovación sin incremento",$I36,0) -> 0 | U36: =IF($H36="Cancelación",1,0) -> 0 | V36: =IF($H36="Cancelación",$I36,0) -> 0 | W36: =IF($H36="Cancelación",$G36,0) -> 0
B37: =+B36+1 -> 26 | C37: Chiapas | D37: 5a. Avenida Oriente S/N Colonia Los Manguitos, antes Calzada a La Ciudad Deportiva S/N, "Panchón Contreras", C.P. 29010, Tuxtla Gutiérrez, Chiapas | E37: Unidad Deportiva | F37: 8118.07 | G37: =+F37*12*1.16 -> 113003.53 | H37: Renovación con incremento | I37: =ROUNDUP(G37*1.1,0) -> 124304 | M37: =IF(H37="sustitución",1,0) -> 0 | N37: =IF($H37="sustitución",$I37,0) -> 0 | O37: =IF($H37="sustitución",$G37,0) -> 0 | P37: =IF(H37="Renovación con incremento",1,0) -> 1 | Q37: =IF($H37="Renovación con incremento",$I37,0) -> 124304 | R37: =IF($H37="Renovación con incremento",$G37,0) -> 113003.53 | S37: =IF(H37="Renovación sin incremento",1,0) -> 0 | T37: =IF($H37="Renovación sin incremento",$I37,0) -> 0 | U37: =IF($H37="Cancelación",1,0) -> 0 | V37: =IF($H37="Cancelación",$I37,0) -> 0 | W37: =IF($H37="Cancelación",$G37,0) -> 0
B38: =+B37+1 -> 27 | C38: Chiapas | D38: 11a. Calle Poniente No. 8-A, Zona Centro, C.P. 30700, Tapachula, Chiapas | E38: Oficinas Administrativas Delegacionales (Jefatura de Prestaciones Médicas, Coordinación de Atención y Orientación al Derechohabiente, y Coordinación de Calidad y Competitividad) | F38: 52800 | G38: =+F38*12*1.16 -> 734976 | H38: Renovación con incremento | I38: =ROUNDUP(G38*1.1,0) -> 808474 | M38: =IF(H38="sustitución",1,0) -> 0 | N38: =IF($H38="sustitución",$I38,0) -> 0 | O38: =IF($H38="sustitución",$G38,0) -> 0 | P38: =IF(H38="Renovación con incremento",1,0) -> 1 | Q38: =IF($H38="Renovación con incremento",$I38,0) -> 808474 | R38: =IF($H38="Renovación con incremento",$G38,0) -> 734976 | S38: =IF(H38="Renovación sin incremento",1,0) -> 0 | T38: =IF($H38="Renovación sin incremento",$I38,0) -> 0 | U38: =IF($H38="Cancelación",1,0) -> 0 | V38: =IF($H38="Cancelación",$I38,0) -> 0 | W38: =IF($H38="Cancelación",$G38,0) -> 0
B39: =+B38+1 -> 28 | C39: Chiapas | D39: Segunda Calle Oriente y Séptima Avenida Sur No. 12, Colonia Centro, C.P. 30700, Tapachula, Chiapas | E39: Tienda No. 12 | F39: 32031 | G39: =+F39*12*1.16 -> 445871.52 | H39: Sustitución | I39: =ROUNDUP(+G39*1.15,0) -> 512753 | M39: =IF(H39="sustitución",1,0) -> 1 | N39: =IF($H39="sustitución",$I39,0) -> 512753 | O39: =IF($H39="sustitución",$G39,0) -> 445871.52 | P39: =IF(H39="Renovación con incremento",1,0) -> 0 | Q39: =IF($H39="Renovación con incremento",$I39,0) -> 0 | R39: =IF($H39="Renovación con incremento",$G39,0) -> 0 | S39: =IF(H39="Renovación sin incremento",1,0) -> 0 | T39: =IF($H39="Renovación sin incremento",$I39,0) -> 0 | U39: =IF($H39="Cancelación",1,0) -> 0 | V39: =IF($H39="Cancelación",$I39,0) -> 0 | W39: =IF($H39="Cancelación",$G39,0) -> 0
B40: =+B39+1 -> 29 | C40: Chiapas | D40: Calle Central Sur No. 1989, Colonia San Francisco, C.P. 29000, Tuxtla Gutiérrez, Chiapas | E40: Tienda No. 13 | F40: 50000 | G40: =+F40*12*1.16 -> 696000 | H40: Renovación con incremento | I40: =ROUNDUP(G40*1.1,0) -> 765600 | M40: =IF(H40="sustitución",1,0) -> 0 | N40: =IF($H40="sustitución",$I40,0) -> 0 | O40: =IF($H40="sustitución",$G40,0) -> 0 | P40: =IF(H40="Renovación con incremento",1,0) -> 1 | Q40: =IF($H40="Renovación con incremento",$I40,0) -> 765600 | R40: =IF($H40="Renovación con incremento",$G40,0) -> 696000 | S40: =IF(H40="Renovación sin incremento",1,0) -> 0 | T40: =IF($H40="Renovación sin incremento",$I40,0) -> 0 | U40: =IF($H40="Cancelación",1,0) -> 0 | V40: =IF($H40="Cancelación",$I40,0) -> 0 | W40: =IF($H40="Cancelación",$G40,0) -> 0
B41: =+B40+1 -> 30 | C41: Chiapas | D41: Avenida Carlos Maciel No. 119, Fraccionamiento Santos (San Roque), C.P. 29040, Tuxtla Gutiérrez, Chiapas | E41: Archivo de Concentración | F41: 39000 | G41: =+F41*12*1.16 -> 542880 | H41: Renovación con incremento | I41: =ROUNDUP(G41*1.1,0) -> 597168 | M41: =IF(H41="sustitución",1,0) -> 0 | N41: =IF($H41="sustitución",$I41,0) -> 0 | O41: =IF($H41="sustitución",$G41,0) -> 0 | P41: =IF(H41="Renovación con incremento",1,0) -> 1 | Q41: =IF($H41="Renovación con incremento",$I41,0) -> 597168 | R41: =IF($H41="Renovación con incremento",$G41,0) -> 542880 | S41: =IF(H41="Renovación sin incremento",1,0) -> 0 | T41: =IF($H41="Renovación sin incremento",$I41,0) -> 0 | U41: =IF($H41="Cancelación",1,0) -> 0 | V41: =IF($H41="Cancelación",$I41,0) -> 0 | W41: =IF($H41="Cancelación",$G41,0) -> 0
B42: =+B41+1 -> 31 | C42: Chiapas | D42: 2a. Calle Sur Poniente esquina Calle Privada No. 188, Barrio de las Flores, C.P. 30019, Comitán de Domínguez, Chiapas. | E42: Oficinas Administrativas | F42: 9000 | G42: =+F42*12*1.16 -> 125280 | H42: Renovación con incremento | I42: =ROUNDUP(G42*1.1,0) -> 137808 | M42: =IF(H42="sustitución",1,0) -> 0 | N42: =IF($H42="sustitución",$I42,0) -> 0 | O42: =IF($H42="sustitución",$G42,0) -> 0 | P42: =IF(H42="Renovación con incremento",1,0) -> 1 | Q42: =IF($H42="Renovación con incremento",$I42,0) -> 137808 | R42: =IF($H42="Renovación con incremento",$G42,0) -> 125280 | S42: =IF(H42="Renovación sin incremento",1,0) -> 0 | T42: =IF($H42="Renovación sin incremento",$I42,0) -> 0 | U42: =IF($H42="Cancelación",1,0) -> 0 | V42: =IF($H42="Cancelación",$I42,0) -> 0 | W42: =IF($H42="Cancelación",$G42,0) -> 0
...

Sheet Anteproyecto 2027 (2)
C1: INSTITUTO MEXICANO DEL SEGURO SOCIAL | E1: Figura | F1: Cierre 2026 | G1: 2027 | I1: Variación | L1: =IF(#REF!-#REF!=#REF!,"ok","error") -> #REF!
C2: COORDINACIÓN DE SERVICIOS GENERALES | F2: Importe | G2: No. Inmuebles | H2: Importe
C3: COORDINACIÓN TÉCNICA DE ADMINISTRACIÓN DE ACTIVOS | E3: =+M11 -> Sustitución | F3: =+#REF! -> #REF! | G3: =+#REF! -> #REF! | H3: =+#REF! -> #REF! | I3: =+H3-F3 -> #REF!
C4: DIVISIÓN DE ARRENDAMIENTO Y COMERCIALIZACIÓN | E4: =+P11 -> Renovación con incremento | F4: =+#REF! -> #REF! | G4: =+#REF! -> #REF! | H4: =+#REF! -> #REF! | I4: =+H4-F4 -> #REF!
E5: =+S11 -> Renovación sin incremento | F5: =+#REF! -> #REF! | G5: =+#REF! -> #REF! | H5: =+#REF! -> #REF! | I5: =+F5-H5 -> #REF!
C6: PADRÓN DE ARRENDAMIENTO INMOBILIARIO 2027 | E6: =+U11 -> Cancelación | F6: =+#REF! -> #REF! | G6: =+#REF! -> #REF! | H6: =+#REF! -> #REF! | I6: =+F6-H6 -> #REF!
E7: =+Nuevos!C5 -> Nuevos Arrendamientos | G7: =+Nuevos!B39 -> 32 | H7: =+Nuevos!$G$40 -> 1.5145704e+08 | I7: =+H7 -> 1.5145704e+08
B8: INMUEBLES ARRENDADOS 2027 | E8: Total | F8: =SUM(F3:F7) -> #REF! | G8: =SUM(G3:G7) -> #REF! | H8: =SUM(H3:H7) -> #REF! | I8: =SUM(I3:I7) -> #REF!
B11: No. | C11: Organo de Operación Administrativa Desconcentrada | D11: Dirección del inmueble arrendado | E11: Servicio | F11: Monto de renta mensual actual sin IVA | G11: Monto anual con IVA | H11: Figura Anteproyecto 2027 | I11: Importe 2027 | J11: Monto por OOAD | K11: Nuevos | L11: Total | M11: Sustitución | P11: Renovación con incremento | S11: Renovación sin incremento | U11: Cancelación | Y11: sustituciones | Z11: ok | AA11: RENOV SIN INCREMENTO
B12: 1 | C12: Aguascalientes | D12: Boulevard a Zacatecas No. 701, Fraccionamiento Las Hadas, C.P. 20140, Aguascalientes | E12: Oficinas Administrativas de la Subdelegación Metropolitana Norte | F12: 149599.14 | G12: =+F12*12*1.16 -> 2082420 | H12: Sustitución | I12: =ROUNDUP(+G12*1.15,0) -> 2394784 | M12: =IF(H12="sustitución",1,0) -> 1 | N12: =IF($H12="sustitución",$I12,0) -> 2394784 | O12: =IF($H12="sustitución",$G12,0) -> 2082420 | P12: =IF(H12="Renovación con incremento",1,0) -> 0 | Q12: =IF($H12="Renovación con incremento",$I12,0) -> 0 | R12: =IF($H12="Renovación con incremento",$G12,0) -> 0 | S12: =IF(H12="Renovación sin incremento",1,0) -> 0 | T12: =IF($H12="Renovación sin incremento",$I12,0) -> 0 | U12: =IF($H12="Cancelación",1,0) -> 0 | V12: =IF($H12="Cancelación",$I12,0) -> 0 | W12: =IF($H12="Cancelación",$G12,0) -> 0 | Y12: 5602800 | Z12: 1
B13: =+B12+1 -> 2 | C13: Aguascalientes | D13: Calle Ecuador No. 205, Planta Baja, Colonia Las Americas, C.P. 20230, Aguascalientes | E13: Oficinas Administrativas de la Subdelegación Metropolitana Sur | F13: 94630.5 | G13: =+F13*12*1.16 -> 1317256.6 | H13: Sustitución | I13: =ROUNDUP(+G13*1.15,0) -> 1514846 | M13: =IF(H13="sustitución",1,0) -> 1 | N13: =IF($H13="sustitución",$I13,0) -> 1514846 | O13: =IF($H13="sustitución",$G13,0) -> 1317256.6 | P13: =IF(H13="Renovación con incremento",1,0) -> 0 | Q13: =IF($H13="Renovación con incremento",$I13,0) -> 0 | R13: =IF($H13="Renovación con incremento",$G13,0) -> 0 | S13: =IF(H13="Renovación sin incremento",1,0) -> 0 | T13: =IF($H13="Renovación sin incremento",$I13,0) -> 0 | U13: =IF($H13="Cancelación",1,0) -> 0 | V13: =IF($H13="Cancelación",$I13,0) -> 0 | W13: =IF($H13="Cancelación",$G13,0) -> 0 | Y13: =G13 -> 1317256.6 | AA13: RENOV SIN INCREMENTO
B14: =+B13+1 -> 3 | C14: Aguascalientes | D14: Calle Ecuador No. 205, Planta Alta, Colonia Las Americas, C.P. 20230, Aguascalientes | E14: Centro de Capacitación | F14: 58610 | G14: =+F14*12*1.16 -> 815851.2 | H14: Renovación con incremento | I14: =ROUNDUP(G14*1.1,0) -> 897437 | M14: =IF(H14="sustitución",1,0) -> 0 | N14: =IF($H14="sustitución",$I14,0) -> 0 | O14: =IF($H14="sustitución",$G14,0) -> 0 | P14: =IF(H14="Renovación con incremento",1,0) -> 1 | Q14: =IF($H14="Renovación con incremento",$I14,0) -> 897437 | R14: =IF($H14="Renovación con incremento",$G14,0) -> 815851.2 | S14: =IF(H14="Renovación sin incremento",1,0) -> 0 | T14: =IF($H14="Renovación sin incremento",$I14,0) -> 0 | U14: =IF($H14="Cancelación",1,0) -> 0 | V14: =IF($H14="Cancelación",$I14,0) -> 0 | W14: =IF($H14="Cancelación",$G14,0) -> 0
B15: =+B14+1 -> 4 | C15: Aguascalientes | D15: Calle Julio Díaz Torre N° 105, Lote 3, Manzana 28 Interior D y E, Fraccionamiento Ciudad Industrial, C.P. 20290, Aguascalientes, Aguascalientes. | E15: Coordinación de Abastecimiento y Equipamiento, Almacén Delegacional y Archivo de Concentración | F15: 581389.25 | G15: =+F15*12*1.16 -> 8092938.4 | H15: Renovación con incremento | I15: =ROUNDUP(G15*1.1,0) -> 8902233 | M15: =IF(H15="sustitución",1,0) -> 0 | N15: =IF($H15="sustitución",$I15,0) -> 0 | O15: =IF($H15="sustitución",$G15,0) -> 0 | P15: =IF(H15="Renovación con incremento",1,0) -> 1 | Q15: =IF($H15="Renovación con incremento",$I15,0) -> 8902233 | R15: =IF($H15="Renovación con incremento",$G15,0) -> 8092938.4 | S15: =IF(H15="Renovación sin incremento",1,0) -> 0 | T15: =IF($H15="Renovación sin incremento",$I15,0) -> 0 | U15: =IF($H15="Cancelación",1,0) -> 0 | V15: =IF($H15="Cancelación",$I15,0) -> 0 | W15: =IF($H15="Cancelación",$G15,0) -> 0
B16: =+B15+1 -> 5 | C16: Aguascalientes | D16: Avenida Arroyo El Molino N° 301, Casa 163, Condominio Real del Molino, C.P. 20983, Jesús María, Aguascalientes | E16: Casa Delegado | F16: 27542.5 | G16: =+F16*12 -> 330510 | H16: Renovación sin incremento | I16: =ROUNDUP(G16,0) -> 330510 | M16: =IF(H16="sustitución",1,0) -> 0 | N16: =IF($H16="sustitución",$I16,0) -> 0 | O16: =IF($H16="sustitución",$G16,0) -> 0 | P16: =IF(H16="Renovación con incremento",1,0) -> 0 | Q16: =IF($H16="Renovación con incremento",$I16,0) -> 0 | R16: =IF($H16="Renovación con incremento",$G16,0) -> 0 | S16: =IF(H16="Renovación sin incremento",1,0) -> 1 | T16: =IF($H16="Renovación sin incremento",$I16,0) -> 330510 | U16: =IF($H16="Cancelación",1,0) -> 0 | V16: =IF($H16="Cancelación",$I16,0) -> 0 | W16: =IF($H16="Cancelación",$G16,0) -> 0
B17: =+B16+1 -> 6 | C17: Aguascalientes | D17: Calle Mangana No. 201, Fraccionamiento Vista Alegre, C.P. 20290, Aguascalientes, Aguascalientes. | E17: Bodega de Bienes Embargados | F17: 75000 | G17: =+F17*12 -> 900000 | H17: Sustitución | I17: =ROUNDUP(+G17*1.15,0) -> 1035000 | J17: =SUM(I12:I17) -> 15074810 | L17: =+K17+J17 -> 15074810 | M17: =IF(H17="sustitución",1,0) -> 1 | N17: =IF($H17="sustitución",$I17,0) -> 1035000 | O17: =IF($H17="sustitución",$G17,0) -> 900000 | P17: =IF(H17="Renovación con incremento",1,0) -> 0 | Q17: =IF($H17="Renovación con incremento",$I17,0) -> 0 | R17: =IF($H17="Renovación con incremento",$G17,0) -> 0 | S17: =IF(H17="Renovación sin incremento",1,0) -> 0 | T17: =IF($H17="Renovación sin incremento",$I17,0) -> 0 | U17: =IF($H17="Cancelación",1,0) -> 0 | V17: =IF($H17="Cancelación",$I17,0) -> 0 | W17: =IF($H17="Cancelación",$G17,0) -> 0 | Y17: =G17 -> 900000 | AA17: RENOV SIN INCREMENTO
B18: =+B17+1 -> 7 | C18: Baja California | D18: Boulevard Lázaro Cárdenas No. 2209-C, Colonia Plutarco Elías Calles Deleg. Gonzalez Ortega C.P 21379, Mexicali, Baja California | E18: Oficinas Administrativas Subdelegacionales | F18: 330000 | G18: =+F18*12*1.16 -> 4593600 | H18: Renovación sin incremento | I18: =ROUNDUP(G18,0) -> 4593600 | J18: =+I18 -> 4593600 | L18: =+K18+J18 -> 4593600 | M18: =IF(H18="sustitución",1,0) -> 0 | N18: =IF($H18="sustitución",$I18,0) -> 0 | O18: =IF($H18="sustitución",$G18,0) -> 0 | P18: =IF(H18="Renovación con incremento",1,0) -> 0 | Q18: =IF($H18="Renovación con incremento",$I18,0) -> 0 | R18: =IF($H18="Renovación con incremento",$G18,0) -> 0 | S18: =IF(H18="Renovación sin incremento",1,0) -> 1 | T18: =IF($H18="Renovación sin incremento",$I18,0) -> 4593600 | U18: =IF($H18="Cancelación",1,0) -> 0 | V18: =IF($H18="Cancelación",$I18,0) -> 0 | W18: =IF($H18="Cancelación",$G18,0) -> 0
B19: =+B18+1 -> 8 | C19: Baja California Sur | D19: Calle Ignacio Allende No. 1135, esquina Félix Ortega y Marcelo Rubio Ruíz, Colonia Centro, C.P. 23000, La Paz, Baja California Sur | E19: Servicio de Rehabilitación y Medicina Física y Centro de Capacitación y Calidad | F19: 37264.5 | G19: =+F19*12*1.16 -> 518721.84 | H19: Renovación sin incremento | I19: =ROUNDUP(G19,0) -> 518722 | M19: =IF(H19="sustitución",1,0) -> 0 | N19: =IF($H19="sustitución",$I19,0) -> 0 | O19: =IF($H19="sustitución",$G19,0) -> 0 | P19: =IF(H19="Renovación con incremento",1,0) -> 0 | Q19: =IF($H19="Renovación con incremento",$I19,0) -> 0 | R19: =IF($H19="Renovación con incremento",$G19,0) -> 0 | S19: =IF(H19="Renovación sin incremento",1,0) -> 1 | T19: =IF($H19="Renovación sin incremento",$I19,0) -> 518722 | U19: =IF($H19="Cancelación",1,0) -> 0 | V19: =IF($H19="Cancelación",$I19,0) -> 0 | W19: =IF($H19="Cancelación",$G19,0) -> 0
B20: =+B19+1 -> 9 | C20: Baja California Sur | D20: Boulevard Tecnológico No. 1810, Colonia Guaymitas, C.P. 23407, San José del Cabo, Baja California Sur | E20: Oficinas Administrativas Auxiliares Subdelegacionales | F20: 24725.35 | G20: =+F20*12*1.16 -> 344176.87 | H20: Renovación sin incremento | I20: =ROUNDUP(G20,0) -> 344177 | M20: =IF(H20="sustitución",1,0) -> 0 | N20: =IF($H20="sustitución",$I20,0) -> 0 | O20: =IF($H20="sustitución",$G20,0) -> 0 | P20: =IF(H20="Renovación con incremento",1,0) -> 0 | Q20: =IF($H20="Renovación con incremento",$I20,0) -> 0 | R20: =IF($H20="Renovación con incremento",$G20,0) -> 0 | S20: =IF(H20="Renovación sin incremento",1,0) -> 1 | T20: =IF($H20="Renovación sin incremento",$I20,0) -> 344177 | U20: =IF($H20="Cancelación",1,0) -> 0 | V20: =IF($H20="Cancelación",$I20,0) -> 0 | W20: =IF($H20="Cancelación",$G20,0) -> 0
B21: =+B20+1 -> 10 | C21: Baja California Sur | D21: Avenida Venustiano Carranza No. 114 entre Ignacio Zaragoza y Hugo Cervantes del Rio, Colonia Centro, C.P. 23600, Ciudad Constitución, Comondú Baja California Sur | E21: Oficinas Administrativas Auxiliares Subdelegacionales | F21: 9000 | G21: =+F21*12*1.16 -> 125280 | H21: Renovación sin incremento | I21: =ROUNDUP(G21,0) -> 125280 | M21: =IF(H21="sustitución",1,0) -> 0 | N21: =IF($H21="sustitución",$I21,0) -> 0 | O21: =IF($H21="sustitución",$G21,0) -> 0 | P21: =IF(H21="Renovación con incremento",1,0) -> 0 | Q21: =IF($H21="Renovación con incremento",$I21,0) -> 0 | R21: =IF($H21="Renovación con incremento",$G21,0) -> 0 | S21: =IF(H21="Renovación sin incremento",1,0) -> 1 | T21: =IF($H21="Renovación sin incremento",$I21,0) -> 125280 | U21: =IF($H21="Cancelación",1,0) -> 0 | V21: =IF($H21="Cancelación",$I21,0) -> 0 | W21: =IF($H21="Cancelación",$G21,0) -> 0
B22: =+B21+1 -> 11 | C22: Baja California Sur | D22: Calle Valentín Gómez Farías No. 166, entre Republica y Manuel Torre Iglesias, Colonia Esterito, C.P. 23060, La Paz, Baja California Sur | E22: Bodega de Bienes Embargados y Archivo de Concentración | F22: 42861.55 | G22: =+F22*12*1.16 -> 596632.78 | H22: Renovación sin incremento | I22: =ROUNDUP(G22,0) -> 596633 | M22: =IF(H22="sustitución",1,0) -> 0 | N22: =IF($H22="sustitución",$I22,0) -> 0 | O22: =IF($H22="sustitución",$G22,0) -> 0 | P22: =IF(H22="Renovación con incremento",1,0) -> 0 | Q22: =IF($H22="Renovación con incremento",$I22,0) -> 0 | R22: =IF($H22="Renovación con incremento",$G22,0) -> 0 | S22: =IF(H22="Renovación sin incremento",1,0) -> 1 | T22: =IF($H22="Renovación sin incremento",$I22,0) -> 596633 | U22: =IF($H22="Cancelación",1,0) -> 0 | V22: =IF($H22="Cancelación",$I22,0) -> 0 | W22: =IF($H22="Cancelación",$G22,0) -> 0
B23: =+B22+1 -> 12 | C23: Baja California Sur | D23: Calle 22 s/n, Lote 008, Manzana 13 C, Colonia Desarrollo Aeropuerto, C.P. 23435, Los Cabos, Baja California Sur | E23: Almacén para recepción, resguardo y distribución de materiales terápeuticos y diversos. | F23: 300000 | G23: =+F23*12*1.16 -> 4176000 | H23: Renovación sin incremento | I23: =ROUNDUP(G23,0) -> 4176000 | J23: =SUM(I19:I23) -> 5760812 | L23: =+K23+J23 -> 5760812 | M23: =IF(H23="sustitución",1,0) -> 0 | N23: =IF($H23="sustitución",$I23,0) -> 0 | O23: =IF($H23="sustitución",$G23,0) -> 0 | P23: =IF(H23="Renovación con incremento",1,0) -> 0 | Q23: =IF($H23="Renovación con incremento",$I23,0) -> 0 | R23: =IF($H23="Renovación con incremento",$G23,0) -> 0 | S23: =IF(H23="Renovación sin incremento",1,0) -> 1 | T23: =IF($H23="Renovación sin incremento",$I23,0) -> 4176000 | U23: =IF($H23="Cancelación",1,0) -> 0 | V23: =IF($H23="Cancelación",$I23,0) -> 0 | W23: =IF($H23="Cancelación",$G23,0) -> 0
B24: =+B23+1 -> 13 | C24: Campeche | D24: Calle Cordillera N° 34, Departamento 202, Fraccionamiento Lomas de la Eminencia, C.P. 24035, San Francisco de Campeche, Campeche. | E24: Casa Delegado | F24: 13910 | G24: =+F24*12 -> 166920 | H24: Renovación sin incremento | I24: =ROUNDUP(G24,0) -> 166920 | J24: =+I24 -> 166920 | L24: =+K24+J24 -> 166920 | M24: =IF(H24="sustitución",1,0) -> 0 | N24: =IF($H24="sustitución",$I24,0) -> 0 | O24: =IF($H24="sustitución",$G24,0) -> 0 | P24: =IF(H24="Renovación con incremento",1,0) -> 0 | Q24: =IF($H24="Renovación con incremento",$I24,0) -> 0 | R24: =IF($H24="Renovación con incremento",$G24,0) -> 0 | S24: =IF(H24="Renovación sin incremento",1,0) -> 1 | T24: =IF($H24="Renovación sin incremento",$I24,0) -> 166920 | U24: =IF($H24="Cancelación",1,0) -> 0 | V24: =IF($H24="Cancelación",$I24,0) -> 0 | W24: =IF($H24="Cancelación",$G24,0) -> 0
B25: =+B24+1 -> 14 | C25: Coahuila | D25: Boulevard Constitución, esquina Calle Jiménez, Zona Centro, C.P. 27080, Torreón, Coahuila | E25: Unidad de Medicina Familiar No. 80 | F25: 183860 | G25: =+F25*12*1.16 -> 2559331.2 | H25: Renovación con incremento | I25: =ROUNDUP(G25*1.1,0) -> 2815265 | M25: =IF(H25="sustitución",1,0) -> 0 | N25: =IF($H25="sustitución",$I25,0) -> 0 | O25: =IF($H25="sustitución",$G25,0) -> 0 | P25: =IF(H25="Renovación con incremento",1,0) -> 1 | Q25: =IF($H25="Renovación con incremento",$I25,0) -> 2815265 | R25: =IF($H25="Renovación con incremento",$G25,0) -> 2559331.2 | S25: =IF(H25="Renovación sin incremento",1,0) -> 0 | T25: =IF($H25="Renovación sin incremento",$I25,0) -> 0 | U25: =IF($H25="Cancelación",1,0) -> 0 | V25: =IF($H25="Cancelación",$I25,0) -> 0 | W25: =IF($H25="Cancelación",$G25,0) -> 0
B26: =+B25+1 -> 15 | C26: Coahuila | D26: Boulevard Isidro López Zertuche No. 2791-B, Colonia Universidad, C.P. 25260, Saltillo, Coahuila | E26: Oficinas Administrativas Subdelegacionales | F26: 163275 | G26: =+F26*12*1.16 -> 2272788 | H26: Renovación con incremento | I26: =ROUNDUP(G26*1.1,0) -> 2500067 | M26: =IF(H26="sustitución",1,0) -> 0 | N26: =IF($H26="sustitución",$I26,0) -> 0 | O26: =IF($H26="sustitución",$G26,0) -> 0 | P26: =IF(H26="Renovación con incremento",1,0) -> 1 | Q26: =IF($H26="Renovación con incremento",$I26,0) -> 2500067 | R26: =IF($H26="Renovación con incremento",$G26,0) -> 2272788 | S26: =IF(H26="Renovación sin incremento",1,0) -> 0 | T26: =IF($H26="Renovación sin incremento",$I26,0) -> 0 | U26: =IF($H26="Cancelación",1,0) -> 0 | V26: =IF($H26="Cancelación",$I26,0) -> 0 | W26: =IF($H26="Cancelación",$G26,0) -> 0
B27: =+B26+1 -> 16 | C27: Coahuila | D27: Boulevard Independencia y Calle Leona Vicario S/N, C.P. 27000, Torreón, Coahuila | E27: Oficinas Administrativas Subdelegacionales | F27: 363189.65 | G27: =+F27*12*1.16 -> 5055599.9 | H27: Renovación con incremento | I27: =ROUNDUP(G27*1.1,0) -> 5561160 | M27: =IF(H27="sustitución",1,0) -> 0 | N27: =IF($H27="sustitución",$I27,0) -> 0 | O27: =IF($H27="sustitución",$G27,0) -> 0 | P27: =IF(H27="Renovación con incremento",1,0) -> 1 | Q27: =IF($H27="Renovación con incremento",$I27,0) -> 5561160 | R27: =IF($H27="Renovación con incremento",$G27,0) -> 5055599.9 | S27: =IF(H27="Renovación sin incremento",1,0) -> 0 | T27: =IF($H27="Renovación sin incremento",$I27,0) -> 0 | U27: =IF($H27="Cancelación",1,0) -> 0 | V27: =IF($H27="Cancelación",$I27,0) -> 0 | W27: =IF($H27="Cancelación",$G27,0) -> 0
B28: =+B27+1 -> 17 | C28: Coahuila | D28: Boulevard Benito Juárez No. 523, Colonia Roma, C.P. 25000, Monclova, Coahuila | E28: Tienda | F28: 92308 | G28: =+F28*12*1.16 -> 1284927.4 | H28: Renovación con incremento | I28: =ROUNDUP(G28*1.1,0) -> 1413421 | M28: =IF(H28="sustitución",1,0) -> 0 | N28: =IF($H28="sustitución",$I28,0) -> 0 | O28: =IF($H28="sustitución",$G28,0) -> 0 | P28: =IF(H28="Renovación con incremento",1,0) -> 1 | Q28: =IF($H28="Renovación con incremento",$I28,0) -> 1413421 | R28: =IF($H28="Renovación con incremento",$G28,0) -> 1284927.4 | S28: =IF(H28="Renovación sin incremento",1,0) -> 0 | T28: =IF($H28="Renovación sin incremento",$I28,0) -> 0 | U28: =IF($H28="Cancelación",1,0) -> 0 | V28: =IF($H28="Cancelación",$I28,0) -> 0 | W28: =IF($H28="Cancelación",$G28,0) -> 0
B29: =+B28+1 -> 18 | C29: Coahuila | D29: Calle Presidente Cárdenas No. 197 Oriente, Zona Centro, C.P. 25000, Saltillo, Coahuila | E29: Tienda | F29: 89533 | G29: =+F29*12*1.16 -> 1246299.4 | H29: Renovación con incremento | I29: =ROUNDUP(G29*1.1,0) -> 1370930 | M29: =IF(H29="sustitución",1,0) -> 0 | N29: =IF($H29="sustitución",$I29,0) -> 0 | O29: =IF($H29="sustitución",$G29,0) -> 0 | P29: =IF(H29="Renovación con incremento",1,0) -> 1 | Q29: =IF($H29="Renovación con incremento",$I29,0) -> 1370930 | R29: =IF($H29="Renovación con incremento",$G29,0) -> 1246299.4 | S29: =IF(H29="Renovación sin incremento",1,0) -> 0 | T29: =IF($H29="Renovación sin incremento",$I29,0) -> 0 | U29: =IF($H29="Cancelación",1,0) -> 0 | V29: =IF($H29="Cancelación",$I29,0) -> 0 | W29: =IF($H29="Cancelación",$G29,0) -> 0
B30: =+B29+1 -> 19 | C30: Coahuila | D30: Calle Egipto esquina José Sarmiento S/N, Fraccionamiento Virreyes Obrera, C.P. 25220, Saltillo, Coahuila | E30: Archivo de Concentración y Oficina de Servicios Generales | F30: 83000 | G30: =+F30*12*1.16 -> 1155360 | H30: Renovación con incremento | I30: =ROUNDUP(G30*1.1,0) -> 1270896 | M30: =IF(H30="sustitución",1,0) -> 0 | N30: =IF($H30="sustitución",$I30,0) -> 0 | O30: =IF($H30="sustitución",$G30,0) -> 0 | P30: =IF(H30="Renovación con incremento",1,0) -> 1 | Q30: =IF($H30="Renovación con incremento",$I30,0) -> 1270896 | R30: =IF($H30="Renovación con incremento",$G30,0) -> 1155360 | S30: =IF(H30="Renovación sin incremento",1,0) -> 0 | T30: =IF($H30="Renovación sin incremento",$I30,0) -> 0 | U30: =IF($H30="Cancelación",1,0) -> 0 | V30: =IF($H30="Cancelación",$I30,0) -> 0 | W30: =IF($H30="Cancelación",$G30,0) -> 0
B31: =+B30+1 -> 20 | C31: Coahuila | D31: Carretera Saltillo-Zacatecas Km. 22, Puente La Encantada, C.P. 25950, Saltillo, Coahuila. | E31: Almacen Delegacional | F31: 684000 | G31: =+F31*12*1.16 -> 9521280 | H31: Renovación con incremento | I31: =ROUNDUP(G31*1.1,0) -> 10473408 | J31: =SUM(I25:I31) -> 25405147 | L31: =+K31+J31 -> 25405147 | M31: =IF(H31="sustitución",1,0) -> 0 | N31: =IF($H31="sustitución",$I31,0) -> 0 | O31: =IF($H31="sustitución",$G31,0) -> 0 | P31: =IF(H31="Renovación con incremento",1,0) -> 1 | Q31: =IF($H31="Renovación con incremento",$I31,0) -> 10473408 | R31: =IF($H31="Renovación con incremento",$G31,0) -> 9521280 | S31: =IF(H31="Renovación sin incremento",1,0) -> 0 | T31: =IF($H31="Renovación sin incremento",$I31,0) -> 0 | U31: =IF($H31="Cancelación",1,0) -> 0 | V31: =IF($H31="Cancelación",$I31,0) -> 0 | W31: =IF($H31="Cancelación",$G31,0) -> 0
B32: =+B31+1 -> 21 | C32: Colima | D32: Avenida de los Maestros No. 324, Colonia Huertas del Sol, C.P. 28050, Colima, Colima | E32: Centro de Capacitación | F32: 19762.3 | G32: =+F32*12*1.16 -> 275091.22 | H32: Renovación con incremento | I32: =ROUNDUP(G32*1.1,0) -> 302601 | M32: =IF(H32="sustitución",1,0) -> 0 | N32: =IF($H32="sustitución",$I32,0) -> 0 | O32: =IF($H32="sustitución",$G32,0) -> 0 | P32: =IF(H32="Renovación con incremento",1,0) -> 1 | Q32: =IF($H32="Renovación con incremento",$I32,0) -> 302601 | R32: =IF($H32="Renovación con incremento",$G32,0) -> 275091.22 | S32: =IF(H32="Renovación sin incremento",1,0) -> 0 | T32: =IF($H32="Renovación sin incremento",$I32,0) -> 0 | U32: =IF($H32="Cancelación",1,0) -> 0 | V32: =IF($H32="Cancelación",$I32,0) -> 0 | W32: =IF($H32="Cancelación",$G32,0) -> 0
B33: =+B32+1 -> 22 | C33: Colima | D33: Calle 5 de Mayo No. 33, Colonia Centro, C.P. 28100, Tecomán, Colima | E33: Oficinas Administrativas Subdelegacionales | F33: 14015.57 | G33: =+F33*12*1.16 -> 195096.73 | H33: Sustitución | I33: =ROUNDUP(+G33*1.15,0) -> 224362 | M33: =IF(H33="sustitución",1,0) -> 1 | N33: =IF($H33="sustitución",$I33,0) -> 224362 | O33: =IF($H33="sustitución",$G33,0) -> 195096.73 | P33: =IF(H33="Renovación con incremento",1,0) -> 0 | Q33: =IF($H33="Renovación con incremento",$I33,0) -> 0 | R33: =IF($H33="Renovación con incremento",$G33,0) -> 0 | S33: =IF(H33="Renovación sin incremento",1,0) -> 0 | T33: =IF($H33="Renovación sin incremento",$I33,0) -> 0 | U33: =IF($H33="Cancelación",1,0) -> 0 | V33: =IF($H33="Cancelación",$I33,0) -> 0 | W33: =IF($H33="Cancelación",$G33,0) -> 0 | Y33: 800400 | Z33: 1
B34: =+B33+1 -> 23 | C34: Colima | D34: Calle Lic. Gustavo Díaz Ordaz No. 120, Colonia El Moralete, C.P. 28060, Colima, Colima | E34: Tienda | F34: 50000 | G34: =+F34*12*1.16 -> 696000 | H34: Renovación con incremento | I34: =ROUNDUP(G34*1.1,0) -> 765600 | M34: =IF(H34="sustitución",1,0) -> 0 | N34: =IF($H34="sustitución",$I34,0) -> 0 | O34: =IF($H34="sustitución",$G34,0) -> 0 | P34: =IF(H34="Renovación con incremento",1,0) -> 1 | Q34: =IF($H34="Renovación con incremento",$I34,0) -> 765600 | R34: =IF($H34="Renovación con incremento",$G34,0) -> 696000 | S34: =IF(H34="Renovación sin incremento",1,0) -> 0 | T34: =IF($H34="Renovación sin incremento",$I34,0) -> 0 | U34: =IF($H34="Cancelación",1,0) -> 0 | V34: =IF($H34="Cancelación",$I34,0) -> 0 | W34: =IF($H34="Cancelación",$G34,0) -> 0
B35: =+B34+1 -> 24 | C35: Colima | D35: Calle León Felipe No. 346, Colonia Real Vista Hermosa II, C.P. 28018, Colima, Colima. | E35: Casa Delegado | F35: 20800 | G35: =+F35*12 -> 249600 | H35: Renovación con incremento | I35: =ROUNDUP(G35*1.1,0) -> 274560 | M35: =IF(H35="sustitución",1,0) -> 0 | N35: =IF($H35="sustitución",$I35,0) -> 0 | O35: =IF($H35="sustitución",$G35,0) -> 0 | P35: =IF(H35="Renovación con incremento",1,0) -> 1 | Q35: =IF($H35="Renovación con incremento",$I35,0) -> 274560 | R35: =IF($H35="Renovación con incremento",$G35,0) -> 249600 | S35: =IF(H35="Renovación sin incremento",1,0) -> 0 | T35: =IF($H35="Renovación sin incremento",$I35,0) -> 0 | U35: =IF($H35="Cancelación",1,0) -> 0 | V35: =IF($H35="Cancelación",$I35,0) -> 0 | W35: =IF($H35="Cancelación",$G35,0) -> 0
B36: =+B35+1 -> 25 | C36: Colima | D36: Avenida de los Deportistas No. 1144, Colonia El Tecolote, C.P. 28090, Colima, Colima. | E36: Sub-almacén | F36: 85000 | G36: =+F36*12*1.16 -> 1183200 | H36: Renovación con incremento | I36: =ROUNDUP(G36*1.1,0) -> 1301520 | J36: =SUM(I32:I36) -> 2868643 | L36: =+K36+J36 -> 2868643 | M36: =IF(H36="sustitución",1,0) -> 0 | N36: =IF($H36="sustitución",$I36,0) -> 0 | O36: =IF($H36="sustitución",$G36,0) -> 0 | P36: =IF(H36="Renovación con incremento",1,0) -> 1 | Q36: =IF($H36="Renovación con incremento",$I36,0) -> 1301520 | R36: =IF($H36="Renovación con incremento",$G36,0) -> 1183200 | S36: =IF(H36="Renovación sin incremento",1,0) -> 0 | T36: =IF($H36="Renovación sin incremento",$I36,0) -> 0 | U36: =IF($H36="Cancelación",1,0) -> 0 | V36: =IF($H36="Cancelación",$I36,0) -> 0 | W36: =IF($H36="Cancelación",$G36,0) -> 0
B37: =+B36+1 -> 26 | C37: Chiapas | D37: 5a. Avenida Oriente S/N Colonia Los Manguitos, antes Calzada a La Ciudad Deportiva S/N, "Panchón Contreras", C.P. 29010, Tuxtla Gutiérrez, Chiapas | E37: Unidad Deportiva | F37: 8118.07 | G37: =+F37*12*1.16 -> 113003.53 | H37: Renovación con incremento | I37: =ROUNDUP(G37*1.1,0) -> 124304 | M37: =IF(H37="sustitución",1,0) -> 0 | N37: =IF($H37="sustitución",$I37,0) -> 0 | O37: =IF($H37="sustitución",$G37,0) -> 0 | P37: =IF(H37="Renovación con incremento",1,0) -> 1 | Q37: =IF($H37="Renovación con incremento",$I37,0) -> 124304 | R37: =IF($H37="Renovación con incremento",$G37,0) -> 113003.53 | S37: =IF(H37="Renovación sin incremento",1,0) -> 0 | T37: =IF($H37="Renovación sin incremento",$I37,0) -> 0 | U37: =IF($H37="Cancelación",1,0) -> 0 | V37: =IF($H37="Cancelación",$I37,0) -> 0 | W37: =IF($H37="Cancelación",$G37,0) -> 0
B38: =+B37+1 -> 27 | C38: Chiapas | D38: 11a. Calle Poniente No. 8-A, Zona Centro, C.P. 30700, Tapachula, Chiapas | E38: Oficinas Administrativas Delegacionales (Jefatura de Prestaciones Médicas, Coordinación de Atención y Orientación al Derechohabiente, y Coordinación de Calidad y Competitividad) | F38: 52800 | G38: =+F38*12*1.16 -> 734976 | H38: Renovación con incremento | I38: =ROUNDUP(G38*1.1,0) -> 808474 | M38: =IF(H38="sustitución",1,0) -> 0 | N38: =IF($H38="sustitución",$I38,0) -> 0 | O38: =IF($H38="sustitución",$G38,0) -> 0 | P38: =IF(H38="Renovación con incremento",1,0) -> 1 | Q38: =IF($H38="Renovación con incremento",$I38,0) -> 808474 | R38: =IF($H38="Renovación con incremento",$G38,0) -> 734976 | S38: =IF(H38="Renovación sin incremento",1,0) -> 0 | T38: =IF($H38="Renovación sin incremento",$I38,0) -> 0 | U38: =IF($H38="Cancelación",1,0) -> 0 | V38: =IF($H38="Cancelación",$I38,0) -> 0 | W38: =IF($H38="Cancelación",$G38,0) -> 0
B39: =+B38+1 -> 28 | C39: Chiapas | D39: Segunda Calle Oriente y Séptima Avenida Sur No. 12, Colonia Centro, C.P. 30700, Tapachula, Chiapas | E39: Tienda No. 12 | F39: 32031 | G39: =+F39*12*1.16 -> 445871.52 | H39: Sustitución | I39: =ROUNDUP(+G39*1.15,0) -> 512753 | M39: =IF(H39="sustitución",1,0) -> 1 | N39: =IF($H39="sustitución",$I39,0) -> 512753 | O39: =IF($H39="sustitución",$G39,0) -> 445871.52 | P39: =IF(H39="Renovación con incremento",1,0) -> 0 | Q39: =IF($H39="Renovación con incremento",$I39,0) -> 0 | R39: =IF($H39="Renovación con incremento",$G39,0) -> 0 | S39: =IF(H39="Renovación sin incremento",1,0) -> 0 | T39: =IF($H39="Renovación sin incremento",$I39,0) -> 0 | U39: =IF($H39="Cancelación",1,0) -> 0 | V39: =IF($H39="Cancelación",$I39,0) -> 0 | W39: =IF($H39="Cancelación",$G39,0) -> 0 | Y39: =G39 -> 445871.52 | AA39: RENOV SIN INCREMENTO
B40: =+B39+1 -> 29 | C40: Chiapas | D40: Calle Central Sur No. 1989, Colonia San Francisco, C.P. 29000, Tuxtla Gutiérrez, Chiapas | E40: Tienda No. 13 | F40: 50000 | G40: =+F40*12*1.16 -> 696000 | H40: Renovación con incremento | I40: =ROUNDUP(G40*1.1,0) -> 765600 | M40: =IF(H40="sustitución",1,0) -> 0 | N40: =IF($H40="sustitución",$I40,0) -> 0 | O40: =IF($H40="sustitución",$G40,0) -> 0 | P40: =IF(H40="Renovación con incremento",1,0) -> 1 | Q40: =IF($H40="Renovación con incremento",$I40,0) -> 765600 | R40: =IF($H40="Renovación con incremento",$G40,0) -> 696000 | S40: =IF(H40="Renovación sin incremento",1,0) -> 0 | T40: =IF($H40="Renovación sin incremento",$I40,0) -> 0 | U40: =IF($H40="Cancelación",1,0) -> 0 | V40: =IF($H40="Cancelación",$I40,0) -> 0 | W40: =IF($H40="Cancelación",$G40,0) -> 0
B41: =+B40+1 -> 30 | C41: Chiapas | D41: Avenida Carlos Maciel No. 119, Fraccionamiento Santos (San Roque), C.P. 29040, Tuxtla Gutiérrez, Chiapas | E41: Archivo de Concentración | F41: 39000 | G41: =+F41*12*1.16 -> 542880 | H41: Renovación con incremento | I41: =ROUNDUP(G41*1.1,0) -> 597168 | M41: =IF(H41="sustitución",1,0) -> 0 | N41: =IF($H41="sustitución",$I41,0) -> 0 | O41: =IF($H41="sustitución",$G41,0) -> 0 | P41: =IF(H41="Renovación con incremento",1,0) -> 1 | Q41: =IF($H41="Renovación con incremento",$I41,0) -> 597168 | R41: =IF($H41="Renovación con incremento",$G41,0) -> 542880 | S41: =IF(H41="Renovación sin incremento",1,0) -> 0 | T41: =IF($H41="Renovación sin incremento",$I41,0) -> 0 | U41: =IF($H41="Cancelación",1,0) -> 0 | V41: =IF($H41="Cancelación",$I41,0) -> 0 | W41: =IF($H41="Cancelación",$G41,0) -> 0
B42: =+B41+1 -> 31 | C42: Chiapas | D42: 2a. Calle Sur Poniente esquina Calle Privada No. 188, Barrio de las Flores, C.P. 30019, Comitán de Domínguez, Chiapas. | E42: Oficinas Administrativas | F42: 9000 | G42: =+F42*12*1.16 -> 125280 | H42: Renovación con incremento | I42: =ROUNDUP(G42*1.1,0) -> 137808 | M42: =IF(H42="sustitución",1,0) -> 0 | N42: =IF($H42="sustitución",$I42,0) -> 0 | O42: =IF($H42="sustitución",$G42,0) -> 0 | P42: =IF(H42="Renovación con incremento",1,0) -> 1 | Q42: =IF($H42="Renovación con incremento",$I42,0) -> 137808 | R42: =IF($H42="Renovación con incremento",$G42,0) -> 125280 | S42: =IF(H42="Renovación sin incremento",1,0) -> 0 | T42: =IF($H42="Renovación sin incremento",$I42,0) -> 0 | U42: =IF($H42="Cancelación",1,0) -> 0 | V42: =IF($H42="Cancelación",$I42,0) -> 0 | W42: =IF($H42="Cancelación",$G42,0) -> 0
...

Sheet Resumen
I1: Presupuesto Ajustado 2027 | V1: Proyecciones no consideradas
