Workbook
Name Base: AVANCE060826!$A$10:$L$3170

Sheet CONSOL
A1: INSTITUTO MEXICANO DEL SEGURO SOCIAL
A2: DIRECCIÓN DE ADMINISTRACIÓN
A3: UNIDAD DE ADMINISTRACIÓN
A4: COORDINACIÓN DE CONSERVACIÓN Y SERVICIOS GENERALES
A5: COORDINACIÓN TÉCNICA DE ADMINISTRACIÓN DE ACTIVOS
A6: DIVISIÓN DE ARRENDAMIENTO Y COMERCIALIZACIÓN
A7: EJERCICIO 2026
E8: AL: | F8: =RIGHT(AVANCE060826!C1,11) -> 07/10/2026
A9: Órgano de Operación Administrativa Desconcentrado | B9: Inmuebles Arrendados | C9: PRESUPUESTO AL PERIODO | F9: VARIACIÓN | H9: AVANCE % | I9: OBSERVACIONES
C10: ASIGNADO ANUAL | D10: CALENDARIZADO (1) | E10: EJERCIDO (2) | F10: IMPORTE 3=(1-2) | G10: % 4=(3/1)*100
A11: AGUASCALIENTES | B11: =+[1]AGS!$B$18 -> 6 | C11: ='AGS '!F18 -> 13670292 | D11: ='AGS '!H18 -> 10249560 | E11: ='AGS '!I18 -> 9109269.3 | F11: =D11-E11 -> 1140290.7 | G11: =IF(E11=0,0,+F11/D11*100) -> 11.125265 | H11: =IF(E11=0,0,+E11/D11*100) -> 88.874735 | I11: Registra pagos al mes de agosto, pendiente el mes de septiembre
A12: BAJA CALIFORNIA | B12: =+[2]BC!$B$14 -> 1 | C12: =BC!F14 -> 4593600 | D12: =BC!H14 -> 3445200 | E12: =BC!I14 -> 3062400 | F12: =D12-E12 -> 382800 | G12: =IF(E12=0,0,+F12/D12*100) -> 11.111111 | H12: =IF(E12=0,0,+E12/D12*100) -> 88.888889
A13: BAJA CALIFORNIA SUR | B13: =+'[3]BCS '!$B$17 -> 5 | C13: ='BCS '!F17 -> 5760825.6 | D13: ='BCS '!H17 -> 4320621 | E13: ='BCS '!I17 -> 3933484.3 | F13: =D13-E13 -> 387136.74 | G13: =IF(E13=0,0,+F13/D13*100) -> 8.9602106 | H13: =IF(E13=0,0,+E13/D13*100) -> 91.039789
A14: CAMPECHE | B14: =+[4]CAM!$B$13 -> 1 | C14: =CAM!F13 -> 160550 | D14: =CAM!H13 -> 117000 | E14: =CAM!I13 -> 104000 | F14: =D14-E14 -> 13000 | G14: =IF(E14=0,0,+F14/D14*100) -> 11.111111 | H14: =IF(E14=0,0,+E14/D14*100) -> 88.888889
A15: COAHUILA | B15: =+[5]COAH!$B$21 -> 7 | C15: =COAH!F21 -> 23746645 | D15: =COAH!H21 -> 17809992 | E15: =COAH!I21 -> 14161948 | F15: =D15-E15 -> 3648043.5 | G15: =IF(E15=0,0,+F15/D15*100) -> 20.483129 | H15: =IF(E15=0,0,+E15/D15*100) -> 79.516871
A16: COLIMA | B16: =+[6]COL!$B$17 -> 5 | C16: =COL!F17 -> 2598987.7 | D16: =COL!H17 -> 1949256 | E16: =COL!I17 -> 1949240.4 | F16: =D16-E16 -> 15.56 | G16: =IF(E16=0,0,+F16/D16*100) -> 0.00079825328 | H16: =IF(E16=0,0,+E16/D16*100) -> 99.999202
A17: CHIAPAS | B17: =+[7]CHIS!$B$24 -> 10 | C17: =CHIS!F24 -> 3083016 | D17: =CHIS!H24 -> 2278287 | E17: =CHIS!I24 -> 1989287.7 | F17: =D17-E17 -> 288999.32 | G17: =IF(E17=0,0,+F17/D17*100) -> 12.684939 | H17: =IF(E17=0,0,+E17/D17*100) -> 87.315061
A18: CHIHUAHUA | B18: =+[8]CHIH!$B$28 -> 16 | C18: =CHIH!F28 -> 6820797.8 | D18: =CHIH!H28 -> 5401333 | E18: =CHIH!I28 -> 4418722.7 | F18: =D18-E18 -> 982610.26 | G18: =IF(E18=0,0,+F18/D18*100) -> 18.191996 | H18: =IF(E18=0,0,+E18/D18*100) -> 81.808004
A19: NIVEL CENTRAL | B19: =+[9]NC!$B$19 -> 7 | C19: =NC!F20 -> 1.6070153e+08 | D19: =NC!H20 -> 1.2456228e+08 | E19: =NC!I20 -> 84903346 | F19: =D19-E19 -> 39658929 | G19: =IF(E19=0,0,+F19/D18*100) -> 734.24337 | H19: =IF(E19=0,0,+E19/D19*100) -> 68.161364
A20: DURANGO | B20: =+[10]DGO!$B$27 -> 12 | C20: =DGO!F27 -> 18811488 | D20: =DGO!H27 -> 14217601 | E20: =DGO!I27 -> 13448302 | F20: =D20-E20 -> 769299.38 | G20: =IF(E20=0,0,+F20/D20*100) -> 5.4108944 | H20: =IF(E20=0,0,+E20/D20*100) -> 94.589106
A21: GUANAJUATO | B21: =+[11]GTO!$B$24 -> 12 | C21: =GTO!F24 -> 8160000 | D21: =GTO!H24 -> 6120000 | E21: =GTO!I24 -> 5288984.6 | F21: =D21-E21 -> 831015.45 | G21: =IF(E21=0,0,+F21/D21*100) -> 13.578684 | H21: =IF(E21=0,0,+E21/D21*100) -> 86.421316 | I21: Registra pagos al mes de agosto, pendiente el mes de septiembre
A22: GUERRERO | B22: =+[12]GRO!$B$19 -> 5 | C22: =GRO!F19 -> 611115.84 | D22: =GRO!H19 -> 458336.88 | E22: =GRO!I19 -> 407407.31 | F22: =D22-E22 -> 50929.57 | G22: =IF(E22=0,0,+F22/D22*100) -> 11.11182 | H22: =IF(E22=0,0,+E22/D22*100) -> 88.88818
A23: HIDALGO | B23: 3 | C23: =HGO!F16 -> 17611862 | D23: =HGO!H16 -> 14482437 | E23: =HGO!I16 -> 11353007 | F23: =D23-E23 -> 3129430.2 | G23: =IF(E23=0,0,+F23/D23*100) -> 21.60845 | H23: =IF(E23=0,0,+E23/D23*100) -> 78.39155 | I23: Registra pagos al mes de agosto, pendiente el mes de septiembre
A24: JALISCO | B24: =+[13]JAL!$B$46 -> 33 | C24: =JAL!F46 -> 36492929 | D24: =JAL!H46 -> 27069663 | E24: =JAL!I46 -> 26537616 | F24: =D24-E24 -> 532046.82 | G24: =IF(E24=0,0,+F24/D24*100) -> 1.9654726 | H24: =IF(E24=0,0,+E24/D24*100) -> 98.034527
A25: ESTADO DE MÉXICO ORIENTE | B25: =+'[14]EDO MEX OTE'!$B$13 -> 1 | C25: ='EDO MEX OTE'!F13 -> 23056542 | D25: ='EDO MEX OTE'!H13 -> 17292411 | E25: ='EDO MEX OTE'!I13 -> 15371028 | F25: =D25-E25 -> 1921383.2 | G25: =IF(E25=0,0,+F25/D25*100) -> 11.111136 | H25: =IF(E25=0,0,+E25/D25*100) -> 88.888864 | I25: Registra pagos al mes de agosto, pendiente el mes de septiembre
A26: ESTADO DE MÉXICO PONIENTE | B26: =+'[15]EDO MEX PTE'!$B$22 -> 9 | C26: ='EDO MEX PTE'!F22 -> 18612408 | D26: ='EDO MEX PTE'!H22 -> 13959306 | E26: ='EDO MEX PTE'!I22 -> 12342134 | F26: =D26-E26 -> 1617171.7 | G26: =IF(E26=0,0,+F26/D26*100) -> 11.5849 | H26: =IF(E26=0,0,+E26/D26*100) -> 88.4151
A27: MICHOACÁN | B27: =+[16]MICH!$B$20 -> 7 | C27: =MICH!F20 -> 4809848.2 | D27: =MICH!H20 -> 3607389 | E27: =MICH!I20 -> 2660360.5 | F27: =D27-E27 -> 947028.52 | G27: =IF(E27=0,0,+F27/D27*100) -> 26.252465 | H27: =IF(E27=0,0,+E27/D27*100) -> 73.747535
A28: MORELOS | B28: =+[17]MOR!$B$16 -> 2 | C28: =MOR!F16 -> 238270.56 | D28: =MOR!H16 -> 178704 | E28: =MOR!I16 -> 158704.94 | F28: =D28-E28 -> 19999.06 | G28: =IF(E28=0,0,+F28/D28*100) -> 11.191165 | H28: =IF(E28=0,0,+E28/D28*100) -> 88.808835 | I28: Registra pagos al mes de agosto, pendiente el mes de septiembre
A29: NAYARIT | B29: =+[18]NAY!$B$14 -> 2 | C29: =NAY!F14 -> 625728 | D29: =NAY!H14 -> 469296 | E29: =NAY!I14 -> 469296 | F29: =D29-E29 -> 0 | G29: =IF(E29=0,0,+F29/D29*100) -> 0 | H29: =IF(E29=0,0,+E29/D29*100) -> 100 | I29: Registra pagos al mes de agosto, pendiente el mes de septiembre
A30: NUEVO LEÓN | B30: =+[19]NL!$B$18 -> 4 | C30: =NL!F18 -> 2689984.6 | D30: =NL!H18 -> 2008923 | E30: =NL!I18 -> 2008911.9 | F30: =D30-E30 -> 11.14 | G30: =IF(E30=0,0,+F30/D30*100) -> 0.00055452598 | H30: =IF(E30=0,0,+E30/D30*100) -> 99.999445 | I30: Registra pagos al mes de agosto, pendiente el mes de septiembre
A31: OAXACA | B31: =+[20]OAX!$B$32 -> 17 | C31: =OAX!F32 -> 13923199 | D31: =OAX!H32 -> 10347693 | E31: =OAX!I32 -> 9560439.5 | F31: =D31-E31 -> 787253.46 | G31: =IF(E31=0,0,+F31/D31*100) -> 7.6080094 | H31: =IF(E31=0,0,+E31/D31*100) -> 92.391991
A32: PUEBLA | B32: =+[21]PUB!$B$22 -> 10 | C32: =PUB!F22 -> 4580850 | D32: =PUB!H22 -> 3397661 | E32: =PUB!I22 -> 3238391 | F32: =D32-E32 -> 159270.03 | G32: =IF(E32=0,0,+F32/D32*100) -> 4.6876375 | H32: =IF(E32=0,0,+E32/D32*100) -> 95.312363
A33: QUERÉTARO | B33: =+[22]QRO!$B$18 -> 6 | C33: =QRO!F18 -> 7961088 | D33: =QRO!H18 -> 5970816 | E33: =QRO!I18 -> 5834836 | F33: =D33-E33 -> 135980.01 | G33: =IF(E33=0,0,+F33/D33*100) -> 2.2774108 | H33: =IF(E33=0,0,+E33/D33*100) -> 97.722589
A34: QUINTANA ROO | B34: =+'[23]Q ROO'!$B$16 -> 4 | C34: ='Q ROO'!F16 -> 6001790 | D34: ='Q ROO'!H16 -> 4134540 | E34: ='Q ROO'!I16 -> 3371263 | F34: =D34-E34 -> 763277.01 | G34: =IF(E34=0,0,+F34/D34*100) -> 18.46099 | H34: =IF(E34=0,0,+E34/D34*100) -> 81.53901
A35: SAN LUIS POTOSÍ | B35: =+[24]SLP!$B$17 -> 5 | C35: =SLP!F17 -> 803085.51 | D35: =SLP!H17 -> 602322.59 | E35: =SLP!I17 -> 552805.03 | F35: =D35-E35 -> 49517.56 | G35: =IF(E35=0,0,+F35/D35*100) -> 8.2211029 | H35: =IF(E35=0,0,+E35/D35*100) -> 91.778897
A36: SINALOA | B36: =+[25]SIN!$B$26 -> 14 | C36: =SIN!F26 -> 11796792 | D36: =SIN!H26 -> 9787202 | E36: =SIN!I26 -> 8749229.6 | F36: =D36-E36 -> 1037972.5 | G36: =IF(E36=0,0,+F36/D36*100) -> 10.605405 | H36: =IF(E36=0,0,+E36/D36*100) -> 89.394595
A37: SONORA | B37: =+[26]SON!$B$29 -> 17 | C37: =SON!F29 -> 16352591 | D37: =SON!H29 -> 12331739 | E37: =SON!I29 -> 10802859 | F37: =D37-E37 -> 1528879.9 | G37: =IF(E37=0,0,+F37/D37*100) -> 12.397926 | H37: =IF(E37=0,0,+E37/D37*100) -> 87.602074
A38: TABASCO | B38: =+[27]TAB!$B$13 -> 1 | C38: =TAB!F13 -> 180000 | D38: =TAB!H13 -> 135000 | E38: =TAB!I13 -> 120000 | F38: =D38-E38 -> 15000 | G38: =IF(E38=0,0,+F38/D38*100) -> 11.111111 | H38: =IF(E38=0,0,+E38/D38*100) -> 88.888889 | I38: Registra pagos al mes de agosto, pendiente el mes de septiembre
A39: TAMAULIPAS | B39: =+[28]TAMS!$B$23 -> 10 | C39: =TAMS!F23 -> 4380423.5 | D39: =TAMS!H23 -> 3275146.7 | E39: =TAMS!I23 -> 2918919.9 | F39: =D39-E39 -> 356226.76 | G39: =IF(E39=0,0,+F39/D39*100) -> 10.876666 | H39: =IF(E39=0,0,+E39/D39*100) -> 89.123334
A40: TLAXCALA | B40: =+[29]TLAX!$B$14 -> 2 | C40: =TLAX!F14 -> 2311811 | D40: =TLAX!H14 -> 1733859 | E40: =TLAX!I14 -> 1541189.4 | F40: =D40-E40 -> 192669.56 | G40: =IF(E40=0,0,+F40/D40*100) -> 11.112182 | H40: =IF(E40=0,0,+E40/D40*100) -> 88.887818 | I40: Registra pagos al mes de agosto, pendiente el mes de septiembre
...

Sheet AGS 
D1: INSTITUTO MEXICANO DEL SEGURO SOCIAL
D2: DIRECCIÓN DE ADMINISTRACIÓN
D3: UNIDAD DE ADMINISTRACIÓN
D4: COORDINACIÓN DE CONSERVACIÓN Y SERVICIOS GENERALES
D5: COORDINACIÓN TÉCNICA DE ADMINISTRACIÓN DE ACTIVOS
D6: DIVISIÓN DE ARRENDAMIENTO Y COMERCIALIZACIÓN
D7: EJERCICIO 2026
D8: OOAD: | E8: AGUASCALIENTES
A10: CLAV E PREI | C10: UNIDAD | D10: DIRECCIÓN | E10: DESTINO | F10: ASIGNADO ANUAL | G10: Renta Mensual | H10: PRESUPUESTO AL PERIODO | J10: VARIACIÓN | L10: AVANCE % | M10: OBSERVACIONES
A11: U.I. | B11: C.C. | H11: CALENDARIZADO (1) | I11: EJERCIDO (2) | J11: IMPORTE 3=(1-2) | K11: % 4=(3/1)*100
A12: 019101 | B12: 900110 | D12: Boulevard a Zacatecas No. 701, Fracc. las Hadas, C.P. 20140 | E12: Oficinas Administrativas de la Subdelegación Metropolitana Norte | F12: =AGS_Calendario!F14 -> 2082430 | G12: 173535 | H12: =AGS_Calendario!T14 -> 1561824 | I12: =AGS_Calendario!T15 -> 1388280 | J12: =H12-I12 -> 173544 | K12: =+J12/H12*100 -> 11.111623 | L12: =+I12/H12*100 -> 88.888377 | M12: Registra pagos al mes de agosto.
A13: 019102 | B13: 900110 | D13: Calle Ecuador No. 205, Planta Baja, Aguascalientes | E13: Oficinas Administrativas de la Subdelegación Metropolitana Sur | F13: =AGS_Calendario!F16 -> 1317266.6 | G13: 109771.38 | H13: =AGS_Calendario!T16 -> 987957 | I13: =AGS_Calendario!T17 -> 878171.52 | J13: =H13-I13 -> 109785.48 | K13: =+J13/H13*100 -> 11.112374 | L13: =+I13/H13*100 -> 88.887626 | M13: Registra pagos al mes de agosto.
A14: 015801 | B14: 800201 | D14: Calle Ecuador No. 205, Planta Alta, Aguascalientes | E14: Centro de Capacitación | F14: =AGS_Calendario!F18 -> 815859.2 | G14: 67987.6 | H14: =AGS_Calendario!T18 -> 611901 | I14: =AGS_Calendario!T19 -> 543901.16 | J14: =H14-I14 -> 67999.84 | K14: =+J14/H14*100 -> 11.112883 | L14: =+I14/H14*100 -> 88.887117 | M14: Registra pagos al mes de agosto.
A15: 019001 | B15: 150100 | D15: Calle Julio Díaz Torre N° 105, Lote 3, Manzana 28 Interior D y E, Fraccionamiento Ciudad Industrial, C.P. 20290, Aguascalientes. | E15: Almacén Delegacional, Oficinas de la Coordinación Delegacional, Bod. Bienes Emb. y Arch. Conc. | F15: =AGS_Calendario!F20 -> 8092938.4 | G15: 674768.47 | H15: =AGS_Calendario!T20 -> 6069708 | I15: =AGS_Calendario!T21 -> 5395289.4 | J15: =H15-I15 -> 674418.64 | K15: =+J15/H15*100 -> 11.111221 | L15: =+I15/H15*100 -> 88.888779 | M15: Registra pagos al mes de agosto.
A16: 018101 | B16: 150904 | D16: Calle Mangana No. 201, fraccionamiento Vista Alegre, Aguascalientes, Aguascalientes | E16: Bodega de Bienes Embargados | F16: =AGS_Calendario!F22 -> 1044000 | G16: 87000 | H16: =AGS_Calendario!T22 -> 783000 | I16: =AGS_Calendario!T23 -> 695999.84 | J16: =H16-I16 -> 87000.16 | K16: =+J16/H16*100 -> 11.111132 | L16: =+I16/H16*100 -> 88.888868 | M16: Registra pagos al mes de agosto.
A17: 019001 | B17: 050100 | D17: Avenida Arroyio del Molino No. 301, casa 163, Fraccionamiento Real del Molino, Jesús María, Aguascalientes | E17: Casa Habitación TOOAD | F17: =+AGS_Calendario!F24 -> 317797.5 | G17: 25000 | H17: =AGS_Calendario!T24 -> 235170 | I17: =AGS_Calendario!T25 -> 207627.45 | J17: =H17-I17 -> 27542.55 | K17: =+J17/H17*100 -> 11.711762 | L17: =+I17/H17*100 -> 88.288238 | M17: Registra pagos al mes de agosto.
B18: 6 | C18: =COUNT(C13:C17) -> 0 | F18: =SUM(F12:F17) -> 13670292 | G18: =SUM(G12:G17) -> 1138062.4 | H18: =SUM(H12:H17) -> 10249560 | I18: =SUM(I12:I17) -> 9109269.3 | J18: =H18-I18 -> 1140290.7 | K18: =+J18/H18*100 -> 11.125265 | L18: =+I18/H18*100 -> 88.874735

Sheet AGS_Calendario
F1: INSTITUTO MEXICANO DEL SEGURO SOCIAL
F2: DIRECCIÓN DE ADMINISTRACIÓN
F3: UNIDAD DE ADMINISTRACIÓN
F4: COORDINACIÓN DE CONSERVACIÓN Y SERVICIOS GENERALES
F5: COORDINACIÓN TÉCNICA DE ADMINISTRACIÓN DE ACTIVOS
F6: DIVISIÓN DE ARRENDAMIENTO Y COMERCIALIZACIÓN
D8: EJERCICIO 2026
D9: OOAD: | E9: AGUASCALIENTES
I11: 2026M02 | J11: 2026M03 | K11: 2026M04 | L11: 2026M05 | M11: 2026M06 | N11: 2026M07 | O11: 2026M08 | P11: 2026M09 | Q11: 2026M10 | R11: 2026M11 | S11: 2026M12
B12: CLAV E PREI | C12: UNIDAD | D12: DIRECCIÓN | E12: DESTINO | F12: ASIGNADO ANUAL | H12: Enero | I12: Febrero | J12: Marzo | K12: Abril | L12: Mayo | M12: Junio | N12: Julio | O12: Agosto | P12: Septiembre | Q12: Octubre | R12: Noviembre | S12: Diciembre | U12: OBSERVACIONES
A13: C.C. | B13: U.I. | T13: Total
A14: 900110 | B14: 19101 | D14: Boulevard a Zacatecas No. 701, Fracc. las Hadas, C.P. 20140 | E14: Oficinas Administrativas de la Subdelegación Metropolitana Norte | F14: =SUM(H14:S14) -> 2082430 | G14: Asignado | I14: =VLOOKUP($A14&$B14&I$11,Base,8,FALSE) -> 0 | J14: =VLOOKUP($A14&$B14&J$11,Base,8,FALSE) -> 0 | K14: =VLOOKUP($A14&$B14&K$11,Base,8,FALSE) -> 347070 | L14: =VLOOKUP($A14&$B14&L$11,Base,8,FALSE) -> 347070 | M14: =VLOOKUP($A14&$B14&M$11,Base,8,FALSE) -> 173535 | N14: =VLOOKUP($A14&$B14&N$11,Base,8,FALSE) -> 173535 | O14: =VLOOKUP($A14&$B14&O$11,Base,8,FALSE) -> 173535 | P14: =VLOOKUP($A14&$B14&P$11,Base,8,FALSE) -> 173535 | ... S14: =VLOOKUP($A14&$B14&S$11,Base,8,FALSE) -> 347070 | T14: =SUM($H14:(OFFSET($H14,0,AVANCE060826!$T$2))) -> 1561824
A15: 900110 | B15: 19101 | G15: Ejercido | I15: =VLOOKUP($A$15&$B$15&I11,Base,9,FALSE) -> 0 | J15: =VLOOKUP($A$15&$B$15&J11,Base,9,FALSE) -> 0 | K15: =VLOOKUP($A$15&$B$15&K11,Base,9,FALSE) -> 347070 | L15: =VLOOKUP($A$15&$B$15&L11,Base,9,FALSE) -> 347070 | M15: =VLOOKUP($A$15&$B$15&M11,Base,9,FALSE) -> 173535 | N15: =VLOOKUP($A$15&$B$15&N11,Base,9,FALSE) -> 173535 | O15: =VLOOKUP($A$15&$B$15&O11,Base,9,FALSE) -> 173535 | P15: =VLOOKUP($A$15&$B$15&P11,Base,9,FALSE) -> 173535 | ... S15: =VLOOKUP($A$15&$B$15&S11,Base,9,FALSE) -> 0 | T15: =SUM(H15:S15) -> 1388280
A16: 900110 | B16: 19102 | D16: Calle Ecuador No. 205, Planta Baja, Aguascalientes | E16: Oficinas Administrativas de la Subdelegación Metropolitana Sur | F16: =SUM(H16:S16) -> 1317266.6 | G16: Asignado | I16: =VLOOKUP($A16&$B16&I$11,Base,8,FALSE) -> 0 | J16: =VLOOKUP($A16&$B16&J$11,Base,8,FALSE) -> 0 | K16: =VLOOKUP($A16&$B16&K$11,Base,8,FALSE) -> 329314.32 | L16: =VLOOKUP($A16&$B16&L$11,Base,8,FALSE) -> 0 | M16: =VLOOKUP($A16&$B16&M$11,Base,8,FALSE) -> 219542.88 | N16: =VLOOKUP($A16&$B16&N$11,Base,8,FALSE) -> 109771.44 | O16: =VLOOKUP($A16&$B16&O$11,Base,8,FALSE) -> 109771.44 | P16: =VLOOKUP($A16&$B16&P$11,Base,8,FALSE) -> 109771.44 | ... S16: =VLOOKUP($A16&$B16&S$11,Base,8,FALSE) -> 219536.56 | T16: =SUM($H16:(OFFSET($H16,0,AVANCE060826!$T$2))) -> 987957
A17: 900110 | B17: 19102 | G17: Ejercido | I17: =VLOOKUP($A17&$B17&I$11,Base,9,FALSE) -> 0 | J17: =VLOOKUP($A17&$B17&J$11,Base,9,FALSE) -> 0 | K17: =VLOOKUP($A17&$B17&K$11,Base,9,FALSE) -> 329314.32 | L17: =VLOOKUP($A17&$B17&L$11,Base,9,FALSE) -> 0 | M17: =VLOOKUP($A17&$B17&M$11,Base,9,FALSE) -> 219542.88 | N17: =VLOOKUP($A17&$B17&N$11,Base,9,FALSE) -> 109771.44 | O17: =VLOOKUP($A17&$B17&O$11,Base,9,FALSE) -> 109771.44 | P17: =VLOOKUP($A17&$B17&P$11,Base,9,FALSE) -> 109771.44 | ... S17: =VLOOKUP($A17&$B17&S$11,Base,9,FALSE) -> 0 | T17: =SUM(H17:S17) -> 878171.52
A18: 800201 | B18: 15801 | D18: Calle Ecuador No. 205, Planta Alta, Aguascalientes | E18: Centro de Capacitación | F18: =SUM(H18:S18) -> 815859.2 | G18: Asignado | I18: =VLOOKUP($A18&$B18&I$11,Base,8,FALSE) -> 0 | J18: =VLOOKUP($A18&$B18&J$11,Base,8,FALSE) -> 0 | K18: =VLOOKUP($A18&$B18&K$11,Base,8,FALSE) -> 203962.92 | L18: =VLOOKUP($A18&$B18&L$11,Base,8,FALSE) -> 67987.64 | M18: =VLOOKUP($A18&$B18&M$11,Base,8,FALSE) -> 67987.64 | N18: =VLOOKUP($A18&$B18&N$11,Base,8,FALSE) -> 67987.64 | O18: =VLOOKUP($A18&$B18&O$11,Base,8,FALSE) -> 67987.64 | P18: =VLOOKUP($A18&$B18&P$11,Base,8,FALSE) -> 67987.68 | ... S18: =VLOOKUP($A18&$B18&S$11,Base,8,FALSE) -> 135969.2 | T18: =SUM($H18:(OFFSET($H18,0,AVANCE060826!$T$2))) -> 611901
A19: 800201 | B19: 15801 | G19: Ejercido | I19: =VLOOKUP($A19&$B19&I$11,Base,9,FALSE) -> 0 | J19: =VLOOKUP($A19&$B19&J$11,Base,9,FALSE) -> 0 | K19: =VLOOKUP($A19&$B19&K$11,Base,9,FALSE) -> 203962.92 | L19: =VLOOKUP($A19&$B19&L$11,Base,9,FALSE) -> 67987.64 | M19: =VLOOKUP($A19&$B19&M$11,Base,9,FALSE) -> 67987.64 | N19: =VLOOKUP($A19&$B19&N$11,Base,9,FALSE) -> 67987.64 | O19: =VLOOKUP($A19&$B19&O$11,Base,9,FALSE) -> 67987.64 | P19: =VLOOKUP($A19&$B19&P$11,Base,9,FALSE) -> 67987.68 | ... S19: =VLOOKUP($A19&$B19&S$11,Base,9,FALSE) -> 0 | T19: =SUM(H19:S19) -> 543901.16
A20: 150100 | B20: 19001 | D20: Calle Julio Díaz Torre N° 105, Lote 3, Manzana 28 Interior D y E, Fraccionamiento Ciudad Industrial, C.P. 20290, Aguascalientes. | E20: Almacén Delegacional, Oficinas de la Coordinación Delegacional, Bod. Bienes Emb. y Arch. Conc. | F20: =SUM(H20:S20) -> 8092938.4 | G20: Asignado | I20: =VLOOKUP($A20&$B20&I$11,Base,8,FALSE) -> 0 | J20: =VLOOKUP($A20&$B20&J$11,Base,8,FALSE) -> 1162778 | K20: =VLOOKUP($A20&$B20&K$11,Base,8,FALSE) -> 860455.47 | L20: =VLOOKUP($A20&$B20&L$11,Base,8,FALSE) -> 674411.17 | M20: =VLOOKUP($A20&$B20&M$11,Base,8,FALSE) -> 674411.17 | N20: =VLOOKUP($A20&$B20&N$11,Base,8,FALSE) -> 674411.17 | O20: =VLOOKUP($A20&$B20&O$11,Base,8,FALSE) -> 0 | P20: =VLOOKUP($A20&$B20&P$11,Base,8,FALSE) -> 1348822.3 | ... S20: =VLOOKUP($A20&$B20&S$11,Base,8,FALSE) -> 1348818.4 | T20: =SUM($H20:(OFFSET($H20,0,AVANCE060826!$T$2))) -> 6069708
A21: 150100 | B21: 19001 | G21: Ejercido | I21: =VLOOKUP($A21&$B21&I$11,Base,9,FALSE) -> 0 | J21: =VLOOKUP($A21&$B21&J$11,Base,9,FALSE) -> 1162778 | K21: =VLOOKUP($A21&$B21&K$11,Base,9,FALSE) -> 860455.47 | L21: =VLOOKUP($A21&$B21&L$11,Base,9,FALSE) -> 674411.17 | M21: =VLOOKUP($A21&$B21&M$11,Base,9,FALSE) -> 674411.17 | N21: =VLOOKUP($A21&$B21&N$11,Base,9,FALSE) -> 674411.17 | O21: =VLOOKUP($A21&$B21&O$11,Base,9,FALSE) -> 0 | P21: =VLOOKUP($A21&$B21&P$11,Base,9,FALSE) -> 1348822.3 | ... S21: =VLOOKUP($A21&$B21&S$11,Base,9,FALSE) -> 0 | T21: =SUM(H21:S21) -> 5395289.4
A22: 150904 | B22: 18101 | D22: Calle Mangana No. 201, fraccionamiento Vista Alegre, Aguascalientes, Aguascalientes | E22: Bodega de Bienes Embargados | F22: =SUM(H22:S22) -> 1044000 | G22: Asignado | I22: =VLOOKUP($A22&$B22&I$11,Base,8,FALSE) -> 0 | J22: =VLOOKUP($A22&$B22&J$11,Base,8,FALSE) -> 0 | K22: =VLOOKUP($A22&$B22&K$11,Base,8,FALSE) -> 0 | L22: =VLOOKUP($A22&$B22&L$11,Base,8,FALSE) -> 260999.94 | M22: =VLOOKUP($A22&$B22&M$11,Base,8,FALSE) -> 173999.96 | N22: =VLOOKUP($A22&$B22&N$11,Base,8,FALSE) -> 86999.98 | O22: =VLOOKUP($A22&$B22&O$11,Base,8,FALSE) -> 86999.98 | P22: =VLOOKUP($A22&$B22&P$11,Base,8,FALSE) -> 86999.98 | ... S22: =VLOOKUP($A22&$B22&S$11,Base,8,FALSE) -> 174000 | T22: =SUM($H22:(OFFSET($H22,0,AVANCE060826!$T$2))) -> 783000
A23: 150904 | B23: 18101 | G23: Ejercido | I23: =VLOOKUP($A23&$B23&I$11,Base,9,FALSE) -> 0 | J23: =VLOOKUP($A23&$B23&J$11,Base,9,FALSE) -> 0 | K23: =VLOOKUP($A23&$B23&K$11,Base,9,FALSE) -> 0 | L23: =VLOOKUP($A23&$B23&L$11,Base,9,FALSE) -> 260999.94 | M23: =VLOOKUP($A23&$B23&M$11,Base,9,FALSE) -> 173999.96 | N23: =VLOOKUP($A23&$B23&N$11,Base,9,FALSE) -> 86999.98 | O23: =VLOOKUP($A23&$B23&O$11,Base,9,FALSE) -> 86999.98 | P23: =VLOOKUP($A23&$B23&P$11,Base,9,FALSE) -> 86999.98 | ... S23: =VLOOKUP($A23&$B23&S$11,Base,9,FALSE) -> 0 | T23: =SUM(H23:S23) -> 695999.84
A24: 50100 | B24: 19001 | D24: Avenida Arroyo del Molino No. 301, casa 163, Fraccionamiento Real del Molino, Jesús María, Aguascalientes | E24: Casa Habitación TOOAD | F24: =SUM(H24:S24) -> 317797.5 | G24: Asignado | I24: =VLOOKUP($A24&$B24&I$11,Base,8,FALSE) -> 0 | J24: =VLOOKUP($A24&$B24&J$11,Base,8,FALSE) -> 49999.98 | K24: =VLOOKUP($A24&$B24&K$11,Base,8,FALSE) -> 24999.99 | L24: =VLOOKUP($A24&$B24&L$11,Base,8,FALSE) -> 24999.99 | M24: =VLOOKUP($A24&$B24&M$11,Base,8,FALSE) -> 24999.99 | N24: =VLOOKUP($A24&$B24&N$11,Base,8,FALSE) -> 27542.5 | O24: =VLOOKUP($A24&$B24&O$11,Base,8,FALSE) -> 27542.5 | P24: =VLOOKUP($A24&$B24&P$11,Base,8,FALSE) -> 27542.5 | ... S24: =VLOOKUP($A24&$B24&S$11,Base,8,FALSE) -> 55085 | T24: =SUM($H24:(OFFSET($H24,0,AVANCE060826!$T$2))) -> 235170
A25: 50100 | B25: 19001 | G25: Ejercido | I25: =VLOOKUP($A25&$B25&I$11,Base,9,FALSE) -> 0 | J25: =VLOOKUP($A25&$B25&J$11,Base,9,FALSE) -> 49999.98 | K25: =VLOOKUP($A25&$B25&K$11,Base,9,FALSE) -> 24999.99 | L25: =VLOOKUP($A25&$B25&L$11,Base,9,FALSE) -> 24999.99 | M25: =VLOOKUP($A25&$B25&M$11,Base,9,FALSE) -> 24999.99 | N25: =VLOOKUP($A25&$B25&N$11,Base,9,FALSE) -> 27542.5 | O25: =VLOOKUP($A25&$B25&O$11,Base,9,FALSE) -> 27542.5 | P25: =VLOOKUP($A25&$B25&P$11,Base,9,FALSE) -> 27542.5 | ... S25: =VLOOKUP($A25&$B25&S$11,Base,9,FALSE) -> 0 | T25: =SUM(H25:S25) -> 207627.45
C26: =COUNT(C16:C24) -> 0 | F26: =SUM(F14:F25) -> 13670292 | G26: Asignado | H26: =+H24+H18+H16+H14+H22+H20 -> 0 | I26: =+I24+I18+I16+I14+I22+I20 -> 0 | J26: =+J24+J18+J16+J14+J22+J20 -> 1212778 | K26: =+K24+K18+K16+K14+K22+K20 -> 1765802.7 | L26: =+L24+L18+L16+L14+L22+L20 -> 1375468.7 | M26: =+M24+M18+M16+M14+M22+M20 -> 1334476.6 | N26: =+N24+N18+N16+N14+N22+N20 -> 1140247.7 | O26: =+O24+O18+O16+O14+O22+O20 -> 465836.56 | ... T26: =+T24+T18+T16+T14+T22+T20 -> 10249560
G27: Ejercido | H27: =+H25+H19+H17+H15+H23+H21 -> 0 | I27: =+I25+I19+I17+I15+I23+I21 -> 0 | J27: =+J25+J19+J17+J15+J23+J21 -> 1212778 | K27: =+K25+K19+K17+K15+K23+K21 -> 1765802.7 | L27: =+L25+L19+L17+L15+L23+L21 -> 1375468.7 | M27: =+M25+M19+M17+M15+M23+M21 -> 1334476.6 | N27: =+N25+N19+N17+N15+N23+N21 -> 1140247.7 | O27: =+O25+O19+O17+O15+O23+O21 -> 465836.56 | ... T27: =+T25+T19+T17+T15+T23+T21 -> 9109269.3
H29: 1137706 | I29: 1140248.5 | J29: 1140248.5 | K29: 1140248.5 | L29: 1140248.5 | M29: 1140247.6 | N29: 1140247.6

Sheet AGS CONT
D1: INSTITUTO MEXICANO DEL SEGURO SOCIAL
D2: DIRECCIÓN DE ADMINISTRACIÓN
D3: UNIDAD DE ADMINISTRACIÓN
D4: COORDINACIÓN DE CONSERVACIÓN Y SERVICIOS GENERALES
D5: COORDINACIÓN TÉCNICA DE ADMINISTRACIÓN DE ACTIVOS
D6: DIVISIÓN DE ARRENDAMIENTO Y COMERCIALIZACIÓN
D7: EJERCICIO 2020
D8: OOAD: | E8: AGUASCALIENTES
A10: CLAV E PREI | C10: UNIDAD | D10: DIRECCIÓN | E10: DESTINO | F10: MONTO MENSUAL DE CONTRATO | G10: MONTO MENSUAL CON IVA | H10: MONTO ANUAL | I10: OBSERVACIONES
A11: U.I. | B11: C.C.
A12: 019101 | B12: 900110 | D12: Carr. A Zacatecas No. 701, Fracc. las Hadas, C.P. 20140 | E12: Oficinas Administrativas de la Subdelegación Metropolitana Norte | F12: 134774 | G12: =+F12*1.16 -> 156337.84 | H12: =+G12*12 -> 1876054.1 | I12: contrato de marzo a diciembre de 2020
A13: 019102 | B13: 900110 | D13: Calle Ecuador No. 205, Planta Baja, Aguascalientes | E13: Oficinas Administrativas de la Subdelegación Metropolitana Sur | F13: 98600 | G13: =+F13*1.16 -> 114376 | H13: =+G13*12 -> 1372512 | I13: no hay contrato con el incremento
A14: 015801 | B14: 800201 | D14: Calle Ecuador No. 205, Planta Alta, Aguascalientes | E14: Centro de Capacitación | F14: 58000 | G14: =+F14*1.16 -> 67280 | H14: =+G14*12 -> 807360 | I14: no hay contrato con el incremento
A15: 019001 | B15: 150100 | D15: Calle Carolina Villanueva N° 314, Ciudad Industrial, Aguascalientes | E15: Almacén Delegacional, Oficinas de la Coordinación Delegacional, Bod. Bienes Emb. y Arch. Conc. | F15: 319000 | G15: =+F15*1.16 -> 370040 | H15: =+G15*12 -> 4440480
A16: 019001 | B16: 050100 | D16: Avenida Arroyo del Molino No. 301, casa 163, Fraccionamiento Real del Molino, Jesús María, Aguascalientes | E16: Casa Habitacional | F16: 276000 | G16: =+F16*1.16 -> 320160 | H16: =+G16*12 -> 3841920 | I16: Contrato 2021
B17: 4 | C17: =COUNT(C13:C16) -> 0 | G17: =SUM(G12:G16) -> 1028193.8 | H17: =SUM(H12:H16) -> 12338326

Sheet BC
D1: INSTITUTO MEXICANO DEL SEGURO SOCIAL
D2: DIRECCIÓN DE ADMINISTRACIÓN
D3: UNIDAD DE ADMINISTRACIÓN
D4: COORDINACIÓN DE CONSERVACIÓN Y SERVICIOS GENERALES
D5: COORDINACIÓN TÉCNICA DE ADMINISTRACIÓN DE ACTIVOS
D6: DIVISIÓN DE ARRENDAMIENTO Y COMERCIALIZACIÓN
D7: EJERCICIO 2026
D8: OOAD: | E8: BAJA CALIFORNIA
A10: CLAV E PREI | C10: UNIDAD | D10: DIRECCIÓN | E10: DESTINO | F10: ASIGNADO ANUAL | G10: Renta Mensual | H10: PRESUPUESTO AL PERIODO | J10: VARIACIÓN | L10: AVANCE % | M10: OBSERVACIONES
A11: U.I. | B11: C.C. | H11: CALENDARIZADO (1) | I11: EJERCIDO (2) | J11: IMPORTE 3=(1-2) | K11: % 4=(3/1)*100
A12: 025601 | B12: 310203 | D12: Avenida Gastelum y Calle 14 Nos. 1408 y 1415, Colonia Sección Primera, Ensenada | E12: Centro de Extensión de Conocimientos y Esquema Modificado | J12: =+I12-H12 -> 0 | K12: =+J12/H12*100 -> #DIV/0! | L12: =+I12/H12*100 -> #DIV/0! | M12: No ha registrado pagos en el primer trimestre de 2023.
A13: 029101 | B13: 900110 | D13: Boulevard Lázaro Cárdenas No. 2209-C, Colonia Plutarco Elías Calles Deleg. Gonzalez Ortega C.P 21379, Mexicali | E13: Oficinas Administrativas Subdelegacionales | F13: =BC_Calendario!F13 -> 4593600 | G13: 382800 | H13: =BC_Calendario!T13 -> 3445200 | I13: =BC_Calendario!T14 -> 3062400 | J13: =H13-I13 -> 382800 | K13: =+J13/H13*100 -> 11.111111 | L13: =+I13/H13*100 -> 88.888889 | M13: Registra pagos al mes de agosto.
B14: 1 | C14: =COUNT(#REF!) -> 0 | F14: =SUM(F12:F13) -> 4593600 | G14: =SUM(G12:G13) -> 382800 | H14: =+H13 -> 3445200 | I14: =+I13 -> 3062400 | J14: =H14-I14 -> 382800 | K14: =+J14/H14*100 -> 11.111111 | L14: =+I14/H14*100 -> 88.888889

Sheet BC_Calendario
F1: INSTITUTO MEXICANO DEL SEGURO SOCIAL
F2: DIRECCIÓN DE ADMINISTRACIÓN
F3: UNIDAD DE ADMINISTRACIÓN
F4: COORDINACIÓN DE CONSERVACIÓN Y SERVICIOS GENERALES
F5: COORDINACIÓN TÉCNICA DE ADMINISTRACIÓN DE ACTIVOS
F6: DIVISIÓN DE ARRENDAMIENTO Y COMERCIALIZACIÓN
D7: EJERCICIO 2026
D8: OOAD : | E8: BAJA CALIFORNIA
I10: 2026M02 | J10: 2026M03 | K10: 2026M04 | L10: 2026M05 | M10: 2026M06 | N10: 2026M07 | O10: 2026M08 | P10: 2026M09 | Q10: 2026M10 | R10: 2026M11 | S10: 2026M12
B11: CLAV E PREI | C11: UNIDAD | D11: DIRECCIÓN | E11: DESTINO | F11: ASIGNADO ANUAL | H11: Enero | I11: Febrero | J11: Marzo | K11: Abril | L11: Mayo | M11: Junio | N11: Julio | O11: Agosto | P11: Septiembre | Q11: Octubre | R11: Noviembre | S11: Diciembre | U11: OBSERVACIONES
A12: C.C. | B12: U.I.
A13: 900110 | B13: 29101 | D13: Boulevard Lázaro Cárdenas No. 2209-C, Colonia Plutarco Elías Calles Deleg. Gonzalez Ortega C.P 21379, Mexicali | E13: Oficinas Administrativas Subdelegacionales | F13: =SUM(H13:S13) -> 4593600 | G13: Asignado | I13: =VLOOKUP($A13&$B13&I$10,Base,8,FALSE) -> 382800 | J13: =VLOOKUP($A13&$B13&J$10,Base,8,FALSE) -> 382800 | K13: =VLOOKUP($A13&$B13&K$10,Base,8,FALSE) -> 382800 | L13: =VLOOKUP($A13&$B13&L$10,Base,8,FALSE) -> 382800 | M13: =VLOOKUP($A13&$B13&M$10,Base,8,FALSE) -> 382800 | N13: =VLOOKUP($A13&$B13&N$10,Base,8,FALSE) -> 382800 | O13: =VLOOKUP($A13&$B13&O$10,Base,8,FALSE) -> 382800 | P13: =VLOOKUP($A13&$B13&P$10,Base,8,FALSE) -> 382800 | ... S13: =VLOOKUP($A13&$B13&S$10,Base,8,FALSE) -> 765600 | T13: =SUM($H13:(OFFSET($H13,0,AVANCE060826!$T$2))) -> 3445200
A14: 900110 | B14: 29101 | G14: Ejercido | I14: =VLOOKUP($A14&$B14&I$10,Base,9,FALSE) -> 382800 | J14: =VLOOKUP($A14&$B14&J$10,Base,9,FALSE) -> 382800 | K14: =VLOOKUP($A14&$B14&K$10,Base,9,FALSE) -> 382800 | L14: =VLOOKUP($A14&$B14&L$10,Base,9,FALSE) -> 382800 | M14: =VLOOKUP($A14&$B14&M$10,Base,9,FALSE) -> 382800 | N14: =VLOOKUP($A14&$B14&N$10,Base,9,FALSE) -> 382800 | O14: =VLOOKUP($A14&$B14&O$10,Base,9,FALSE) -> 382800 | P14: =VLOOKUP($A14&$B14&P$10,Base,9,FALSE) -> 382800 | ... S14: =VLOOKUP($A14&$B14&S$10,Base,9,FALSE) -> 0 | T14: =SUM(H14:S14) -> 3062400
C15: =COUNT(#REF!) -> 0 | F15: =SUM(F13:F14) -> 4593600 | G15: Asignado | H15: =+H13 -> 0 | I15: =+I13 -> 382800 | J15: =+J13 -> 382800 | K15: =+K13 -> 382800 | L15: =+L13 -> 382800 | M15: =+M13 -> 382800 | N15: =+N13 -> 382800 | O15: =+O13 -> 382800 | ... S15: =+S13 -> 765600 | T15: =T13 -> 3445200
G16: Ejercido | I16: =+I14 -> 382800 | J16: =+J14 -> 382800 | K16: =+K14 -> 382800 | L16: =+L14 -> 382800 | M16: =+M14 -> 382800 | N16: =+N14 -> 382800 | O16: =+O14 -> 382800 | P16: =+P14 -> 382800 | ... S16: =+S14 -> 0 | T16: =T14 -> 3062400

Sheet BCS 
D1: INSTITUTO MEXICANO DEL SEGURO SOCIAL
D2: DIRECCIÓN DE ADMINISTRACIÓN
D3: UNIDAD DE ADMINISTRACIÓN
D4: COORDINACIÓN DE CONSERVACIÓN Y SERVICIOS GENERALES
D5: COORDINACIÓN TÉCNICA DE ADMINISTRACIÓN DE ACTIVOS
D6: DIVISIÓN DE ARRENDAMIENTO Y COMERCIALIZACIÓN
D7: EJERCICIO 2026
D8: OOAD : | E8: BAJA CALIFORNIA SUR
A10: CLAV E PREI | C10: UNIDAD | D10: DIRECCIÓN | E10: DESTINO | F10: ASIGNADO ANUAL | G10: Renta Mensual | H10: PRESUPUESTO AL PERIODO | J10: VARIACIÓN | L10: AVANCE % | M10: OBSERVACIONES
A11: U.I. | B11: C.C. | H11: CALENDARIZADO (1) | I11: EJERCIDO (2) | J11: IMPORTE 3=(1-2) | K11: % 4=(3/1)*100
A12: 39001 | B12: 200100 | D12: Calle Ignacio Allende No. 1135, esquina Félix Ortega y Marcelo Rubio Ruíz, Colonia Centro, La Paz | E12: Unidad de Rehabilitación y Centro de Capacitación | F12: =BCS_Calendario!F13 -> 518724 | G12: =37264.5*1.16 -> 43226.82 | H12: =BCS_Calendario!T13 -> 389043 | I12: =BCS_Calendario!T14 -> 389041.16 | J12: =H12-I12 -> 1.84 | K12: =+J12/H12*100 -> 0.00047295543 | L12: =+I12/H12*100 -> 99.999527 | M12: Registro de pagos al mes de agosto.
A13: 39102 | B13: 900110 | D13: Boulevard Tecnológico No. 1810, Colonia Guaymitas, San José del Cabo | E13: Oficinas Administrativas | F13: =BCS_Calendario!F15 -> 344182.8 | G13: =+F13/12 -> 28681.9 | H13: =BCS_Calendario!T15 -> 258138 | I13: =BCS_Calendario!T16 -> 229451.2 | J13: =H13-I13 -> 28686.8 | K13: =+J13/H13*100 -> 11.112971 | L13: =+I13/H13*100 -> 88.887029 | M13: Registro de pagos al mes de agosto.
A14: 39103 | B14: 900110 | D14: Avenida Venustiano Carranza No. 114 entre Ignacio Zaragoza y Hugo Cervantes del Rio, Colonia Centro, Ciudad Constitución | E14: Oficinas Administrativas | F14: =BCS_Calendario!F17 -> 125280 | G14: 10440 | H14: =BCS_Calendario!T17 -> 93960 | I14: =BCS_Calendario!T18 -> 83520 | J14: =H14-I14 -> 10440 | K14: =+J14/H14*100 -> 11.111111 | L14: =+I14/H14*100 -> 88.888889 | M14: Registro de pagos al mes de agosto.
A15: 38001 | B15: 150900 | D15: Calle 22 s/n, Lote 008, Manzana 13, Colonia Desarrollo Aeropuerto, San José del Cabo | E15: Almacén de Materiales Terapéuticos y Diversos | F15: =BCS_Calendario!F19 -> 4176000 | G15: =696000/2 -> 348000 | H15: =BCS_Calendario!T19 -> 3132000 | I15: =BCS_Calendario!T20 -> 2783998.6 | J15: =H15-I15 -> 348001.44 | K15: =+J15/H15*100 -> 11.111157 | L15: =+I15/H15*100 -> 88.888843 | M15: Registro de pagos al mes de agosto.
A16: 38002 | B16: 920201 | D16: Calle Valentín Gómez Farías No. 166, entre República y Manuel Torres Iglesias, Colonia Esterito, | E16: Bodega de Bienes Embargados y Archivo de Concentración * | F16: =BCS_Calendario!F21 -> 596638.8 | G16: 49719.4 | H16: =BCS_Calendario!T21 -> 447480 | I16: =BCS_Calendario!T22 -> 447473.34 | J16: =H16-I16 -> 6.66 | K16: =+J16/H16*100 -> 0.0014883347 | L16: =+I16/H16*100 -> 99.998512 | M16: Registro de pagos al mes de agosto.
B17: 5 | C17: =COUNT(C13:C16) -> 0 | F17: =SUM(F12:F16) -> 5760825.6 | G17: =SUM(G12:G16) -> 480068.12 | H17: =SUM(H12:H16) -> 4320621 | I17: =SUM(I12:I16) -> 3933484.3 | J17: =H17-I17 -> 387136.74 | K17: =SUM(K12:K16) -> 33.3372 | L17: =+I17/H17*100 -> 91.039789

Sheet BCS_Calendario
F1: INSTITUTO MEXICANO DEL SEGURO SOCIAL
F2: DIRECCIÓN DE ADMINISTRACIÓN
F3: UNIDAD DE ADMINISTRACIÓN
F4: COORDINACIÓN DE CONSERVACIÓN Y SERVICIOS GENERALES
F5: COORDINACIÓN TÉCNICA DE ADMINISTRACIÓN DE ACTIVOS
F6: DIVISIÓN DE ARRENDAMIENTO Y COMERCIALIZACIÓN
D7: EJERCICIO 2026
D8: OOAD : | E8: BAJA CALIFORNIA SUR
I10: 2026M02 | J10: 2026M03 | K10: 2026M04 | L10: 2026M05 | M10: 2026M06 | N10: 2026M07 | O10: 2026M08 | P10: 2026M09 | Q10: 2026M10 | R10: 2026M11 | S10: 2026M12 | T10: =+T16+T20 -> 3013449.8
B11: CLAV E PREI | C11: UNIDAD | D11: DIRECCIÓN | E11: DESTINO | F11: ASIGNADO ANUAL | H11: Enero | I11: Febrero | J11: Marzo | K11: Abril | L11: Mayo | M11: Junio | N11: Julio | O11: Agosto | P11: Septiembre | Q11: Octubre | R11: Noviembre | S11: Diciembre | T11: Total | U11: OBSERVACIONES
A12: C.C. | B12: U.I.
A13: 200100 | B13: 39001 | D13: Calle Ignacio Allende No. 1135, esquina Félix Ortega y Marcelo Rubio Ruíz, Colonia Centro, La Paz | E13: Unidad de Rehabilitación y Centro de Capacitación | F13: =SUM(H13:S13) -> 518724 | G13: Asignado | I13: =VLOOKUP($A13&$B13&I$10,Base,8,FALSE) -> 43226.79 | J13: =VLOOKUP($A13&$B13&J$10,Base,8,FALSE) -> 43226.79 | K13: =VLOOKUP($A13&$B13&K$10,Base,8,FALSE) -> 43226.79 | L13: =VLOOKUP($A13&$B13&L$10,Base,8,FALSE) -> 43226.84 | M13: =VLOOKUP($A13&$B13&M$10,Base,8,FALSE) -> 43226.79 | N13: =VLOOKUP($A13&$B13&N$10,Base,8,FALSE) -> 43226.79 | O13: =VLOOKUP($A13&$B13&O$10,Base,8,FALSE) -> 43226.79 | P13: =VLOOKUP($A13&$B13&P$10,Base,8,FALSE) -> 43226.79 | ... S13: =VLOOKUP($A13&$B13&S$10,Base,8,FALSE) -> 86454 | T13: =SUM($H13:(OFFSET($H13,0,AVANCE060826!$T$2))) -> 389043
A14: 200100 | B14: 39001 | G14: Ejercido | I14: =VLOOKUP($A14&$B14&I$10,Base,9,FALSE) -> 43226.79 | J14: =VLOOKUP($A14&$B14&J$10,Base,9,FALSE) -> 43226.79 | K14: =VLOOKUP($A14&$B14&K$10,Base,9,FALSE) -> 43226.79 | L14: =VLOOKUP($A14&$B14&L$10,Base,9,FALSE) -> 43226.84 | M14: =VLOOKUP($A14&$B14&M$10,Base,9,FALSE) -> 43226.79 | N14: =VLOOKUP($A14&$B14&N$10,Base,9,FALSE) -> 43226.79 | O14: =VLOOKUP($A14&$B14&O$10,Base,9,FALSE) -> 43226.79 | P14: =VLOOKUP($A14&$B14&P$10,Base,9,FALSE) -> 43226.79 | ... S14: =VLOOKUP($A14&$B14&S$10,Base,9,FALSE) -> 0 | T14: =SUM(H14:S14) -> 389041.16
A15: 900110 | B15: 39102 | D15: Boulevard Tecnológico No. 1810, Colonia Guaymitas, San José del Cabo | E15: Oficinas Administrativas | F15: =SUM(H15:S15) -> 344182.8 | G15: Asignado | I15: =VLOOKUP($A15&$B15&I$10,Base,8,FALSE) -> 0 | J15: =VLOOKUP($A15&$B15&J$10,Base,8,FALSE) -> 57362.8 | K15: =VLOOKUP($A15&$B15&K$10,Base,8,FALSE) -> 28681.4 | L15: =VLOOKUP($A15&$B15&L$10,Base,8,FALSE) -> 28681.4 | M15: =VLOOKUP($A15&$B15&M$10,Base,8,FALSE) -> 28681.4 | N15: =VLOOKUP($A15&$B15&N$10,Base,8,FALSE) -> 28681.4 | O15: =VLOOKUP($A15&$B15&O$10,Base,8,FALSE) -> 28681.4 | P15: =VLOOKUP($A15&$B15&P$10,Base,8,FALSE) -> 28681.4 | ... S15: =VLOOKUP($A15&$B15&S$10,Base,8,FALSE) -> 57362.8 | T15: =SUM($H15:(OFFSET($H15,0,AVANCE060826!$T$2))) -> 258138
A16: 900110 | B16: 39102 | G16: Ejercido | I16: =VLOOKUP($A16&$B16&I$10,Base,9,FALSE) -> 0 | J16: =VLOOKUP($A16&$B16&J$10,Base,9,FALSE) -> 57362.8 | K16: =VLOOKUP($A16&$B16&K$10,Base,9,FALSE) -> 28681.4 | L16: =VLOOKUP($A16&$B16&L$10,Base,9,FALSE) -> 28681.4 | M16: =VLOOKUP($A16&$B16&M$10,Base,9,FALSE) -> 28681.4 | N16: =VLOOKUP($A16&$B16&N$10,Base,9,FALSE) -> 28681.4 | O16: =VLOOKUP($A16&$B16&O$10,Base,9,FALSE) -> 28681.4 | P16: =VLOOKUP($A16&$B16&P$10,Base,9,FALSE) -> 28681.4 | ... S16: =VLOOKUP($A16&$B16&S$10,Base,9,FALSE) -> 0 | T16: =SUM(H16:S16) -> 229451.2
A17: 900110 | B17: 39103 | D17: Avenida Venustiano Carranza No. 114 entre Ignacio Zaragoza y Hugo Cervantes del Rio, Colonia Centro, Ciudad Constitución | E17: Oficinas Administrativas | F17: =SUM(H17:S17) -> 125280 | G17: Asignado | I17: =VLOOKUP($A17&$B17&I$10,Base,8,FALSE) -> 10440 | J17: =VLOOKUP($A17&$B17&J$10,Base,8,FALSE) -> 10440 | K17: =VLOOKUP($A17&$B17&K$10,Base,8,FALSE) -> 10440 | L17: =VLOOKUP($A17&$B17&L$10,Base,8,FALSE) -> 10440 | M17: =VLOOKUP($A17&$B17&M$10,Base,8,FALSE) -> 10440 | N17: =VLOOKUP($A17&$B17&N$10,Base,8,FALSE) -> 10440 | O17: =VLOOKUP($A17&$B17&O$10,Base,8,FALSE) -> 10440 | P17: =VLOOKUP($A17&$B17&P$10,Base,8,FALSE) -> 10440 | ... S17: =VLOOKUP($A17&$B17&S$10,Base,8,FALSE) -> 20880 | T17: =SUM($H17:(OFFSET($H17,0,AVANCE060826!$T$2))) -> 93960
A18: 900110 | B18: 39103 | G18: Ejercido | I18: =VLOOKUP($A18&$B18&I$10,Base,9,FALSE) -> 10440 | J18: =VLOOKUP($A18&$B18&J$10,Base,9,FALSE) -> 10440 | K18: =VLOOKUP($A18&$B18&K$10,Base,9,FALSE) -> 10440 | L18: =VLOOKUP($A18&$B18&L$10,Base,9,FALSE) -> 10440 | M18: =VLOOKUP($A18&$B18&M$10,Base,9,FALSE) -> 10440 | N18: =VLOOKUP($A18&$B18&N$10,Base,9,FALSE) -> 10440 | O18: =VLOOKUP($A18&$B18&O$10,Base,9,FALSE) -> 10440 | P18: =VLOOKUP($A18&$B18&P$10,Base,9,FALSE) -> 10440 | ... S18: =VLOOKUP($A18&$B18&S$10,Base,9,FALSE) -> 0 | T18: =SUM(H18:S18) -> 83520
A19: 150900 | B19: 38001 | D19: Calle 22 s/n, Lote oo8, Manzana 13, Colonia Desarrollo Aeropuerto, San José del Cabo | E19: Almacén de Materiales Terapéuticos y Diversos | F19: =SUM(H19:S19) -> 4176000 | G19: Asignado | I19: =VLOOKUP($A19&$B19&I$10,Base,8,FALSE) -> 347999.82 | J19: =VLOOKUP($A19&$B19&J$10,Base,8,FALSE) -> 347999.82 | K19: =VLOOKUP($A19&$B19&K$10,Base,8,FALSE) -> 347999.82 | L19: =VLOOKUP($A19&$B19&L$10,Base,8,FALSE) -> 347999.82 | M19: =VLOOKUP($A19&$B19&M$10,Base,8,FALSE) -> 347999.82 | N19: =VLOOKUP($A19&$B19&N$10,Base,8,FALSE) -> 347999.82 | O19: =VLOOKUP($A19&$B19&O$10,Base,8,FALSE) -> 347999.82 | P19: =VLOOKUP($A19&$B19&P$10,Base,8,FALSE) -> 347999.82 | ... S19: =VLOOKUP($A19&$B19&S$10,Base,8,FALSE) -> 696000 | T19: =SUM($H19:(OFFSET($H19,0,AVANCE060826!$T$2))) -> 3132000
A20: 150900 | B20: 38001 | G20: Ejercido | I20: =VLOOKUP($A20&$B20&I$10,Base,9,FALSE) -> 347999.82 | J20: =VLOOKUP($A20&$B20&J$10,Base,9,FALSE) -> 347999.82 | K20: =VLOOKUP($A20&$B20&K$10,Base,9,FALSE) -> 347999.82 | L20: =VLOOKUP($A20&$B20&L$10,Base,9,FALSE) -> 347999.82 | M20: =VLOOKUP($A20&$B20&M$10,Base,9,FALSE) -> 347999.82 | N20: =VLOOKUP($A20&$B20&N$10,Base,9,FALSE) -> 347999.82 | O20: =VLOOKUP($A20&$B20&O$10,Base,9,FALSE) -> 347999.82 | P20: =VLOOKUP($A20&$B20&P$10,Base,9,FALSE) -> 347999.82 | ... S20: =VLOOKUP($A20&$B20&S$10,Base,9,FALSE) -> 0 | T20: =SUM(H20:S20) -> 2783998.6
A21: 920201 | B21: 38002 | D21: Calle Valentín Gómez Farías No. 166, entre República y Manuel Torres Iglesias, Colonia Esterito, | E21: Bodega de Bienes Embargados y Archivo de Concentración * | F21: =SUM(H21:S21) -> 596638.8 | G21: Asignado | I21: =VLOOKUP($A21&$B21&I$10,Base,8,FALSE) -> 49719.26 | J21: =VLOOKUP($A21&$B21&J$10,Base,8,FALSE) -> 49719.26 | K21: =VLOOKUP($A21&$B21&K$10,Base,8,FALSE) -> 49719.26 | L21: =VLOOKUP($A21&$B21&L$10,Base,8,FALSE) -> 49719.26 | M21: =VLOOKUP($A21&$B21&M$10,Base,8,FALSE) -> 49719.26 | N21: =VLOOKUP($A21&$B21&N$10,Base,8,FALSE) -> 49719.26 | O21: =VLOOKUP($A21&$B21&O$10,Base,8,FALSE) -> 49719.26 | P21: =VLOOKUP($A21&$B21&P$10,Base,8,FALSE) -> 49719.26 | ... S21: =VLOOKUP($A21&$B21&S$10,Base,8,FALSE) -> 99438.8 | T21: =SUM($H21:(OFFSET($H21,0,AVANCE060826!$T$2))) -> 447480
A22: 920201 | B22: 38002 | G22: Ejercido | I22: =VLOOKUP($A22&$B22&I$10,Base,9,FALSE) -> 49719.26 | J22: =VLOOKUP($A22&$B22&J$10,Base,9,FALSE) -> 49719.26 | K22: =VLOOKUP($A22&$B22&K$10,Base,9,FALSE) -> 49719.26 | L22: =VLOOKUP($A22&$B22&L$10,Base,9,FALSE) -> 49719.26 | M22: =VLOOKUP($A22&$B22&M$10,Base,9,FALSE) -> 49719.26 | N22: =VLOOKUP($A22&$B22&N$10,Base,9,FALSE) -> 49719.26 | O22: =VLOOKUP($A22&$B22&O$10,Base,9,FALSE) -> 49719.26 | P22: =VLOOKUP($A22&$B22&P$10,Base,9,FALSE) -> 49719.26 | ... S22: =VLOOKUP($A22&$B22&S$10,Base,9,FALSE) -> 0 | T22: =SUM(H22:S22) -> 447473.34
A23: 5 | C23: =COUNT(C15:C21) -> 0 | F23: =SUM(F13:F21) -> 5760825.6 | G23: Asignado | H23: =SUM(H21+H17+H15+H13+H19) -> 0 | I23: =SUM(I21+I17+I15+I13+I19) -> 451385.87 | J23: =SUM(J21+J17+J15+J13+J19) -> 508748.67 | K23: =SUM(K21+K17+K15+K13+K19) -> 480067.27 | L23: =SUM(L21+L17+L15+L13+L19) -> 480067.32 | M23: =SUM(M21+M17+M15+M13+M19) -> 480067.27 | N23: =SUM(N21+N17+N15+N13+N19) -> 480067.27 | O23: =SUM(O21+O17+O15+O13+O19) -> 480067.27 | ... T23: =SUM(T21+T17+T15+T13+T19) -> 4320621
G24: Ejercido | H24: =SUM(H22+H18+H16+H14+H20) -> 0 | I24: =SUM(I22+I18+I16+I14+I20) -> 451385.87 | J24: =SUM(J22+J18+J16+J14+J20) -> 508748.67 | K24: =SUM(K22+K18+K16+K14+K20) -> 480067.27 | L24: =SUM(L22+L18+L16+L14+L20) -> 480067.32 | M24: =SUM(M22+M18+M16+M14+M20) -> 480067.27 | N24: =SUM(N22+N18+N16+N14+N20) -> 480067.27 | O24: =SUM(O22+O18+O16+O14+O20) -> 480067.27 | ... T24: =SUM(T22+T18+T16+T14+T20) -> 3933484.3
A34: C.C. | B34: U.I.
A35: 200100 | B35: 39001
A36: 900110 | B36: 39102
A37: 900110 | B37: 39103
A38: 150900 | B38: 38001
A39: 920201 | B39: 38002
A44: 5

Sheet CAM
D1: INSTITUTO MEXICANO DEL SEGURO SOCIAL
D2: DIRECCIÓN DE ADMINISTRACIÓN
D3: UNIDAD DE ADMINISTRACIÓN
D4: COORDINACIÓN DE CONSERVACIÓN Y SERVICIOS GENERALES
D5: COORDINACIÓN TÉCNICA DE ADMINISTRACIÓN DE ACTIVOS
D6: DIVISIÓN DE ARRENDAMIENTO Y COMERCIALIZACIÓN
D7: EJERCICIO 2026
D8: OOAD: | E8: CAMPECHE
A10: CLAV E PREI | C10: UNIDAD | D10: DIRECCIÓN | E10: DESTINO | F10: ASIGNADO ANUAL | G10: Renta Mensual | H10: PRESUPUESTO AL PERIODO | J10: VARIACIÓN | L10: AVANCE % | M10: OBSERVACIONES
A11: U.I. | B11: C.C. | H11: CALENDARIZADO (1) | I11: EJERCIDO (2) | J11: IMPORTE 3=(1-2) | K11: % 4=(3/1)*100
A12: 049001 | B12: 050100 | C12: Tepic | D12: Calle Cordillera No 34, departamento 202, Condominios Xiluma, Fraccionamiento Lomas de la Eminencia, San Francisco, Campeche | E12: CASA HABITACIÓN TOOAD | F12: =CAM_Calendario!F13 -> 160550 | G12: 13000 | H12: =CAM_Calendario!U13 -> 117000 | I12: =CAM_Calendario!U14 -> 104000 | J12: =H12-I12 -> 13000 | K12: =+J12/H12*100 -> 11.111111 | L12: =+I12/H12*100 -> 88.888889 | M12: Pagos al mes de agosto. Registra pagos por un importe de $215,399.99 adicionales a lo programado, se desconoce su origen.
B13: 1 | C13: =COUNT(#REF!) -> 0 | F13: =SUM(F12:F12) -> 160550 | G13: =SUM(G12:G12) -> 13000 | H13: =SUM(H12:H12) -> 117000 | I13: =SUM(I12:I12) -> 104000 | J13: =H13-I13 -> 13000 | K13: =+J13/H13*100 -> 11.111111 | L13: =+I13/H13*100 -> 88.888889

Sheet CAM_Calendario
F1: INSTITUTO MEXICANO DEL SEGURO SOCIAL
F2: DIRECCIÓN DE ADMINISTRACIÓN
F3: UNIDAD DE ADMINISTRACIÓN
F4: COORDINACIÓN DE CONSERVACIÓN Y SERVICIOS GENERALES
F5: COORDINACIÓN TÉCNICA DE ADMINISTRACIÓN DE ACTIVOS
F6: DIVISIÓN DE ARRENDAMIENTO Y COMERCIALIZACIÓN
D7: EJERCICIO 2026
D8: OOAD: | E8: CAMPECHE
J10: 2026M02 | K10: 2026M03 | L10: 2026M04 | M10: 2026M05 | N10: 2026M06 | O10: 2026M07 | P10: 2026M08 | Q10: 2026M09 | R10: 2026M10 | S10: 2026M11 | T10: 2026M12
B11: CLAV E PREI | C11: UNIDAD | D11: DIRECCIÓN | E11: DESTINO | F11: ASIGNADO ANUAL | H11: Renta Mensual | I11: Enero | J11: Febrero | K11: Marzo | L11: Abril | M11: Mayo | N11: Junio | O11: Julio | P11: Agosto | Q11: Septiembre | R11: Octubre | S11: Noviembre | T11: Diciembre | U11: PRESUPUESTO AL PERIODO | V11: OBSERVACIONES
A12: C.C. | B12: U.I. | U12: CALENDARIZADO (1)
A13: 50100 | B13: 49001 | C13: Tepic | D13: Calle Cordillera No 34, departamento 202, Condominios Xiluma, Fraccionamiento Lomas de la Eminencia, San Francisco, Campeche | E13: CASA HABITACIÓN TOOAD | F13: =SUM(I13:T13) -> 160550 | G13: Asingado | H13: 13000 | J13: =VLOOKUP($A13&$B13&J$10,Base,8,FALSE) -> 0 | K13: =VLOOKUP($A13&$B13&K$10,Base,8,FALSE) -> 26000 | L13: =VLOOKUP($A13&$B13&L$10,Base,8,FALSE) -> 13000 | M13: =VLOOKUP($A13&$B13&M$10,Base,8,FALSE) -> 13000 | N13: =VLOOKUP($A13&$B13&N$10,Base,8,FALSE) -> 13000 | O13: =VLOOKUP($A13&$B13&O$10,Base,8,FALSE) -> 13000 | P13: =VLOOKUP($A13&$B13&P$10,Base,8,FALSE) -> 13000 | Q13: =VLOOKUP($A13&$B13&Q$10,Base,8,FALSE) -> 13000 | ... T13: =VLOOKUP($A13&$B13&T$10,Base,8,FALSE) -> 27820 | U13: =SUM($H13:(OFFSET($H13,0,AVANCE060826!$T$2))) -> 117000
A14: 50100 | B14: 49001 | G14: Ejercido | J14: =VLOOKUP($A14&$B14&J$10,Base,9,FALSE) -> 0 | K14: =VLOOKUP($A14&$B14&K$10,Base,9,FALSE) -> 26000 | L14: =VLOOKUP($A14&$B14&L$10,Base,9,FALSE) -> 13000 | M14: =VLOOKUP($A14&$B14&M$10,Base,9,FALSE) -> 13000 | N14: =VLOOKUP($A14&$B14&N$10,Base,9,FALSE) -> 13000 | O14: =VLOOKUP($A14&$B14&O$10,Base,9,FALSE) -> 13000 | P14: =VLOOKUP($A14&$B14&P$10,Base,9,FALSE) -> 13000 | Q14: =VLOOKUP($A14&$B14&Q$10,Base,9,FALSE) -> 13000 | ... T14: =VLOOKUP($A14&$B14&T$10,Base,9,FALSE) -> 0 | U14: =SUM(I14:T14) -> 104000
A15: 1 | C15: =COUNT(#REF!) -> 0 | F15: =SUM(F13:F13) -> 160550 | G15: Asingado | H15: =SUM(H13:H13) -> 13000 | I15: =SUM(I13:I13) -> 0 | J15: =SUM(J13:J13) -> 0 | K15: =SUM(K13:K13) -> 26000 | L15: =SUM(L13:L13) -> 13000 | M15: =SUM(M13:M13) -> 13000 | N15: =SUM(N13:N13) -> 13000 | O15: =SUM(O13:O13) -> 13000 | ... T15: =SUM(T13:T13) -> 27820 | U15: =SUM(I15:T15) -> 160550
G16: Ejercido | H16: =H14 -> 0 | I16: =I14 -> 0 | J16: =J14 -> 0 | K16: =K14 -> 26000 | L16: =L14 -> 13000 | M16: =M14 -> 13000 | N16: =N14 -> 13000 | O16: =O14 -> 13000 | ... T16: =T14 -> 0 | U16: =SUM(I16:T16) -> 104000
A17: 140100 | B17: 49001 | E17: Arrendamiento fuera del progrograma | F17: =SUM(I17:T17) -> 215399.99 | G17: Asingado | K17: =VLOOKUP($A17&$B17&K$10,Base,8,FALSE) -> 0 | L17: =VLOOKUP($A17&$B17&L$10,Base,8,FALSE) -> 0 | M17: =VLOOKUP($A17&$B17&M$10,Base,8,FALSE) -> 215399.99 | N17: =VLOOKUP($A17&$B17&N$10,Base,8,FALSE) -> 0 | O17: =VLOOKUP($A17&$B17&O$10,Base,8,FALSE) -> 0 | P17: =VLOOKUP($A17&$B17&P$10,Base,8,FALSE) -> 0 | U17: =SUM($H17:(OFFSET($H17,0,AVANCE060826!$T$2))) -> 215399.99
A18: 140100 | B18: 49001 | G18: Ejercido | K18: =VLOOKUP($A18&$B18&K$10,Base,9,FALSE) -> 0 | L18: =VLOOKUP($A18&$B18&L$10,Base,9,FALSE) -> 0 | M18: =VLOOKUP($A18&$B18&M$10,Base,9,FALSE) -> 215399.99 | N18: =VLOOKUP($A18&$B18&N$10,Base,9,FALSE) -> 0 | O18: =VLOOKUP($A18&$B18&O$10,Base,9,FALSE) -> 0 | P18: =VLOOKUP($A18&$B18&P$10,Base,9,FALSE) -> 0 | U18: =SUM(I18:T18) -> 215399.99

Sheet COAH
D1: INSTITUTO MEXICANO DEL SEGURO SOCIAL
D2: DIRECCIÓN DE ADMINISTRACIÓN
D3: UNIDAD DE ADMINISTRACIÓN
D4: COORDINACIÓN DE CONSERVACIÓN Y SERVICIOS GENERALES
D5: COORDINACIÓN TÉCNICA DE ADMINISTRACIÓN DE ACTIVOS
D6: DIVISIÓN DE ARRENDAMIENTO Y COMERCIALIZACIÓN
D7: EJERCICIO 2026
D8: OOAD: | E8: COAHUILA | L8: =I18/G18 -> 6.896549
A10: CLAV E PREI | C10: UNIDAD | D10: DIRECCIÓN | E10: DESTINO | F10: ASIGNADO ANUAL | G10: Renta Mensual | H10: PRESUPUESTO AL PERIODO | J10: VARIACIÓN | L10: AVANCE % | M10: OBSERVACIONES
A11: U.I. | B11: C.C. | H11: CALENDARIZADO (1) | I11: EJERCIDO (2) | J11: IMPORTE 3=(1-2) | K11: % 4=(3/1)*100
A12: 052409 | B12: 200200 | C12: Torreón | D12: Boulevard Constitución, esquina Calle Jiménez, Zona Centro, Torreón | E12: UNIDAD DE MEDICINA FAMILIAR No. 80 | F12: =COAH_Calendario!F13 -> 2559336 | G12: 213278 | H12: =COAH_Calendario!T13 -> 1919502 | I12: =COAH_Calendario!T14 -> 1706220 | J12: =H12-I12 -> 213282.03 | K12: =+J12/H12*100 -> 11.111321 | L12: =+I12/H12*100 -> 88.888679 | M12: Realizo pagos al mes de agosto.
A13: 059001 | B13: 700100 | C13: Saltillo | D13: Boulevard Isidro López Zertuche No. 2791-B, Colonia Universidad, Saltillo | E13: OFICINAS ADMINISTRATIVAS SUBDELEGACIONALES | F13: =COAH_Calendario!F15 -> 2623825 | G13: 163275 | H13: =COAH_Calendario!T15 -> 1967877 | I13: =COAH_Calendario!T16 -> 1306199.5 | J13: =H13-I13 -> 661677.48 | K13: =+J13/H13*100 -> 33.623925 | L13: =+I13/H13*100 -> 66.376075 | M13: Realizo pagos al mes de julio.
A14: 059102 | B14: 900110 | C14: Torreón | D14: Boulevard Independencia y Calle Leona Vicario S/N, Torreón | E14: OFICINAS ADMINISTRATIVAS SUBDELEGACIONALES | F14: =COAH_Calendario!F17 -> 5055600 | G14: =+F14/12 -> 421300 | H14: =COAH_Calendario!T17 -> 3791700 | I14: =COAH_Calendario!T18 -> 3370398.1 | J14: =H14-I14 -> 421301.88 | K14: =+J14/H14*100 -> 11.111161 | L14: =+I14/H14*100 -> 88.888839 | M14: Realizo pagos al mes de agosto.
A15: 055905 | B15: 380200 | C15: Monclova | D15: Boulevard Benito Juarez No. 523, Colonia Roma, Monclova | E15: TIENDA | F15: =COAH_Calendario!F19 -> 1284936 | G15: =+F15/12 -> 107078 | H15: =COAH_Calendario!T19 -> 963702 | I15: =COAH_Calendario!T20 -> 738461.46 | J15: =H15-I15 -> 225240.54 | K15: =+J15/H15*100 -> 23.372426 | L15: =+I15/H15*100 -> 76.627574 | M15: Realizo pagos al mes de junio.
A16: 055901 | B16: 380200 | C16: Saltillo | D16: Presidente Cárdenas No 197, Zona Centro, Saltillo | E16: TIENDA | F16: =COAH_Calendario!F21 -> 1246308 | G16: =+F16/12 -> 103859 | H16: =COAH_Calendario!T21 -> 934731 | I16: =COAH_Calendario!T22 -> 830807.54 | J16: =H16-I16 -> 103923.46 | K16: =+J16/H16*100 -> 11.118007 | L16: =+I16/H16*100 -> 88.881993 | M16: Realizo pagos al mes de agosto.
A17: 059001 | B17: 140100 | C17: Saltillo | D17: Calle Egipto esquina José Sarmiento S/N, Fraccionamiento Virreyes Obrera, Saltillo | E17: BODEGA DE BIENES EMBARGADOS Y OFICINA DE SERVICIOS GENERALES | F17: =COAH_Calendario!F23 -> 1455360 | G17: =+F17/12 -> 121280 | H17: =COAH_Calendario!T23 -> 1091520 | I17: =COAH_Calendario!T24 -> 737864.03 | J17: =H17-I17 -> 353655.97 | K17: =+J17/H17*100 -> 32.40032 | L17: =+I17/H17*100 -> 67.59968 | M17: Realizo pagos al mes de junio.
A18: 058001 | B18: 150100 | D18: Carretera Saltillo zacatecas km. 22, puente la Encantada, C.P. 25950 | E18: ALMACEN DELEGACIONAL | F18: =COAH_Calendario!F25 -> 9521280 | G18: =F18/12 -> 793440 | H18: =COAH_Calendario!T25 -> 7140960 | I18: =COAH_Calendario!T26 -> 5471997.8 | J18: =H18-I18 -> 1668962.2 | K18: =+J18/H18*100 -> 23.371678 | L18: =+I18/H18*100 -> 76.628322 | M18: Realizo pagos al mes de junio.
A19: 058005 | B19: 920201 | C19: Piedras Negras | D19: Avenida López Mateos No. 1009, Colonia Roma, Piedras Negras | E19: BODEGA DE BIENES EMBARGADOS | L19: =+I19/H19*100 -> #DIV/0! | M19: inMUEBLE CANCELADO
A20: 059001 | B20: 050100 | D20: Calle Paseo del Coral No. 156, Fraccionamiento San Patricio, Saltillo, Coahuila | E20: CASA HABITACIÓN TOOAD | J20: =+I20-H20 -> 0 | K20: =+J20/H20*100 -> #DIV/0! | L20: =+I20/H20*100 -> #DIV/0! | M20: Registra pagos al mes de diciembre
B21: 7 | C21: =COUNT(C17:C20) -> 0 | F21: =SUM(F12:F20) -> 23746645 | G21: =SUM(G12:G20) -> 1923510 | H21: =SUM(H12:H20) -> 17809992 | I21: =SUM(I12:I20) -> 14161948 | J21: =H21-I21 -> 3648043.5 | K21: =+J21/H21*100 -> 20.483129 | L21: =+I21/H21*100 -> 79.516871
C22: =COUNT(#REF!) -> 0
M25: <

Sheet COAH_Calendario
D1: INSTITUTO MEXICANO DEL SEGURO SOCIAL
D2: DIRECCIÓN DE ADMINISTRACIÓN
D3: UNIDAD DE ADMINISTRACIÓN
D4: COORDINACIÓN DE CONSERVACIÓN Y SERVICIOS GENERALES
D5: COORDINACIÓN TÉCNICA DE ADMINISTRACIÓN DE ACTIVOS
D6: DIVISIÓN DE ARRENDAMIENTO Y COMERCIALIZACIÓN
D7: EJERCICIO 2026
D8: OOAD: | E8: COAHUILA
I10: 2026M02 | J10: 2026M03 | K10: 2026M04 | L10: 2026M05 | M10: 2026M06 | N10: 2026M07 | O10: 2026M08 | P10: 2026M09 | Q10: 2026M10 | R10: 2026M11 | S10: 2026M12
B11: CLAV E PREI | C11: UNIDAD | D11: DIRECCIÓN | E11: DESTINO | F11: ASIGNADO ANUAL | H11: Enero | I11: Febrero | J11: Marzo | K11: Abril | L11: Mayo | M11: Junio | N11: Julio | O11: Agosto | P11: Septiembre | Q11: Octubre | R11: Noviembre | S11: Diciembre | T11: Total | U11: OBSERVACIONES
A12: C.C. | B12: U.I.
A13: 200200 | B13: 52409 | C13: Torreón | D13: Boulevard Constitución, esquina Calle Jiménez, Zona Centro, Torreón | E13: UNIDAD DE MEDICINA FAMILIAR No. 80 | F13: =SUM(H13:S13) -> 2559336 | G13: Asignado | I13: =VLOOKUP($A13&$B13&I$10,Base,8,FALSE) -> 0 | J13: =VLOOKUP($A13&$B13&J$10,Base,8,FALSE) -> 0 | K13: =VLOOKUP($A13&$B13&K$10,Base,8,FALSE) -> 0 | L13: =VLOOKUP($A13&$B13&L$10,Base,8,FALSE) -> 0 | M13: =VLOOKUP($A13&$B13&M$10,Base,8,FALSE) -> 0 | N13: =VLOOKUP($A13&$B13&N$10,Base,8,FALSE) -> 1279665 | O13: =VLOOKUP($A13&$B13&O$10,Base,8,FALSE) -> 213277.5 | P13: =VLOOKUP($A13&$B13&P$10,Base,8,FALSE) -> 213277.5 | ... S13: =VLOOKUP($A13&$B13&S$10,Base,8,FALSE) -> 426556 | T13: =SUM($H13:(OFFSET($H13,0,AVANCE060826!$T$2))) -> 1919502
A14: 200200 | B14: 52409 | G14: Ejercido | I14: =VLOOKUP($A14&$B14&I$10,Base,9,FALSE) -> 0 | J14: =VLOOKUP($A14&$B14&J$10,Base,9,FALSE) -> 0 | K14: =VLOOKUP($A14&$B14&K$10,Base,9,FALSE) -> 0 | L14: =VLOOKUP($A14&$B14&L$10,Base,9,FALSE) -> 0 | M14: =VLOOKUP($A14&$B14&M$10,Base,9,FALSE) -> 0 | N14: =VLOOKUP($A14&$B14&N$10,Base,9,FALSE) -> 1279665 | O14: =VLOOKUP($A14&$B14&O$10,Base,9,FALSE) -> 213277.5 | P14: =VLOOKUP($A14&$B14&P$10,Base,9,FALSE) -> 213277.5 | ... S14: =VLOOKUP($A14&$B14&S$10,Base,9,FALSE) -> 0 | T14: =SUM(H14:S14) -> 1706220
A15: 700100 | B15: 59001 | C15: Saltillo | D15: Boulevard Isidro López Zertuche No. 2791-B, Colonia Universidad, Saltillo | E15: OFICINAS ADMINISTRATIVAS SUBDELEGACIONALES | F15: =SUM(H15:S15) -> 2623825 | G15: Asignado | I15: =VLOOKUP($A15&$B15&I$10,Base,8,FALSE) -> 0 | J15: =VLOOKUP($A15&$B15&J$10,Base,8,FALSE) -> 0 | K15: =VLOOKUP($A15&$B15&K$10,Base,8,FALSE) -> 0 | L15: =VLOOKUP($A15&$B15&L$10,Base,8,FALSE) -> 653099.76 | M15: =VLOOKUP($A15&$B15&M$10,Base,8,FALSE) -> 163274.94 | N15: =VLOOKUP($A15&$B15&N$10,Base,8,FALSE) -> 0 | O15: =VLOOKUP($A15&$B15&O$10,Base,8,FALSE) -> 326549.88 | P15: =VLOOKUP($A15&$B15&P$10,Base,8,FALSE) -> 0 | ... S15: =VLOOKUP($A15&$B15&S$10,Base,8,FALSE) -> 437295 | T15: =SUM($H15:(OFFSET($H15,0,AVANCE060826!$T$2))) -> 1967877
A16: 700100 | B16: 59001 | G16: Ejercido | I16: =VLOOKUP($A16&$B16&I$10,Base,9,FALSE) -> 0 | J16: =VLOOKUP($A16&$B16&J$10,Base,9,FALSE) -> 0 | K16: =VLOOKUP($A16&$B16&K$10,Base,9,FALSE) -> 0 | L16: =VLOOKUP($A16&$B16&L$10,Base,9,FALSE) -> 653099.76 | M16: =VLOOKUP($A16&$B16&M$10,Base,9,FALSE) -> 163274.94 | N16: =VLOOKUP($A16&$B16&N$10,Base,9,FALSE) -> 0 | O16: =VLOOKUP($A16&$B16&O$10,Base,9,FALSE) -> 326549.88 | P16: =VLOOKUP($A16&$B16&P$10,Base,9,FALSE) -> 0 | ... S16: =VLOOKUP($A16&$B16&S$10,Base,9,FALSE) -> 0 | T16: =SUM(H16:S16) -> 1306199.5
A17: 900110 | B17: 59102 | C17: Torreón | D17: Boulevard Independencia y Calle Leona Vicario S/N, Torreón | E17: OFICINAS ADMINISTRATIVAS SUBDELEGACIONALES | F17: =SUM(H17:S17) -> 5055600 | G17: Asignado | I17: =VLOOKUP($A17&$B17&I$10,Base,8,FALSE) -> 0 | J17: =VLOOKUP($A17&$B17&J$10,Base,8,FALSE) -> 0 | K17: =VLOOKUP($A17&$B17&K$10,Base,8,FALSE) -> 1263899.3 | L17: =VLOOKUP($A17&$B17&L$10,Base,8,FALSE) -> 421299.77 | M17: =VLOOKUP($A17&$B17&M$10,Base,8,FALSE) -> 0 | N17: =VLOOKUP($A17&$B17&N$10,Base,8,FALSE) -> 842599.52 | O17: =VLOOKUP($A17&$B17&O$10,Base,8,FALSE) -> 421299.77 | P17: =VLOOKUP($A17&$B17&P$10,Base,8,FALSE) -> 421299.77 | ... S17: =VLOOKUP($A17&$B17&S$10,Base,8,FALSE) -> 842600 | T17: =SUM($H17:(OFFSET($H17,0,AVANCE060826!$T$2))) -> 3791700
A18: 900110 | B18: 59102 | G18: Ejercido | I18: =VLOOKUP($A18&$B18&I$10,Base,9,FALSE) -> 0 | J18: =VLOOKUP($A18&$B18&J$10,Base,9,FALSE) -> 0 | K18: =VLOOKUP($A18&$B18&K$10,Base,9,FALSE) -> 1263899.3 | L18: =VLOOKUP($A18&$B18&L$10,Base,9,FALSE) -> 421299.77 | M18: =VLOOKUP($A18&$B18&M$10,Base,9,FALSE) -> 0 | N18: =VLOOKUP($A18&$B18&N$10,Base,9,FALSE) -> 842599.52 | O18: =VLOOKUP($A18&$B18&O$10,Base,9,FALSE) -> 421299.77 | P18: =VLOOKUP($A18&$B18&P$10,Base,9,FALSE) -> 421299.77 | ... S18: =VLOOKUP($A18&$B18&S$10,Base,9,FALSE) -> 0 | T18: =SUM(H18:S18) -> 3370398.1
A19: 380200 | B19: 55905 | C19: Monclova | D19: Boulevard Benito Juarez No. 523, Colonia Roma, Monclova | E19: TIENDA | F19: =SUM(H19:S19) -> 1284936 | G19: Asignado | I19: =VLOOKUP($A19&$B19&I$10,Base,8,FALSE) -> 0 | J19: =VLOOKUP($A19&$B19&J$10,Base,8,FALSE) -> 0 | K19: =VLOOKUP($A19&$B19&K$10,Base,8,FALSE) -> 276923.06 | L19: =VLOOKUP($A19&$B19&L$10,Base,8,FALSE) -> 92307.68 | M19: =VLOOKUP($A19&$B19&M$10,Base,8,FALSE) -> 92307.68 | N19: =VLOOKUP($A19&$B19&N$10,Base,8,FALSE) -> 92307.68 | O19: =VLOOKUP($A19&$B19&O$10,Base,8,FALSE) -> 92307.68 | P19: =VLOOKUP($A19&$B19&P$10,Base,8,FALSE) -> 92307.68 | ... S19: =VLOOKUP($A19&$B19&S$10,Base,8,FALSE) -> 214156 | T19: =SUM($H19:(OFFSET($H19,0,AVANCE060826!$T$2))) -> 963702
A20: 380200 | B20: 55905 | G20: Ejercido | I20: =VLOOKUP($A20&$B20&I$10,Base,9,FALSE) -> 0 | J20: =VLOOKUP($A20&$B20&J$10,Base,9,FALSE) -> 0 | K20: =VLOOKUP($A20&$B20&K$10,Base,9,FALSE) -> 276923.06 | L20: =VLOOKUP($A20&$B20&L$10,Base,9,FALSE) -> 92307.68 | M20: =VLOOKUP($A20&$B20&M$10,Base,9,FALSE) -> 92307.68 | N20: =VLOOKUP($A20&$B20&N$10,Base,9,FALSE) -> 92307.68 | O20: =VLOOKUP($A20&$B20&O$10,Base,9,FALSE) -> 92307.68 | P20: =VLOOKUP($A20&$B20&P$10,Base,9,FALSE) -> 92307.68 | ... S20: =VLOOKUP($A20&$B20&S$10,Base,9,FALSE) -> 0 | T20: =SUM(H20:S20) -> 738461.46
A21: 380200 | B21: 55901 | C21: Saltillo | D21: Presidente Cárdenas No 197, Zona Centro, Saltillo | E21: TIENDA | F21: =SUM(H21:S21) -> 1246308 | G21: Asignado | I21: =VLOOKUP($A21&$B21&I$10,Base,8,FALSE) -> 0 | J21: =VLOOKUP($A21&$B21&J$10,Base,8,FALSE) -> 0 | K21: =VLOOKUP($A21&$B21&K$10,Base,8,FALSE) -> 0 | L21: =VLOOKUP($A21&$B21&L$10,Base,8,FALSE) -> 0 | M21: =VLOOKUP($A21&$B21&M$10,Base,8,FALSE) -> 0 | N21: =VLOOKUP($A21&$B21&N$10,Base,8,FALSE) -> 623105.66 | O21: =VLOOKUP($A21&$B21&O$10,Base,8,FALSE) -> 103850.94 | P21: =VLOOKUP($A21&$B21&P$10,Base,8,FALSE) -> 103850.94 | ... S21: =VLOOKUP($A21&$B21&S$10,Base,8,FALSE) -> 207718 | T21: =SUM($H21:(OFFSET($H21,0,AVANCE060826!$T$2))) -> 934731
A22: 380200 | B22: 55901 | G22: Ejercido | I22: =VLOOKUP($A22&$B22&I$10,Base,9,FALSE) -> 0 | J22: =VLOOKUP($A22&$B22&J$10,Base,9,FALSE) -> 0 | K22: =VLOOKUP($A22&$B22&K$10,Base,9,FALSE) -> 0 | L22: =VLOOKUP($A22&$B22&L$10,Base,9,FALSE) -> 0 | M22: =VLOOKUP($A22&$B22&M$10,Base,9,FALSE) -> 0 | N22: =VLOOKUP($A22&$B22&N$10,Base,9,FALSE) -> 623105.66 | O22: =VLOOKUP($A22&$B22&O$10,Base,9,FALSE) -> 103850.94 | P22: =VLOOKUP($A22&$B22&P$10,Base,9,FALSE) -> 103850.94 | ... S22: =VLOOKUP($A22&$B22&S$10,Base,9,FALSE) -> 0 | T22: =SUM(H22:S22) -> 830807.54
A23: 140100 | B23: 59001 | C23: Saltillo | D23: Calle Egipto esquina José Sarmiento S/N, Fraccionamiento Virreyes Obrera, Saltillo | E23: BODEGA DE BIENES EMBARGADOS Y OFICINA DE SERVICIOS GENERALES | F23: =SUM(H23:S23) -> 1455360 | G23: Asignado | I23: =VLOOKUP($A23&$B23&I$10,Base,8,FALSE) -> 0 | J23: =VLOOKUP($A23&$B23&J$10,Base,8,FALSE) -> 0 | K23: =VLOOKUP($A23&$B23&K$10,Base,8,FALSE) -> 288840 | L23: =VLOOKUP($A23&$B23&L$10,Base,8,FALSE) -> 96280 | M23: =VLOOKUP($A23&$B23&M$10,Base,8,FALSE) -> 0 | N23: =VLOOKUP($A23&$B23&N$10,Base,8,FALSE) -> 176372.01 | O23: =VLOOKUP($A23&$B23&O$10,Base,8,FALSE) -> 88186.01 | P23: =VLOOKUP($A23&$B23&P$10,Base,8,FALSE) -> 88186.01 | ... S23: =VLOOKUP($A23&$B23&S$10,Base,8,FALSE) -> 242560 | T23: =SUM($H23:(OFFSET($H23,0,AVANCE060826!$T$2))) -> 1091520 | U23: Pago al mes de enero
A24: 140100 | B24: 59001 | G24: Ejercido | I24: =VLOOKUP($A24&$B24&I$10,Base,9,FALSE) -> 0 | J24: =VLOOKUP($A24&$B24&J$10,Base,9,FALSE) -> 0 | K24: =VLOOKUP($A24&$B24&K$10,Base,9,FALSE) -> 288840 | L24: =VLOOKUP($A24&$B24&L$10,Base,9,FALSE) -> 96280 | M24: =VLOOKUP($A24&$B24&M$10,Base,9,FALSE) -> 0 | N24: =VLOOKUP($A24&$B24&N$10,Base,9,FALSE) -> 176372.01 | O24: =VLOOKUP($A24&$B24&O$10,Base,9,FALSE) -> 88186.01 | P24: =VLOOKUP($A24&$B24&P$10,Base,9,FALSE) -> 88186.01 | ... S24: =VLOOKUP($A24&$B24&S$10,Base,9,FALSE) -> 0 | T24: =SUM(H24:S24) -> 737864.03
A25: 150900 | B25: 58001 | D25: Carretera Saltillo zacatecas km. 22, puente la Encantada, C.P. 2595 | E25: ALMACEN DELEGACIONAL | F25: =SUM(H25:S25) -> 9521280 | G25: Asignado | I25: =VLOOKUP($A25&$B25&I$10,Base,8,FALSE) -> 0 | J25: =VLOOKUP($A25&$B25&J$10,Base,8,FALSE) -> 0 | K25: =VLOOKUP($A25&$B25&K$10,Base,8,FALSE) -> 0 | L25: =VLOOKUP($A25&$B25&L$10,Base,8,FALSE) -> 0 | M25: =VLOOKUP($A25&$B25&M$10,Base,8,FALSE) -> 0 | N25: =VLOOKUP($A25&$B25&N$10,Base,8,FALSE) -> 4103998.4 | O25: =VLOOKUP($A25&$B25&O$10,Base,8,FALSE) -> 683999.73 | P25: =VLOOKUP($A25&$B25&P$10,Base,8,FALSE) -> 683999.73 | ... S25: =VLOOKUP($A25&$B25&S$10,Base,8,FALSE) -> 1586880 | T25: =SUM($H25:(OFFSET($H25,0,AVANCE060826!$T$2))) -> 7140960
A26: 150900 | B26: 58001 | G26: Ejercido | I26: =VLOOKUP($A26&$B26&I$10,Base,9,FALSE) -> 0 | J26: =VLOOKUP($A26&$B26&J$10,Base,9,FALSE) -> 0 | K26: =VLOOKUP($A26&$B26&K$10,Base,9,FALSE) -> 0 | L26: =VLOOKUP($A26&$B26&L$10,Base,9,FALSE) -> 0 | M26: =VLOOKUP($A26&$B26&M$10,Base,9,FALSE) -> 0 | N26: =VLOOKUP($A26&$B26&N$10,Base,9,FALSE) -> 4103998.4 | O26: =VLOOKUP($A26&$B26&O$10,Base,9,FALSE) -> 683999.73 | P26: =VLOOKUP($A26&$B26&P$10,Base,9,FALSE) -> 683999.73 | ... S26: =VLOOKUP($A26&$B26&S$10,Base,9,FALSE) -> 0 | T26: =SUM(H26:S26) -> 5471997.8
