Workbook
Name __PO10556: NA()
Name __PO17771: NA()
Name __PO9740: NA()
Name _000000000_HCT_EAO: NA()
Name _000000000_HCT_EAO_1: NA()
Name _000000000_HCT_EAO_1_1: NA()
Name _000000000_HCT_EAO_1_1_1: NA()
Name _Det04_ClvProg: NA()
Name _Det04_ClvProg_1: NA()
Name _Det04_ClvProg_1_1: NA()
Name _Det04_ClvProg_1_1_1: NA()
Name _Detalle2005_1: NA()
Name _Detalle2005_1_1: NA()
Name _Detalle2005_1_1_1: NA()
Name _Detalle2005_1_1_1_1: NA()
Name _DISEÑO_OP: NA()
Name _DISEÑO_OP_1: NA()
Name _DISEÑO_OP_1_1: NA()
Name _DISEÑO_OP_1_1_1: NA()
Name _Obras: NA()
Name _Obras_1: NA()
Name _Obras_1_1: NA()
Name _Obras_1_1_1: NA()
Name _PO10556: NA()
Name _PO17771: NA()
Name _PO2006: NA()
Name _PO9740: NA()
Name _Sol0304: NA()
Name _uni0609: NA()
Name _URG_CC_OP: NA()
Name _URG_CC_OP_1: NA()
Name _URG_CC_OP_1_1: NA()
Name _URG_CC_OP_1_1_1: NA()
Name A_impresión_IM: NA()
Name A_impresión_IM_1: NA()
Name anepresi: NA()
Name Anexo1a: NA()
Name Anexo1a_1: NA()
Name Autorizado: NA()
Name Autorizado_1: NA()
Name Autorizado_1_1: NA()
Name Autorizado_1_1_1: NA()
Name Autorizado_4: NA()
Name Autorizado_5: NA()
Name Autorizado_6: NA()
Name B: #REF!
Name B: #REF!
Name B_2010_original_sg_a: [1]ORIGINAL_SG!$A$10:$E$104
Name BActual: NA()
Name BActual_1: NA()
Name BaseOb1: NA()
Name BASUMAA: NA()
Name BASUMAA_1: NA()
Name BCTC: NA()
Name BDatos: NA()
Name BDatos_1: NA()
Name Boton: NA()
Name Boton_1: NA()
Name BSOCT08: NA()
Name BUOAP: '[2]UO AP'!$A$1:$D$64

Sheet Calendario completo
R1: Instituto Mexicano del Seguro Social
R2: Dirección de Administración
R3: Unidad de Administración
R4: Coordinación de Conservación y Servicios Generales
R5: División de Arrendamiento y Comercialización
A6: AVANCE PRESUPUESTAL 2026
H8: 2026M01 | I8: 2026M02 | J8: 2026M03 | K8: 2026M04 | L8: 2026M05 | M8: 2026M06 | N8: 2026M07 | O8: 2026M08 | P8: 2026M09 | Q8: 2026M10 | R8: 2026M11 | S8: 2026M12 | T8: Fecha: | U8: =NOW() -> 46283.468
A9: CUENTAS | B9: NOMBRE DE LA CUENTA | C9: PRESUPUESTO
F10: JULIO
C11: AUTORIZADO | D11: MODIFICADO | E11: EJERCIDO | F11: COMPROMETIDO | G11: DISPONIBLE | H11: ENERO | I11: FEBRERO | J11: MARZO | K11: ABRIL | L11: MAYO | M11: JUNIO | N11: JULIO | O11: AGOSTO | P11: SEPTIEMBRE | Q11: OCTUBRE | R11: NOVIEMBRE | S11: DICIEMBRE | T11: TOTAL | U11: OBSERVACIONES
A12: 51332007 | B12: CAPACITACIÓN EXTERNA | D12: =Hoja6!N21 -> 114750 | E12: =SUM(Hoja6!O21:Z21) -> 0 | F12: =Hoja6!AB42 -> 0 | G12: =Hoja6!AO21 -> 45900 | H12: =IFERROR((VLOOKUP($A12&H$8,Llave,12,FALSE)),0) -> 0 | I12: =IFERROR((VLOOKUP($A12&I$8,Llave,12,FALSE)),0) -> 0 | J12: =IFERROR((VLOOKUP($A12&J$8,Llave,12,FALSE)),0) -> 0 | K12: =IFERROR((VLOOKUP($A12&K$8,Llave,12,FALSE)),0) -> 0 | L12: =IFERROR((VLOOKUP($A12&L$8,Llave,12,FALSE)),0) -> 0 | M12: =IFERROR((VLOOKUP($A12&M$8,Llave,12,FALSE)),0) -> 0 | N12: =IFERROR((VLOOKUP($A12&N$8,Llave,12,FALSE)),0) -> 45900 | O12: =IFERROR((VLOOKUP($A12&O$8,Llave,12,FALSE)),0) -> 45900 | ... S12: =IFERROR((VLOOKUP($A12&S$8,Llave,12,FALSE)),0) -> 0 | T12: =SUM(H12:S12) -> 114750 | U12: Disponible
A13: 51211001 | B13: MATERIALES Y ÚTILES DE OFICINA | C13: 44520 | D13: =Hoja6!N22 -> 44520 | E13: =SUM(Hoja6!O22:Z22) -> 0 | F13: =Hoja6!AB43 -> 0 | G13: =Hoja6!AO22 -> 25970 | H13: =IFERROR((VLOOKUP($A13&H$8,Llave,12,FALSE)),0) -> 0 | I13: =IFERROR((VLOOKUP($A13&I$8,Llave,12,FALSE)),0) -> 0 | J13: =IFERROR((VLOOKUP($A13&J$8,Llave,12,FALSE)),0) -> 0 | K13: =IFERROR((VLOOKUP($A13&K$8,Llave,12,FALSE)),0) -> 0 | L13: =IFERROR((VLOOKUP($A13&L$8,Llave,12,FALSE)),0) -> 0 | M13: =IFERROR((VLOOKUP($A13&M$8,Llave,12,FALSE)),0) -> 0 | N13: =IFERROR((VLOOKUP($A13&N$8,Llave,12,FALSE)),0) -> 25970 | O13: =IFERROR((VLOOKUP($A13&O$8,Llave,12,FALSE)),0) -> 3710 | ... S13: =IFERROR((VLOOKUP($A13&S$8,Llave,12,FALSE)),0) -> 3710 | T13: =SUM(M13:S13) -> 44520 | U13: Disponible
A14: 51221003 | B14: PRODUCTOS ALIMENTICIOS PARA SERVIDORES PÚBLICOS | C14: 28740 | D14: =Hoja6!N23 -> 28740 | E14: =SUM(Hoja6!O23:Z23) -> 1043 | F14: =Hoja6!AB44 -> 0 | G14: =Hoja6!AO23 -> 15722 | H14: =IFERROR((VLOOKUP($A14&H$8,Llave,12,FALSE)),0) -> 0 | I14: =IFERROR((VLOOKUP($A14&I$8,Llave,12,FALSE)),0) -> 0 | J14: =IFERROR((VLOOKUP($A14&J$8,Llave,12,FALSE)),0) -> 0 | K14: =IFERROR((VLOOKUP($A14&K$8,Llave,12,FALSE)),0) -> 0 | L14: =IFERROR((VLOOKUP($A14&L$8,Llave,12,FALSE)),0) -> 0 | M14: =IFERROR((VLOOKUP($A14&M$8,Llave,12,FALSE)),0) -> 0 | N14: =IFERROR((VLOOKUP($A14&N$8,Llave,12,FALSE)),0) -> 15722 | O14: =IFERROR((VLOOKUP($A14&O$8,Llave,12,FALSE)),0) -> 2395 | ... S14: =IFERROR((VLOOKUP($A14&S$8,Llave,12,FALSE)),0) -> 2395 | T14: =SUM(M14:S14) -> 27697 | U14: Disponible
D15: =Hoja6!N24 -> 76432 | F15: =Hoja6!AB45 -> 0 | G15: =Hoja6!AO24 -> 44399.19 | H15: =IFERROR((VLOOKUP($A15&H$8,Llave,10,FALSE)),0) -> 0 | I15: =IFERROR((VLOOKUP($A15&I$8,Llave,10,FALSE)),0) -> 0 | J15: =IFERROR((VLOOKUP($A15&J$8,Llave,10,FALSE)),0) -> 0 | K15: =IFERROR((VLOOKUP($A15&K$8,Llave,10,FALSE)),0) -> 0 | L15: =IFERROR((VLOOKUP($A15&L$8,Llave,10,FALSE)),0) -> 0 | M15: =IFERROR((VLOOKUP($A15&M$8,Llave,10,FALSE)),0) -> 0 | N15: =IFERROR((VLOOKUP($A15&N$8,Llave,10,FALSE)),0) -> 0 | O15: =IFERROR((VLOOKUP($A15&O$8,Llave,10,FALSE)),0) -> 0 | ... S15: =IFERROR((VLOOKUP($A15&S$8,Llave,10,FALSE)),0) -> 0 | T15: =SUM(M15:S15) -> 0 | U15: Comprometido
D16: =Hoja6!N25 -> 1.6607196e+08 | F16: =Hoja6!AB46 -> 2346297.5 | G16: =Hoja6!AO25 -> 10944801 | H16: =+H14+H15 -> 0 | I16: =+I14+I15 -> 0 | J16: =+J14+J15 -> 0 | K16: =+K14+K15 -> 0 | L16: =+L14+L15 -> 0 | M16: =+M14+M15 -> 0 | N16: =+N14+N15 -> 15722 | O16: =+O14+O15 -> 2395 | ... S16: =+S14+S15 -> 2395 | T16: =SUM(M16:S16) -> 27697 | U16: Asignado
A17: 51261002 | B17: COMBUSTIBLES Y LUBRICANTES PARA VEHÍCULOS ADMINISTRATIVOS | C17: 126982 | D17: =Hoja6!N24 -> 76432 | E17: =SUM(Hoja6!O24:Z24) -> 185.81 | F17: =Hoja6!AB45 -> 0 | G17: =Hoja6!AO24 -> 44399.19 | H17: =IFERROR((VLOOKUP($A17&H$8,Llave,12,FALSE)),0) -> 0 | I17: =IFERROR((VLOOKUP($A17&I$8,Llave,12,FALSE)),0) -> 0 | J17: =IFERROR((VLOOKUP($A17&J$8,Llave,12,FALSE)),0) -> 0 | K17: =IFERROR((VLOOKUP($A17&K$8,Llave,12,FALSE)),0) -> 0 | L17: =IFERROR((VLOOKUP($A17&L$8,Llave,12,FALSE)),0) -> 0 | M17: =IFERROR((VLOOKUP($A17&M$8,Llave,12,FALSE)),0) -> 0 | N17: =IFERROR((VLOOKUP($A17&N$8,Llave,12,FALSE)),0) -> 44399.19 | O17: =IFERROR((VLOOKUP($A17&O$8,Llave,12,FALSE)),0) -> 6369 | ... S17: =IFERROR((VLOOKUP($A17&S$8,Llave,12,FALSE)),0) -> 6369 | T17: =SUM(M17:S17) -> 76246.19 | U17: Disponible
A18: 51321001 | B18: ARRENDAMIENTO DE INMUEBLES | C18: 117092565 | D18: =Hoja6!N25 -> 1.6607196e+08 | E18: =SUM(Hoja6!O25:Z25) -> 54528352 | F18: =Hoja6!AB46 -> 2346297.5 | G18: =Hoja6!AO25 -> 10944801 | H18: =IFERROR((VLOOKUP($A18&H$8,Llave,12,FALSE)),0) -> 0 | I18: =IFERROR((VLOOKUP($A18&I$8,Llave,12,FALSE)),0) -> 0 | J18: =IFERROR((VLOOKUP($A18&J$8,Llave,12,FALSE)),0) -> 0 | K18: =IFERROR((VLOOKUP($A18&K$8,Llave,12,FALSE)),0) -> 0 | L18: =IFERROR((VLOOKUP($A18&L$8,Llave,12,FALSE)),0) -> 0 | M18: =IFERROR((VLOOKUP($A18&M$8,Llave,12,FALSE)),0) -> 0 | N18: =IFERROR((VLOOKUP($A18&N$8,Llave,12,FALSE)),0) -> 10944801 | O18: =IFERROR((VLOOKUP($A18&O$8,Llave,12,FALSE)),0) -> 2471129 | ... S18: =IFERROR((VLOOKUP($A18&S$8,Llave,12,FALSE)),0) -> 14676103 | T18: =SUM(M18:S18) -> 52032660 | U18: Disponible
D19: =Hoja6!N26 -> 12480 | G19: =Hoja6!AO26 -> 4160.01 | H19: =IFERROR((VLOOKUP(#REF!&H$8,Llave,10,FALSE)),0) -> 0 | I19: =IFERROR((VLOOKUP(#REF!&I$8,Llave,10,FALSE)),0) -> 0 | J19: =IFERROR((VLOOKUP(#REF!&J$8,Llave,10,FALSE)),0) -> 0 | K19: =IFERROR((VLOOKUP(#REF!&K$8,Llave,10,FALSE)),0) -> 0 | L19: =IFERROR((VLOOKUP(#REF!&L$8,Llave,10,FALSE)),0) -> 0 | M19: =IFERROR((VLOOKUP(#REF!&M$8,Llave,10,FALSE)),0) -> 0 | N19: =IFERROR((VLOOKUP($A18&N$8,Llave,10,FALSE)),0) -> 2346297.5 | O19: =IFERROR((VLOOKUP($A18&O$8,Llave,10,FALSE)),0) -> 9479108.3 | P19: =IFERROR((VLOOKUP($A18&P$8,Llave,10,FALSE)),0) -> 9537108.3 | Q19: =IFERROR((VLOOKUP($A18&Q$8,Llave,10,FALSE)),0) -> 9537108.3 | R19: =IFERROR((VLOOKUP($A18&R$8,Llave,10,FALSE)),0) -> 9537108.3 | S19: =IFERROR((VLOOKUP($A18&S$8,Llave,10,FALSE)),0) -> 19074217 | T19: =SUM(M19:S19) -> 59510947 | U19: Comprometido
D20: =Hoja6!N27 -> 10337 | G20: =Hoja6!AO27 -> 3605 | H20: =+H18+H19 -> 0 | I20: =+I18+I19 -> 0 | J20: =+J18+J19 -> 0 | K20: =+K18+K19 -> 0 | L20: =+L18+L19 -> 0 | M20: =+M18+M19 -> 0 | N20: =+N18+N19 -> 13291098 | O20: =+O18+O19 -> 11950237 | ... S20: =+S18+S19 -> 33750320 | T20: =SUM((OFFSET($H20,0,(VLOOKUP('Calendario completo'!$F$10,Hoja6!$AG$3:$AI$14,3,FALSE)))):S20) -> 98252509 | U20: Asignado
A21: 51311004 | B21: SERVICIO TELEFÓNICO TRADICIONAL | C21: 12480 | D21: =Hoja6!N26 -> 12480 | E21: =SUM(Hoja6!O26:Z26) -> 3119.99 | F21: =Hoja6!AB47 -> 0 | G21: =Hoja6!AO26 -> 4160.01 | H21: =IFERROR((VLOOKUP($A21&H$8,Llave,12,FALSE)),0) -> 0 | I21: =IFERROR((VLOOKUP($A21&I$8,Llave,12,FALSE)),0) -> 0 | J21: =IFERROR((VLOOKUP($A21&J$8,Llave,12,FALSE)),0) -> 0 | K21: =IFERROR((VLOOKUP($A21&K$8,Llave,12,FALSE)),0) -> 0 | L21: =IFERROR((VLOOKUP($A21&L$8,Llave,12,FALSE)),0) -> 0 | M21: =IFERROR((VLOOKUP($A21&M$8,Llave,12,FALSE)),0) -> 0 | N21: =IFERROR((VLOOKUP($A21&N$8,Llave,12,FALSE)),0) -> 4160.01 | O21: =IFERROR((VLOOKUP($A21&O$8,Llave,12,FALSE)),0) -> 1040 | ... S21: =IFERROR((VLOOKUP($A21&S$8,Llave,12,FALSE)),0) -> 1040 | T21: =SUM(M21:S21) -> 9360.01 | U21: Disponible
A22: 51371004 | B22: PASAJES AL PERSONAL | C22: 10337 | D22: =Hoja6!N27 -> 10337 | E22: =SUM(Hoja6!O27:Z27) -> 2424 | F22: =Hoja6!AB48 -> 0 | G22: =Hoja6!AO27 -> 3605 | H22: =IFERROR((VLOOKUP($A22&H$8,Llave,12,FALSE)),0) -> 0 | I22: =IFERROR((VLOOKUP($A22&I$8,Llave,12,FALSE)),0) -> 0 | J22: =IFERROR((VLOOKUP($A22&J$8,Llave,12,FALSE)),0) -> 0 | K22: =IFERROR((VLOOKUP($A22&K$8,Llave,12,FALSE)),0) -> 0 | L22: =IFERROR((VLOOKUP($A22&L$8,Llave,12,FALSE)),0) -> 0 | M22: =IFERROR((VLOOKUP($A22&M$8,Llave,12,FALSE)),0) -> 0 | N22: =IFERROR((VLOOKUP($A22&N$8,Llave,12,FALSE)),0) -> 3605 | O22: =IFERROR((VLOOKUP($A22&O$8,Llave,12,FALSE)),0) -> 862 | ... S22: =IFERROR((VLOOKUP($A22&S$8,Llave,12,FALSE)),0) -> 862 | T22: =SUM(M22:S22) -> 7913 | U22: Disponible
A23: 51371007 | B23: VIÁTICOS NACIONALES | C23: 273821 | D23: =Hoja6!N28 -> 273821 | E23: =SUM(Hoja6!O28:Z28) -> 36906.35 | F23: =Hoja6!AB49 -> 0 | G23: =Hoja6!AO28 -> 142093.65 | H23: =IFERROR((VLOOKUP($A23&H$8,Llave,12,FALSE)),0) -> 0 | I23: =IFERROR((VLOOKUP($A23&I$8,Llave,12,FALSE)),0) -> 0 | J23: =IFERROR((VLOOKUP($A23&J$8,Llave,12,FALSE)),0) -> 0 | K23: =IFERROR((VLOOKUP($A23&K$8,Llave,12,FALSE)),0) -> 0 | L23: =IFERROR((VLOOKUP($A23&L$8,Llave,12,FALSE)),0) -> 0 | M23: =IFERROR((VLOOKUP($A23&M$8,Llave,12,FALSE)),0) -> 0 | N23: =IFERROR((VLOOKUP($A23&N$8,Llave,12,FALSE)),0) -> 142093.65 | O23: =IFERROR((VLOOKUP($A23&O$8,Llave,12,FALSE)),0) -> 25000 | ... S23: =IFERROR((VLOOKUP($A23&S$8,Llave,12,FALSE)),0) -> 11321 | T23: =SUM(M23:S23) -> 236914.65 | U23: Disponible
A24: 51371001 | B24: PASAJES AÉREOS NACIONALES NÓMINA ORDINARIA | C24: 923910 | D24: =Hoja6!N29 -> 923910 | E24: =SUM(Hoja6!O29:Z29) -> 21784.52 | F24: =Hoja6!AB50 -> 902125.48 | G24: =Hoja6!AO29 -> 0 | H24: =IFERROR((VLOOKUP($A24&H$8,Llave,12,FALSE)),0) -> 0 | I24: =IFERROR((VLOOKUP($A24&I$8,Llave,12,FALSE)),0) -> 0 | J24: =IFERROR((VLOOKUP($A24&J$8,Llave,12,FALSE)),0) -> 0 | K24: =IFERROR((VLOOKUP($A24&K$8,Llave,12,FALSE)),0) -> 0 | L24: =IFERROR((VLOOKUP($A24&L$8,Llave,12,FALSE)),0) -> 0 | M24: =IFERROR((VLOOKUP($A24&M$8,Llave,12,FALSE)),0) -> 0 | N24: =IFERROR((VLOOKUP($A24&N$8,Llave,12,FALSE)),0) -> 0 | O24: =IFERROR((VLOOKUP($A24&O$8,Llave,12,FALSE)),0) -> 0 | ... S24: =IFERROR((VLOOKUP($A24&S$8,Llave,12,FALSE)),0) -> 0 | T24: =SUM(M24:S24) -> 0 | U24: Disponible
D25: =Hoja6!N32 -> 13390 | F25: =Hoja6!AB51 -> 430980.24 | G25: =Hoja6!AO30 -> 0 | M25: 902125.48 | T25: =SUM(M25:S25) -> 902125.48 | U25: Comprometido
D26: =Hoja6!N33 -> 22242955 | F26: =Hoja6!AB52 -> 0 | G26: =Hoja6!#REF! -> #REF! | T26: =+T24+T25+E24 -> 923910 | U26: Asignado
A27: 51371002 | B27: PASAJES AÉREOS NACIONALES PARA SERVIDORES PÚBLICOS DE MANDO | C27: 544870 | D27: =Hoja6!N30 -> 544870 | E27: =SUM(Hoja6!O30:Z30) -> 113889.76 | F27: =Hoja6!AB51 -> 430980.24 | G27: =Hoja6!AO30 -> 0 | H27: =IFERROR((VLOOKUP($A27&H$8,Llave,12,FALSE)),0) -> 0 | I27: =IFERROR((VLOOKUP($A27&I$8,Llave,12,FALSE)),0) -> 0 | J27: =IFERROR((VLOOKUP($A27&J$8,Llave,12,FALSE)),0) -> 0 | K27: =IFERROR((VLOOKUP($A27&K$8,Llave,12,FALSE)),0) -> 0 | L27: =IFERROR((VLOOKUP($A27&L$8,Llave,12,FALSE)),0) -> 0 | M27: =IFERROR((VLOOKUP($A27&M$8,Llave,12,FALSE)),0) -> 0 | N27: =IFERROR((VLOOKUP($A27&N$8,Llave,12,FALSE)),0) -> 0 | O27: =IFERROR((VLOOKUP($A27&O$8,Llave,12,FALSE)),0) -> 0 | ... S27: =IFERROR((VLOOKUP($A27&S$8,Llave,12,FALSE)),0) -> 0 | T27: =SUM(M27:S27) -> 0 | U27: Disponible
D28: =Hoja6!N35 -> 35768 | F28: =Hoja6!AB54 -> 0 | G28: =Hoja6!AO33 -> 4865564 | M28: 430980.24 | T28: =SUM(M28:S28) -> 430980.24 | U28: Comprometido
D29: =Hoja6!N36 -> 1.9700083e+08 | F29: =Hoja6!AB55 -> 0 | G29: =Hoja6!AO34 -> 2241926 | T29: =+T27+T28+E27 -> 544870 | U29: Asignado
A30: 51371005 | B30: PASAJES TERRESTRES NACIONALES | C30: 103000 | D30: =Hoja6!N31 -> 103000 | E30: =SUM(Hoja6!O31:Z31) -> 4655.6 | F30: =Hoja6!AB52 -> 0 | G30: =Hoja6!AO31 -> 68344.4 | H30: =IFERROR((VLOOKUP($A30&H$8,Llave,12,FALSE)),0) -> 0 | I30: =IFERROR((VLOOKUP($A30&I$8,Llave,12,FALSE)),0) -> 0 | J30: =IFERROR((VLOOKUP($A30&J$8,Llave,12,FALSE)),0) -> 0 | K30: =IFERROR((VLOOKUP($A30&K$8,Llave,12,FALSE)),0) -> 0 | L30: =IFERROR((VLOOKUP($A30&L$8,Llave,12,FALSE)),0) -> 0 | M30: =IFERROR((VLOOKUP($A30&M$8,Llave,12,FALSE)),0) -> 0 | N30: =IFERROR((VLOOKUP($A30&N$8,Llave,12,FALSE)),0) -> 68344.4 | O30: =IFERROR((VLOOKUP($A30&O$8,Llave,12,FALSE)),0) -> 7500 | ... S30: =IFERROR((VLOOKUP($A30&S$8,Llave,12,FALSE)),0) -> 6000 | T30: =SUM(M30:S30) -> 98344.4 | U30: Disponible
A31: 51311013 | B31: GASTOS MENORES | C31: 13390 | D31: =Hoja6!N32 -> 13390 | E31: =SUM(Hoja6!O32:Z32) -> 0 | F31: =Hoja6!AB53 -> 0 | G31: =Hoja6!AO32 -> 7812 | H31: =IFERROR((VLOOKUP($A31&H$8,Llave,12,FALSE)),0) -> 0 | I31: =IFERROR((VLOOKUP($A31&I$8,Llave,12,FALSE)),0) -> 0 | J31: =IFERROR((VLOOKUP($A31&J$8,Llave,12,FALSE)),0) -> 0 | K31: =IFERROR((VLOOKUP($A31&K$8,Llave,12,FALSE)),0) -> 0 | L31: =IFERROR((VLOOKUP($A31&L$8,Llave,12,FALSE)),0) -> 0 | M31: =IFERROR((VLOOKUP($A31&M$8,Llave,12,FALSE)),0) -> 0 | N31: =IFERROR((VLOOKUP($A31&N$8,Llave,12,FALSE)),0) -> 7812 | O31: =IFERROR((VLOOKUP($A31&O$8,Llave,12,FALSE)),0) -> 1116 | ... S31: =IFERROR((VLOOKUP($A31&S$8,Llave,12,FALSE)),0) -> 1115 | T31: =SUM(M31:S31) -> 13390 | U31: Disponible
A32: 51341005 | B32: AVALÚOS Y JUSTIPRECIACIÓN | C32: 20314781 | D32: =Hoja6!N33 -> 22242955 | E32: =SUM(Hoja6!O33:Z33) -> 6852843 | F32: =Hoja6!AB54 -> 0 | G32: =Hoja6!AO33 -> 4865564 | H32: =IFERROR((VLOOKUP($A32&H$8,Llave,12,FALSE)),0) -> 0 | I32: =IFERROR((VLOOKUP($A32&I$8,Llave,12,FALSE)),0) -> 0 | J32: =IFERROR((VLOOKUP($A32&J$8,Llave,12,FALSE)),0) -> 0 | K32: =IFERROR((VLOOKUP($A32&K$8,Llave,12,FALSE)),0) -> 0 | L32: =IFERROR((VLOOKUP($A32&L$8,Llave,12,FALSE)),0) -> 0 | M32: =IFERROR((VLOOKUP($A32&M$8,Llave,12,FALSE)),0) -> 0 | N32: =IFERROR((VLOOKUP($A32&N$8,Llave,12,FALSE)),0) -> 4865564 | O32: =IFERROR((VLOOKUP($A32&O$8,Llave,12,FALSE)),0) -> 2367295 | ... S32: =IFERROR((VLOOKUP($A32&S$8,Llave,12,FALSE)),0) -> 903292 | T32: =SUM(M32:S32) -> 15390112 | U32: Disponible
A33: 51332001 | B33: SERVICIOS PROFESIONALES | C33: 7131966 | D33: =Hoja6!N34 -> 6503901.7 | E33: =SUM(Hoja6!O34:Z34) -> 0 | F33: =Hoja6!AB55 -> 0 | G33: =Hoja6!AO34 -> 2241926 | H33: =IFERROR((VLOOKUP($A33&H$8,Llave,12,FALSE)),0) -> 0 | I33: =IFERROR((VLOOKUP($A33&I$8,Llave,12,FALSE)),0) -> 0 | J33: =IFERROR((VLOOKUP($A33&J$8,Llave,12,FALSE)),0) -> 0 | K33: =IFERROR((VLOOKUP($A33&K$8,Llave,12,FALSE)),0) -> 0 | L33: =IFERROR((VLOOKUP($A33&L$8,Llave,12,FALSE)),0) -> 0 | M33: =IFERROR((VLOOKUP($A33&M$8,Llave,12,FALSE)),0) -> 0 | N33: =IFERROR((VLOOKUP($A33&N$8,Llave,12,FALSE)),0) -> 2241926 | O33: =IFERROR((VLOOKUP($A33&O$8,Llave,12,FALSE)),0) -> 1120961 | ... S33: =IFERROR((VLOOKUP($A33&S$8,Llave,12,FALSE)),0) -> 0 | T33: =SUM(M33:S33) -> 6503901.7 | U33: Disponible
A34: 51391001 | B34: DERECHOS FEDERALES, ESTATALES Y MUNICIPALES 1/ | D34: =Hoja6!N35 -> 35768 | E34: =SUM(Hoja6!O35:Z35) -> 35768 | F34: =Hoja6!AB56 -> 0 | G34: =Hoja6!AO35 -> 0 | H34: =IFERROR((VLOOKUP($A34&H$8,Llave,12,FALSE)),0) -> 0 | I34: =IFERROR((VLOOKUP($A34&I$8,Llave,12,FALSE)),0) -> 0 | J34: =IFERROR((VLOOKUP($A34&J$8,Llave,12,FALSE)),0) -> 0 | K34: =IFERROR((VLOOKUP($A34&K$8,Llave,12,FALSE)),0) -> 0 | L34: =IFERROR((VLOOKUP($A34&L$8,Llave,12,FALSE)),0) -> 0 | M34: =IFERROR((VLOOKUP($A34&M$8,Llave,12,FALSE)),0) -> 0 | N34: =IFERROR((VLOOKUP($A34&N$8,Llave,12,FALSE)),0) -> 0 | O34: =IFERROR((VLOOKUP($A34&O$8,Llave,12,FALSE)),0) -> 0 | ... S34: =IFERROR((VLOOKUP($A34&S$8,Llave,12,FALSE)),0) -> 0 | T34: =SUM(M34:S34) -> 0 | U34: Disponible
A35: TOTAL | C35: =+C12+C13+C14+C17+C18+C21+C22+C23+C24+C27+C30+C31+C32+C34 -> 139489396 | D35: =+D12+D13+D14+D17+D18+D21+D22+D23+D24+D27+D30+D31+D32+D34+D33 -> 1.9700083e+08 | G35: =G12+G13+G14+G17+G18+G21+G22+G23+G24+G27+G30+G31+G32+G33+G34 -> 18410297 | N35: =+N12+N13+N14+N17+N18+N21+N22+N23+N24+N27+N30+N31+N32+N34+N33 -> 18410297 | O35: =+O12+O13+O14+O17+O18+O21+O22+O23+O24+O27+O30+O31+O32+O33+O34 -> 6053277 | P35: =+P12+P13+P14+P17+P18+P21+P22+P23+P24+P27+P30+P31+P32+P33+P34 -> 10673121 | Q35: =+Q12+Q13+Q14+Q17+Q18+Q21+Q22+Q23+Q24+Q27+Q30+Q31+Q32+Q33+Q34 -> 11891568 | R35: =+R12+R13+R14+R17+R18+R21+R22+R23+R24+R27+R30+R31+R32+R33+R34 -> 11915339 | S35: =+S12+S13+S14+S17+S18+S21+S22+S23+S24+S27+S30+S31+S32+S33+S34 -> 15612207 | T35: =+T12+T13+T14+T17+T18+T21+T22+T23+T24+T27+T30+T31+T32+T34+T33 -> 74555809 | U35: Disponible
F36: =F12+F14+F17+F18+F21+F22+F23+F24+F27+F30+F31+F32+F33+F34 -> 3679403.2 | M36: =+M15+M19+M25+M28 -> 1333105.7 | N36: =+N15+N19+N25+N28 -> 2346297.5 | O36: =+O15+O19+O25+O28 -> 9479108.3 | P36: =+P15+P19+P25+P28 -> 9537108.3 | Q36: =+Q15+Q19+Q25+Q28 -> 9537108.3 | R36: =+R15+R19+R25+R28 -> 9537108.3 | S36: =+S15+S19+S25+S28 -> 19074217 | T36: =+T15+T19+T25+T28 -> 60844053 | U36: Comprometido
E37: =SUM(E12:E34) -> 61600972 | L37: =+L14+L17+L19+L21+L22+L23+L25+L28+L30++L32+L31+L34 -> 0 | T37: =SUM(Hoja1!I2:I102) -> 61600972 | U37: Ejercido
T38: =SUM(L38:S38) -> 0 | U38: Previsión
C39: =SUM(C35:C38) -> 139489396 | D39: =SUM(D35:D38) -> 1.9700083e+08 | E39: =SUM(E35:E38) -> 61600972 | F39: =SUM(F35:F38) -> 3679403.2 | G39: =SUM(G35:G38) -> 18410297 | H39: =SUM(H35:H38) -> 0 | I39: =SUM(I35:I38) -> 0 | J39: =SUM(J35:J38) -> 0 | ... T39: =SUM(T35:T38) -> 1.9700083e+08 | U39: Asignado
A41: Nota: | B41: 1/ Derechos federales, estatales y municipales, se solicito el reordenamiento de recursos a efecto de dar suficiencia presupuestal.

Sheet Hoja1
A1: Llave | B1: Cuenta | C1: Uni.Explot | D1: Centro Costo | E1: Uni.Información | F1: Proyecto | G1: Periodo | H1: Presupuesto | I1: Gasto | J1: Comprometido | K1: Precomprometido | L1: Disponible
A2: =B2&G2 -> 512110012026M07 | B2: 51211001 | C2: 9 | D2: 14D000 | E2: 99001 | F2: N/A | G2: 2026M07 | H2: 25970 | I2: 0 | J2: 0 | K2: 0 | L2: 25970
A3: =B3&G3 -> 512110012026M08 | B3: 51211001 | C3: 9 | D3: 14D000 | E3: 99001 | F3: N/A | G3: 2026M08 | H3: 3710 | I3: 0 | J3: 0 | K3: 0 | L3: 3710
A4: =B4&G4 -> 512110012026M09 | B4: 51211001 | C4: 9 | D4: 14D000 | E4: 99001 | F4: N/A | G4: 2026M09 | H4: 3710 | I4: 0 | J4: 0 | K4: 0 | L4: 3710
A5: =B5&G5 -> 512110012026M10 | B5: 51211001 | C5: 9 | D5: 14D000 | E5: 99001 | F5: N/A | G5: 2026M10 | H5: 3710 | I5: 0 | J5: 0 | K5: 0 | L5: 3710
A6: =B6&G6 -> 512110012026M11 | B6: 51211001 | C6: 9 | D6: 14D000 | E6: 99001 | F6: N/A | G6: 2026M11 | H6: 3710 | I6: 0 | J6: 0 | K6: 0 | L6: 3710
A7: =B7&G7 -> 512110012026M12 | B7: 51211001 | C7: 9 | D7: 14D000 | E7: 99001 | F7: N/A | G7: 2026M12 | H7: 3710 | I7: 0 | J7: 0 | K7: 0 | L7: 3710
A8: =B8&G8 -> 512210032026M02 | B8: 51221003 | C8: 9 | D8: 14D000 | E8: 99001 | F8: N/A | G8: 2026M02 | H8: 1043 | I8: 1043 | J8: 0 | K8: 0 | L8: 0
A9: =B9&G9 -> 512210032026M07 | B9: 51221003 | C9: 9 | D9: 14D000 | E9: 99001 | F9: N/A | G9: 2026M07 | H9: 15722 | I9: 0 | J9: 0 | K9: 0 | L9: 15722
A10: =B10&G10 -> 512210032026M08 | B10: 51221003 | C10: 9 | D10: 14D000 | E10: 99001 | F10: N/A | G10: 2026M08 | H10: 2395 | I10: 0 | J10: 0 | K10: 0 | L10: 2395
A11: =B11&G11 -> 512210032026M09 | B11: 51221003 | C11: 9 | D11: 14D000 | E11: 99001 | F11: N/A | G11: 2026M09 | H11: 2395 | I11: 0 | J11: 0 | K11: 0 | L11: 2395
A12: =B12&G12 -> 512210032026M10 | B12: 51221003 | C12: 9 | D12: 14D000 | E12: 99001 | F12: N/A | G12: 2026M10 | H12: 2395 | I12: 0 | J12: 0 | K12: 0 | L12: 2395
A13: =B13&G13 -> 512210032026M11 | B13: 51221003 | C13: 9 | D13: 14D000 | E13: 99001 | F13: N/A | G13: 2026M11 | H13: 2395 | I13: 0 | J13: 0 | K13: 0 | L13: 2395
... A102: =B102&G102 -> 513910012026M07 | B102: 51391001 | C102: 9 | D102: 14D000 | E102: 99001 | F102: N/A | G102: 2026M07 | H102: 35768 | I102: 35768 | J102: 0 | K102: 0 | L102: 0
A103: Total | H103: =SUM(H2:H102) -> 1.9700083e+08 | I103: =SUM(I2:I102) -> 61600972 | J103: =SUM(J2:J102) -> 59510947 | K103: =SUM(K2:K102) -> 1333105.7 | L103: =SUM(L2:L102) -> 74555809

Sheet Hoja6
AG2: MES | AH2: ID | AI2: ID2
AG3: ENERO | AH3: 2026M01 | AI3: 1 | AK3: =VLOOKUP('Calendario completo'!F10,Hoja6!AG3:AI14,3,FALSE) -> 7
AG4: FEBRERO | AH4: 2026M02 | AI4: 2
AG5: MARZO | AH5: 2026M03 | AI5: 3
AG6: ABRIL | AH6: 2026M04 | AI6: 4
AG7: MAYO | AH7: 2026M05 | AI7: 5
AG8: JUNIO | AH8: 2026M06 | AI8: 6
AG9: JULIO | AH9: 2026M07 | AI9: 7
AG10: AGOSTO | AH10: 2026M08 | AI10: 8
AG11: SEPTIEMBRE | AH11: 2026M09 | AI11: 9
AG12: OCTUBRE | AH12: 2026M10 | AI12: 10
AG13: NOVIEMBRE | AH13: 2026M11 | AI13: 11
AG14: DICIEMBRE | AH14: 2026M12 | AI14: 12
B18: ASIGNADO | O18: EJERCIDO | AB18: DISPONIBLE
B19: 2026M01 | C19: 2026M02 | D19: 2026M03 | E19: 2026M04 | F19: 2026M05 | G19: 2026M06 | H19: 2026M07 | I19: 2026M08 | J19: 2026M09 | K19: 2026M10 | L19: 2026M11 | M19: 2026M12 | O19: 2026M01 | P19: 2026M02 | Q19: 2026M03 | R19: 2026M04 | S19: 2026M05 | T19: 2026M06 | U19: 2026M07 | V19: 2026M08 | W19: 2026M09 | X19: 2026M10 | Y19: 2026M11 | Z19: 2026M12 | AB19: 2026M01 | AC19: 2026M02 | AD19: 2026M03 | AE19: 2026M04 | AF19: 2026M05 | AG19: 2026M06 | AH19: 2026M07 | AI19: 2026M08 | AJ19: 2026M09 | AK19: 2026M10 | AL19: 2026M11 | AM19: 2026M12 | AO19: Valor al mes:
B20: ENERO | C20: FEBRERO | D20: MARZO | E20: ABRIL | F20: MAYO | G20: JUNIO | H20: JULIO | I20: AGOSTO | J20: SEPTIEMBRE | K20: OCTUBRE | L20: NOVIEMBRE | M20: DICIEMBRE | N20: Total asignado | O20: ENERO | P20: FEBRERO | Q20: MARZO | R20: ABRIL | S20: MAYO | T20: JUNIO | U20: JULIO | V20: AGOSTO | W20: SEPTIEMBRE | X20: OCTUBRE | Y20: NOVIEMBRE | Z20: DICIEMBRE | AA20: Total ejercido | AB20: ENERO | AC20: FEBRERO | AD20: MARZO | AE20: ABRIL | AF20: MAYO | AG20: JUNIO | AH20: JULIO | AI20: AGOSTO | AJ20: SEPTIEMBRE | AK20: OCTUBRE | AL20: NOVIEMBRE | AM20: DICIEMBRE | AN20: Total Disponible | AO20: ='Calendario completo'!F10 -> JULIO
A21: 51332007 | B21: =IFERROR((VLOOKUP($A21&B$19,Llave,8,FALSE)),0) -> 0 | C21: =IFERROR((VLOOKUP($A21&C$19,Llave,8,FALSE)),0) -> 0 | D21: =IFERROR((VLOOKUP($A21&D$19,Llave,8,FALSE)),0) -> 0 | E21: =IFERROR((VLOOKUP($A21&E$19,Llave,8,FALSE)),0) -> 0 | F21: =IFERROR((VLOOKUP($A21&F$19,Llave,8,FALSE)),0) -> 0 | G21: =IFERROR((VLOOKUP($A21&G$19,Llave,8,FALSE)),0) -> 0 | H21: =IFERROR((VLOOKUP($A21&H$19,Llave,8,FALSE)),0) -> 45900 | I21: =IFERROR((VLOOKUP($A21&I$19,Llave,8,FALSE)),0) -> 45900 | ... M21: =IFERROR((VLOOKUP($A21&M$19,Llave,8,FALSE)),0) -> 0 | N21: =SUM(B21:M21) -> 114750 | O21: =IFERROR((VLOOKUP($A21&O$19,Llave,9,FALSE)),0) -> 0 | P21: =IFERROR((VLOOKUP($A21&P$19,Llave,9,FALSE)),0) -> 0 | Q21: =IFERROR((VLOOKUP($A21&Q$19,Llave,9,FALSE)),0) -> 0 | R21: =IFERROR((VLOOKUP($A21&R$19,Llave,9,FALSE)),0) -> 0 | S21: =IFERROR((VLOOKUP($A21&S$19,Llave,9,FALSE)),0) -> 0 | T21: =IFERROR((VLOOKUP($A21&T$19,Llave,9,FALSE)),0) -> 0 | U21: =IFERROR((VLOOKUP($A21&U$19,Llave,9,FALSE)),0) -> 0 | V21: =IFERROR((VLOOKUP($A21&V$19,Llave,9,FALSE)),0) -> 0 | ... Z21: =IFERROR((VLOOKUP($A21&Z$19,Llave,9,FALSE)),0) -> 0 | AA21: =SUM(O21:Z21) -> 0 | AB21: =IFERROR((VLOOKUP($A21&AB$19,Llave,12,FALSE)),0) -> 0 | AC21: =IFERROR((VLOOKUP($A21&AC$19,Llave,12,FALSE)),0) -> 0 | AD21: =IFERROR((VLOOKUP($A21&AD$19,Llave,12,FALSE)),0) -> 0 | AE21: =IFERROR((VLOOKUP($A21&AE$19,Llave,12,FALSE)),0) -> 0 | AF21: =IFERROR((VLOOKUP($A21&AF$19,Llave,12,FALSE)),0) -> 0 | AG21: =IFERROR((VLOOKUP($A21&AG$19,Llave,12,FALSE)),0) -> 0 | AH21: =IFERROR((VLOOKUP($A21&AH$19,Llave,12,FALSE)),0) -> 45900 | AI21: =IFERROR((VLOOKUP($A21&AI$19,Llave,12,FALSE)),0) -> 45900 | ... AM21: =IFERROR((VLOOKUP($A21&AM$19,Llave,12,FALSE)),0) -> 0 | AN21: =SUM(AB21:AM21) -> 114750 | AO21: =(OFFSET($AB21,0,((VLOOKUP('Calendario completo'!$F$10,Hoja6!$AG$3:$AI$14,3,FALSE))-1))) -> 45900
A22: 51211001 | B22: =IFERROR((VLOOKUP($A22&B$19,Llave,8,FALSE)),0) -> 0 | C22: =IFERROR((VLOOKUP($A22&C$19,Llave,8,FALSE)),0) -> 0 | D22: =IFERROR((VLOOKUP($A22&D$19,Llave,8,FALSE)),0) -> 0 | E22: =IFERROR((VLOOKUP($A22&E$19,Llave,8,FALSE)),0) -> 0 | F22: =IFERROR((VLOOKUP($A22&F$19,Llave,8,FALSE)),0) -> 0 | G22: =IFERROR((VLOOKUP($A22&G$19,Llave,8,FALSE)),0) -> 0 | H22: =IFERROR((VLOOKUP($A22&H$19,Llave,8,FALSE)),0) -> 25970 | I22: =IFERROR((VLOOKUP($A22&I$19,Llave,8,FALSE)),0) -> 3710 | ... M22: =IFERROR((VLOOKUP($A22&M$19,Llave,8,FALSE)),0) -> 3710 | N22: =SUM(B22:M22) -> 44520 | O22: =IFERROR((VLOOKUP($A22&O$19,Llave,9,FALSE)),0) -> 0 | P22: =IFERROR((VLOOKUP($A22&P$19,Llave,9,FALSE)),0) -> 0 | Q22: =IFERROR((VLOOKUP($A22&Q$19,Llave,9,FALSE)),0) -> 0 | R22: =IFERROR((VLOOKUP($A22&R$19,Llave,9,FALSE)),0) -> 0 | S22: =IFERROR((VLOOKUP($A22&S$19,Llave,9,FALSE)),0) -> 0 | T22: =IFERROR((VLOOKUP($A22&T$19,Llave,9,FALSE)),0) -> 0 | U22: =IFERROR((VLOOKUP($A22&U$19,Llave,9,FALSE)),0) -> 0 | V22: =IFERROR((VLOOKUP($A22&V$19,Llave,9,FALSE)),0) -> 0 | ... Z22: =IFERROR((VLOOKUP($A22&Z$19,Llave,9,FALSE)),0) -> 0 | AA22: =SUM(O22:Z22) -> 0 | AB22: =IFERROR((VLOOKUP($A22&AB$19,Llave,12,FALSE)),0) -> 0 | AC22: =IFERROR((VLOOKUP($A22&AC$19,Llave,12,FALSE)),0) -> 0 | AD22: =IFERROR((VLOOKUP($A22&AD$19,Llave,12,FALSE)),0) -> 0 | AE22: =IFERROR((VLOOKUP($A22&AE$19,Llave,12,FALSE)),0) -> 0 | AF22: =IFERROR((VLOOKUP($A22&AF$19,Llave,12,FALSE)),0) -> 0 | AG22: =IFERROR((VLOOKUP($A22&AG$19,Llave,12,FALSE)),0) -> 0 | AH22: =IFERROR((VLOOKUP($A22&AH$19,Llave,12,FALSE)),0) -> 25970 | AI22: =IFERROR((VLOOKUP($A22&AI$19,Llave,12,FALSE)),0) -> 3710 | ... AM22: =IFERROR((VLOOKUP($A22&AM$19,Llave,12,FALSE)),0) -> 3710 | AN22: =SUM(AB22:AM22) -> 44520 | AO22: =(OFFSET($AB22,0,((VLOOKUP('Calendario completo'!$F$10,Hoja6!$AG$3:$AI$14,3,FALSE))-1))) -> 25970
A23: 51221003 | B23: =IFERROR((VLOOKUP($A23&B$19,Llave,8,FALSE)),0) -> 0 | C23: =IFERROR((VLOOKUP($A23&C$19,Llave,8,FALSE)),0) -> 1043 | D23: =IFERROR((VLOOKUP($A23&D$19,Llave,8,FALSE)),0) -> 0 | E23: =IFERROR((VLOOKUP($A23&E$19,Llave,8,FALSE)),0) -> 0 | F23: =IFERROR((VLOOKUP($A23&F$19,Llave,8,FALSE)),0) -> 0 | G23: =IFERROR((VLOOKUP($A23&G$19,Llave,8,FALSE)),0) -> 0 | H23: =IFERROR((VLOOKUP($A23&H$19,Llave,8,FALSE)),0) -> 15722 | I23: =IFERROR((VLOOKUP($A23&I$19,Llave,8,FALSE)),0) -> 2395 | ... M23: =IFERROR((VLOOKUP($A23&M$19,Llave,8,FALSE)),0) -> 2395 | N23: =SUM(B23:M23) -> 28740 | O23: =IFERROR((VLOOKUP($A23&O$19,Llave,9,FALSE)),0) -> 0 | P23: =IFERROR((VLOOKUP($A23&P$19,Llave,9,FALSE)),0) -> 1043 | Q23: =IFERROR((VLOOKUP($A23&Q$19,Llave,9,FALSE)),0) -> 0 | R23: =IFERROR((VLOOKUP($A23&R$19,Llave,9,FALSE)),0) -> 0 | S23: =IFERROR((VLOOKUP($A23&S$19,Llave,9,FALSE)),0) -> 0 | T23: =IFERROR((VLOOKUP($A23&T$19,Llave,9,FALSE)),0) -> 0 | U23: =IFERROR((VLOOKUP($A23&U$19,Llave,9,FALSE)),0) -> 0 | V23: =IFERROR((VLOOKUP($A23&V$19,Llave,9,FALSE)),0) -> 0 | ... Z23: =IFERROR((VLOOKUP($A23&Z$19,Llave,9,FALSE)),0) -> 0 | AA23: =SUM(O23:Z23) -> 1043 | AB23: =IFERROR((VLOOKUP($A23&AB$19,Llave,12,FALSE)),0) -> 0 | AC23: =IFERROR((VLOOKUP($A23&AC$19,Llave,12,FALSE)),0) -> 0 | AD23: =IFERROR((VLOOKUP($A23&AD$19,Llave,12,FALSE)),0) -> 0 | AE23: =IFERROR((VLOOKUP($A23&AE$19,Llave,12,FALSE)),0) -> 0 | AF23: =IFERROR((VLOOKUP($A23&AF$19,Llave,12,FALSE)),0) -> 0 | AG23: =IFERROR((VLOOKUP($A23&AG$19,Llave,12,FALSE)),0) -> 0 | AH23: =IFERROR((VLOOKUP($A23&AH$19,Llave,12,FALSE)),0) -> 15722 | AI23: =IFERROR((VLOOKUP($A23&AI$19,Llave,12,FALSE)),0) -> 2395 | ... AM23: =IFERROR((VLOOKUP($A23&AM$19,Llave,12,FALSE)),0) -> 2395 | AN23: =SUM(AB23:AM23) -> 27697 | AO23: =(OFFSET($AB23,0,((VLOOKUP('Calendario completo'!$F$10,Hoja6!$AG$3:$AI$14,3,FALSE))-1))) -> 15722
A24: 51261002 | B24: =IFERROR((VLOOKUP($A24&B$19,Llave,8,FALSE)),0) -> 0 | C24: =IFERROR((VLOOKUP($A24&C$19,Llave,8,FALSE)),0) -> 185.81 | D24: =IFERROR((VLOOKUP($A24&D$19,Llave,8,FALSE)),0) -> 0 | E24: =IFERROR((VLOOKUP($A24&E$19,Llave,8,FALSE)),0) -> 0 | F24: =IFERROR((VLOOKUP($A24&F$19,Llave,8,FALSE)),0) -> 0 | G24: =IFERROR((VLOOKUP($A24&G$19,Llave,8,FALSE)),0) -> 0 | H24: =IFERROR((VLOOKUP($A24&H$19,Llave,8,FALSE)),0) -> 44399.19 | I24: =IFERROR((VLOOKUP($A24&I$19,Llave,8,FALSE)),0) -> 6369 | ... M24: =IFERROR((VLOOKUP($A24&M$19,Llave,8,FALSE)),0) -> 6369 | N24: =SUM(B24:M24) -> 76432 | O24: =IFERROR((VLOOKUP($A24&O$19,Llave,9,FALSE)),0) -> 0 | P24: =IFERROR((VLOOKUP($A24&P$19,Llave,9,FALSE)),0) -> 185.81 | Q24: =IFERROR((VLOOKUP($A24&Q$19,Llave,9,FALSE)),0) -> 0 | R24: =IFERROR((VLOOKUP($A24&R$19,Llave,9,FALSE)),0) -> 0 | S24: =IFERROR((VLOOKUP($A24&S$19,Llave,9,FALSE)),0) -> 0 | T24: =IFERROR((VLOOKUP($A24&T$19,Llave,9,FALSE)),0) -> 0 | U24: =IFERROR((VLOOKUP($A24&U$19,Llave,9,FALSE)),0) -> 0 | V24: =IFERROR((VLOOKUP($A24&V$19,Llave,9,FALSE)),0) -> 0 | ... Z24: =IFERROR((VLOOKUP($A24&Z$19,Llave,9,FALSE)),0) -> 0 | AA24: =SUM(O24:Z24) -> 185.81 | AB24: =IFERROR((VLOOKUP($A24&AB$19,Llave,12,FALSE)),0) -> 0 | AC24: =IFERROR((VLOOKUP($A24&AC$19,Llave,12,FALSE)),0) -> 0 | AD24: =IFERROR((VLOOKUP($A24&AD$19,Llave,12,FALSE)),0) -> 0 | AE24: =IFERROR((VLOOKUP($A24&AE$19,Llave,12,FALSE)),0) -> 0 | AF24: =IFERROR((VLOOKUP($A24&AF$19,Llave,12,FALSE)),0) -> 0 | AG24: =IFERROR((VLOOKUP($A24&AG$19,Llave,12,FALSE)),0) -> 0 | AH24: =IFERROR((VLOOKUP($A24&AH$19,Llave,12,FALSE)),0) -> 44399.19 | AI24: =IFERROR((VLOOKUP($A24&AI$19,Llave,12,FALSE)),0) -> 6369 | ... AM24: =IFERROR((VLOOKUP($A24&AM$19,Llave,12,FALSE)),0) -> 6369 | AN24: =SUM(AB24:AM24) -> 76246.19 | AO24: =(OFFSET($AB24,0,((VLOOKUP('Calendario completo'!$F$10,Hoja6!$AG$3:$AI$14,3,FALSE))-1))) -> 44399.19
A25: 51321001 | B25: =IFERROR((VLOOKUP($A25&B$19,Llave,8,FALSE)),0) -> 0 | C25: =IFERROR((VLOOKUP($A25&C$19,Llave,8,FALSE)),0) -> 7132815.3 | D25: =IFERROR((VLOOKUP($A25&D$19,Llave,8,FALSE)),0) -> 11825400 | E25: =IFERROR((VLOOKUP($A25&E$19,Llave,8,FALSE)),0) -> 9479107.3 | F25: =IFERROR((VLOOKUP($A25&F$19,Llave,8,FALSE)),0) -> 9479107.9 | G25: =IFERROR((VLOOKUP($A25&G$19,Llave,8,FALSE)),0) -> 9479107.9 | H25: =IFERROR((VLOOKUP($A25&H$19,Llave,8,FALSE)),0) -> 20423912 | I25: =IFERROR((VLOOKUP($A25&I$19,Llave,8,FALSE)),0) -> 11950237 | ... M25: =IFERROR((VLOOKUP($A25&M$19,Llave,8,FALSE)),0) -> 33750320 | N25: =SUM(B25:M25) -> 1.6607196e+08 | O25: =IFERROR((VLOOKUP($A25&O$19,Llave,9,FALSE)),0) -> 0 | P25: =IFERROR((VLOOKUP($A25&P$19,Llave,9,FALSE)),0) -> 7132815.3 | Q25: =IFERROR((VLOOKUP($A25&Q$19,Llave,9,FALSE)),0) -> 11825400 | R25: =IFERROR((VLOOKUP($A25&R$19,Llave,9,FALSE)),0) -> 9479107.3 | S25: =IFERROR((VLOOKUP($A25&S$19,Llave,9,FALSE)),0) -> 9479107.9 | T25: =IFERROR((VLOOKUP($A25&T$19,Llave,9,FALSE)),0) -> 9479107.9 | U25: =IFERROR((VLOOKUP($A25&U$19,Llave,9,FALSE)),0) -> 7132813.8 | V25: =IFERROR((VLOOKUP($A25&V$19,Llave,9,FALSE)),0) -> 0 | ... Z25: =IFERROR((VLOOKUP($A25&Z$19,Llave,9,FALSE)),0) -> 0 | AA25: =SUM(O25:Z25) -> 54528352 | AB25: =IFERROR((VLOOKUP($A25&AB$19,Llave,12,FALSE)),0) -> 0 | AC25: =IFERROR((VLOOKUP($A25&AC$19,Llave,12,FALSE)),0) -> 0 | AD25: =IFERROR((VLOOKUP($A25&AD$19,Llave,12,FALSE)),0) -> 0 | AE25: =IFERROR((VLOOKUP($A25&AE$19,Llave,12,FALSE)),0) -> 0 | AF25: =IFERROR((VLOOKUP($A25&AF$19,Llave,12,FALSE)),0) -> 0 | AG25: =IFERROR((VLOOKUP($A25&AG$19,Llave,12,FALSE)),0) -> 0 | AH25: =IFERROR((VLOOKUP($A25&AH$19,Llave,12,FALSE)),0) -> 10944801 | AI25: =IFERROR((VLOOKUP($A25&AI$19,Llave,12,FALSE)),0) -> 2471129 | ... AM25: =IFERROR((VLOOKUP($A25&AM$19,Llave,12,FALSE)),0) -> 14676103 | AN25: =SUM(AB25:AM25) -> 52032660 | AO25: =(OFFSET($AB25,0,((VLOOKUP('Calendario completo'!$F$10,Hoja6!$AG$3:$AI$14,3,FALSE))-1))) -> 10944801
A26: 51311004 | B26: =IFERROR((VLOOKUP($A26&B$19,Llave,8,FALSE)),0) -> 0 | C26: =IFERROR((VLOOKUP($A26&C$19,Llave,8,FALSE)),0) -> 1076.34 | D26: =IFERROR((VLOOKUP($A26&D$19,Llave,8,FALSE)),0) -> 1076.34 | E26: =IFERROR((VLOOKUP($A26&E$19,Llave,8,FALSE)),0) -> 967.31 | F26: =IFERROR((VLOOKUP($A26&F$19,Llave,8,FALSE)),0) -> 0 | G26: =IFERROR((VLOOKUP($A26&G$19,Llave,8,FALSE)),0) -> 0 | H26: =IFERROR((VLOOKUP($A26&H$19,Llave,8,FALSE)),0) -> 4160.01 | I26: =IFERROR((VLOOKUP($A26&I$19,Llave,8,FALSE)),0) -> 1040 | ... M26: =IFERROR((VLOOKUP($A26&M$19,Llave,8,FALSE)),0) -> 1040 | N26: =SUM(B26:M26) -> 12480 | O26: =IFERROR((VLOOKUP($A26&O$19,Llave,9,FALSE)),0) -> 0 | P26: =IFERROR((VLOOKUP($A26&P$19,Llave,9,FALSE)),0) -> 1076.34 | Q26: =IFERROR((VLOOKUP($A26&Q$19,Llave,9,FALSE)),0) -> 1076.34 | R26: =IFERROR((VLOOKUP($A26&R$19,Llave,9,FALSE)),0) -> 967.31 | S26: =IFERROR((VLOOKUP($A26&S$19,Llave,9,FALSE)),0) -> 0 | T26: =IFERROR((VLOOKUP($A26&T$19,Llave,9,FALSE)),0) -> 0 | U26: =IFERROR((VLOOKUP($A26&U$19,Llave,9,FALSE)),0) -> 0 | V26: =IFERROR((VLOOKUP($A26&V$19,Llave,9,FALSE)),0) -> 0 | ... Z26: =IFERROR((VLOOKUP($A26&Z$19,Llave,9,FALSE)),0) -> 0 | AA26: =SUM(O26:Z26) -> 3119.99 | AB26: =IFERROR((VLOOKUP($A26&AB$19,Llave,12,FALSE)),0) -> 0 | AC26: =IFERROR((VLOOKUP($A26&AC$19,Llave,12,FALSE)),0) -> 0 | AD26: =IFERROR((VLOOKUP($A26&AD$19,Llave,12,FALSE)),0) -> 0 | AE26: =IFERROR((VLOOKUP($A26&AE$19,Llave,12,FALSE)),0) -> 0 | AF26: =IFERROR((VLOOKUP($A26&AF$19,Llave,12,FALSE)),0) -> 0 | AG26: =IFERROR((VLOOKUP($A26&AG$19,Llave,12,FALSE)),0) -> 0 | AH26: =IFERROR((VLOOKUP($A26&AH$19,Llave,12,FALSE)),0) -> 4160.01 | AI26: =IFERROR((VLOOKUP($A26&AI$19,Llave,12,FALSE)),0) -> 1040 | ... AM26: =IFERROR((VLOOKUP($A26&AM$19,Llave,12,FALSE)),0) -> 1040 | AN26: =SUM(AB26:AM26) -> 9360.01 | AO26: =(OFFSET($AB26,0,((VLOOKUP('Calendario completo'!$F$10,Hoja6!$AG$3:$AI$14,3,FALSE))-1))) -> 4160.01
A27: 51371004 | B27: =IFERROR((VLOOKUP($A27&B$19,Llave,8,FALSE)),0) -> 0 | C27: =IFERROR((VLOOKUP($A27&C$19,Llave,8,FALSE)),0) -> 734 | D27: =IFERROR((VLOOKUP($A27&D$19,Llave,8,FALSE)),0) -> 0 | E27: =IFERROR((VLOOKUP($A27&E$19,Llave,8,FALSE)),0) -> 776 | F27: =IFERROR((VLOOKUP($A27&F$19,Llave,8,FALSE)),0) -> 0 | G27: =IFERROR((VLOOKUP($A27&G$19,Llave,8,FALSE)),0) -> 914 | H27: =IFERROR((VLOOKUP($A27&H$19,Llave,8,FALSE)),0) -> 3605 | I27: =IFERROR((VLOOKUP($A27&I$19,Llave,8,FALSE)),0) -> 862 | ... M27: =IFERROR((VLOOKUP($A27&M$19,Llave,8,FALSE)),0) -> 862 | N27: =SUM(B27:M27) -> 10337 | O27: =IFERROR((VLOOKUP($A27&O$19,Llave,9,FALSE)),0) -> 0 | P27: =IFERROR((VLOOKUP($A27&P$19,Llave,9,FALSE)),0) -> 734 | Q27: =IFERROR((VLOOKUP($A27&Q$19,Llave,9,FALSE)),0) -> 0 | R27: =IFERROR((VLOOKUP($A27&R$19,Llave,9,FALSE)),0) -> 776 | S27: =IFERROR((VLOOKUP($A27&S$19,Llave,9,FALSE)),0) -> 0 | T27: =IFERROR((VLOOKUP($A27&T$19,Llave,9,FALSE)),0) -> 914 | U27: =IFERROR((VLOOKUP($A27&U$19,Llave,9,FALSE)),0) -> 0 | V27: =IFERROR((VLOOKUP($A27&V$19,Llave,9,FALSE)),0) -> 0 | ... Z27: =IFERROR((VLOOKUP($A27&Z$19,Llave,9,FALSE)),0) -> 0 | AA27: =SUM(O27:Z27) -> 2424 | AB27: =IFERROR((VLOOKUP($A27&AB$19,Llave,12,FALSE)),0) -> 0 | AC27: =IFERROR((VLOOKUP($A27&AC$19,Llave,12,FALSE)),0) -> 0 | AD27: =IFERROR((VLOOKUP($A27&AD$19,Llave,12,FALSE)),0) -> 0 | AE27: =IFERROR((VLOOKUP($A27&AE$19,Llave,12,FALSE)),0) -> 0 | AF27: =IFERROR((VLOOKUP($A27&AF$19,Llave,12,FALSE)),0) -> 0 | AG27: =IFERROR((VLOOKUP($A27&AG$19,Llave,12,FALSE)),0) -> 0 | AH27: =IFERROR((VLOOKUP($A27&AH$19,Llave,12,FALSE)),0) -> 3605 | AI27: =IFERROR((VLOOKUP($A27&AI$19,Llave,12,FALSE)),0) -> 862 | ... AM27: =IFERROR((VLOOKUP($A27&AM$19,Llave,12,FALSE)),0) -> 862 | AN27: =SUM(AB27:AM27) -> 7913 | AO27: =(OFFSET($AB27,0,((VLOOKUP('Calendario completo'!$F$10,Hoja6!$AG$3:$AI$14,3,FALSE))-1))) -> 3605
A28: 51371007 | B28: =IFERROR((VLOOKUP($A28&B$19,Llave,8,FALSE)),0) -> 850 | C28: =IFERROR((VLOOKUP($A28&C$19,Llave,8,FALSE)),0) -> 1915.1 | D28: =IFERROR((VLOOKUP($A28&D$19,Llave,8,FALSE)),0) -> 3776.46 | E28: =IFERROR((VLOOKUP($A28&E$19,Llave,8,FALSE)),0) -> 3887 | F28: =IFERROR((VLOOKUP($A28&F$19,Llave,8,FALSE)),0) -> 12173.78 | G28: =IFERROR((VLOOKUP($A28&G$19,Llave,8,FALSE)),0) -> 14304.01 | H28: =IFERROR((VLOOKUP($A28&H$19,Llave,8,FALSE)),0) -> 142093.65 | I28: =IFERROR((VLOOKUP($A28&I$19,Llave,8,FALSE)),0) -> 25000 | ... M28: =IFERROR((VLOOKUP($A28&M$19,Llave,8,FALSE)),0) -> 11321 | N28: =SUM(B28:M28) -> 273821 | O28: =IFERROR((VLOOKUP($A28&O$19,Llave,9,FALSE)),0) -> 850 | P28: =IFERROR((VLOOKUP($A28&P$19,Llave,9,FALSE)),0) -> 1915.1 | Q28: =IFERROR((VLOOKUP($A28&Q$19,Llave,9,FALSE)),0) -> 3776.46 | R28: =IFERROR((VLOOKUP($A28&R$19,Llave,9,FALSE)),0) -> 3887 | S28: =IFERROR((VLOOKUP($A28&S$19,Llave,9,FALSE)),0) -> 12173.78 | T28: =IFERROR((VLOOKUP($A28&T$19,Llave,9,FALSE)),0) -> 14304.01 | U28: =IFERROR((VLOOKUP($A28&U$19,Llave,9,FALSE)),0) -> 0 | V28: =IFERROR((VLOOKUP($A28&V$19,Llave,9,FALSE)),0) -> 0 | ... Z28: =IFERROR((VLOOKUP($A28&Z$19,Llave,9,FALSE)),0) -> 0 | AA28: =SUM(O28:Z28) -> 36906.35 | AB28: =IFERROR((VLOOKUP($A28&AB$19,Llave,12,FALSE)),0) -> 0 | AC28: =IFERROR((VLOOKUP($A28&AC$19,Llave,12,FALSE)),0) -> 0 | AD28: =IFERROR((VLOOKUP($A28&AD$19,Llave,12,FALSE)),0) -> 0 | AE28: =IFERROR((VLOOKUP($A28&AE$19,Llave,12,FALSE)),0) -> 0 | AF28: =IFERROR((VLOOKUP($A28&AF$19,Llave,12,FALSE)),0) -> 0 | AG28: =IFERROR((VLOOKUP($A28&AG$19,Llave,12,FALSE)),0) -> 0 | AH28: =IFERROR((VLOOKUP($A28&AH$19,Llave,12,FALSE)),0) -> 142093.65 | AI28: =IFERROR((VLOOKUP($A28&AI$19,Llave,12,FALSE)),0) -> 25000 | ... AM28: =IFERROR((VLOOKUP($A28&AM$19,Llave,12,FALSE)),0) -> 11321 | AN28: =SUM(AB28:AM28) -> 236914.65 | AO28: =(OFFSET($AB28,0,((VLOOKUP('Calendario completo'!$F$10,Hoja6!$AG$3:$AI$14,3,FALSE))-1))) -> 142093.65
A29: 51371001 | B29: =IFERROR((VLOOKUP($A29&B$19,Llave,8,FALSE)),0) -> 0 | C29: =IFERROR((VLOOKUP($A29&C$19,Llave,8,FALSE)),0) -> 0 | D29: =IFERROR((VLOOKUP($A29&D$19,Llave,8,FALSE)),0) -> 0 | E29: =IFERROR((VLOOKUP($A29&E$19,Llave,8,FALSE)),0) -> 21784.52 | F29: =IFERROR((VLOOKUP($A29&F$19,Llave,8,FALSE)),0) -> 0 | G29: =IFERROR((VLOOKUP($A29&G$19,Llave,8,FALSE)),0) -> 0 | H29: =IFERROR((VLOOKUP($A29&H$19,Llave,8,FALSE)),0) -> 902125.48 | I29: =IFERROR((VLOOKUP($A29&I$19,Llave,8,FALSE)),0) -> 0 | ... M29: =IFERROR((VLOOKUP($A29&M$19,Llave,8,FALSE)),0) -> 0 | N29: =SUM(B29:M29) -> 923910 | O29: =IFERROR((VLOOKUP($A29&O$19,Llave,9,FALSE)),0) -> 0 | P29: =IFERROR((VLOOKUP($A29&P$19,Llave,9,FALSE)),0) -> 0 | Q29: =IFERROR((VLOOKUP($A29&Q$19,Llave,9,FALSE)),0) -> 0 | R29: =IFERROR((VLOOKUP($A29&R$19,Llave,9,FALSE)),0) -> 21784.52 | S29: =IFERROR((VLOOKUP($A29&S$19,Llave,9,FALSE)),0) -> 0 | T29: =IFERROR((VLOOKUP($A29&T$19,Llave,9,FALSE)),0) -> 0 | U29: =IFERROR((VLOOKUP($A29&U$19,Llave,9,FALSE)),0) -> 0 | V29: =IFERROR((VLOOKUP($A29&V$19,Llave,9,FALSE)),0) -> 0 | ... Z29: =IFERROR((VLOOKUP($A29&Z$19,Llave,9,FALSE)),0) -> 0 | AA29: =SUM(O29:Z29) -> 21784.52 | AB29: =IFERROR((VLOOKUP($A29&AB$19,Llave,12,FALSE)),0) -> 0 | AC29: =IFERROR((VLOOKUP($A29&AC$19,Llave,12,FALSE)),0) -> 0 | AD29: =IFERROR((VLOOKUP($A29&AD$19,Llave,12,FALSE)),0) -> 0 | AE29: =IFERROR((VLOOKUP($A29&AE$19,Llave,12,FALSE)),0) -> 0 | AF29: =IFERROR((VLOOKUP($A29&AF$19,Llave,12,FALSE)),0) -> 0 | AG29: =IFERROR((VLOOKUP($A29&AG$19,Llave,12,FALSE)),0) -> 0 | AH29: =IFERROR((VLOOKUP($A29&AH$19,Llave,12,FALSE)),0) -> 0 | AI29: =IFERROR((VLOOKUP($A29&AI$19,Llave,12,FALSE)),0) -> 0 | ... AM29: =IFERROR((VLOOKUP($A29&AM$19,Llave,12,FALSE)),0) -> 0 | AN29: =SUM(AB29:AM29) -> 0 | AO29: =(OFFSET($AB29,0,((VLOOKUP('Calendario completo'!$F$10,Hoja6!$AG$3:$AI$14,3,FALSE))-1))) -> 0
A30: 51371002 | B30: =IFERROR((VLOOKUP($A30&B$19,Llave,8,FALSE)),0) -> 0 | C30: =IFERROR((VLOOKUP($A30&C$19,Llave,8,FALSE)),0) -> 0 | D30: =IFERROR((VLOOKUP($A30&D$19,Llave,8,FALSE)),0) -> 0 | E30: =IFERROR((VLOOKUP($A30&E$19,Llave,8,FALSE)),0) -> 37256.72 | F30: =IFERROR((VLOOKUP($A30&F$19,Llave,8,FALSE)),0) -> 30589.6 | G30: =IFERROR((VLOOKUP($A30&G$19,Llave,8,FALSE)),0) -> 46043.44 | H30: =IFERROR((VLOOKUP($A30&H$19,Llave,8,FALSE)),0) -> 430980.24 | I30: =IFERROR((VLOOKUP($A30&I$19,Llave,8,FALSE)),0) -> 0 | ... M30: =IFERROR((VLOOKUP($A30&M$19,Llave,8,FALSE)),0) -> 0 | N30: =SUM(B30:M30) -> 544870 | O30: =IFERROR((VLOOKUP($A30&O$19,Llave,9,FALSE)),0) -> 0 | P30: =IFERROR((VLOOKUP($A30&P$19,Llave,9,FALSE)),0) -> 0 | Q30: =IFERROR((VLOOKUP($A30&Q$19,Llave,9,FALSE)),0) -> 0 | R30: =IFERROR((VLOOKUP($A30&R$19,Llave,9,FALSE)),0) -> 37256.72 | S30: =IFERROR((VLOOKUP($A30&S$19,Llave,9,FALSE)),0) -> 30589.6 | T30: =IFERROR((VLOOKUP($A30&T$19,Llave,9,FALSE)),0) -> 46043.44 | U30: =IFERROR((VLOOKUP($A30&U$19,Llave,9,FALSE)),0) -> 0 | V30: =IFERROR((VLOOKUP($A30&V$19,Llave,9,FALSE)),0) -> 0 | ... Z30: =IFERROR((VLOOKUP($A30&Z$19,Llave,9,FALSE)),0) -> 0 | AA30: =SUM(O30:Z30) -> 113889.76 | AB30: =IFERROR((VLOOKUP($A30&AB$19,Llave,12,FALSE)),0) -> 0 | AC30: =IFERROR((VLOOKUP($A30&AC$19,Llave,12,FALSE)),0) -> 0 | AD30: =IFERROR((VLOOKUP($A30&AD$19,Llave,12,FALSE)),0) -> 0 | AE30: =IFERROR((VLOOKUP($A30&AE$19,Llave,12,FALSE)),0) -> 0 | AF30: =IFERROR((VLOOKUP($A30&AF$19,Llave,12,FALSE)),0) -> 0 | AG30: =IFERROR((VLOOKUP($A30&AG$19,Llave,12,FALSE)),0) -> 0 | AH30: =IFERROR((VLOOKUP($A30&AH$19,Llave,12,FALSE)),0) -> 0 | AI30: =IFERROR((VLOOKUP($A30&AI$19,Llave,12,FALSE)),0) -> 0 | ... AM30: =IFERROR((VLOOKUP($A30&AM$19,Llave,12,FALSE)),0) -> 0 | AN30: =SUM(AB30:AM30) -> 0 | AO30: =(OFFSET($AB30,0,((VLOOKUP('Calendario completo'!$F$10,Hoja6!$AG$3:$AI$14,3,FALSE))-1))) -> 0
A31: 51371005 | B31: =IFERROR((VLOOKUP($A31&B$19,Llave,8,FALSE)),0) -> 0 | C31: =IFERROR((VLOOKUP($A31&C$19,Llave,8,FALSE)),0) -> 0 | D31: =IFERROR((VLOOKUP($A31&D$19,Llave,8,FALSE)),0) -> 0 | E31: =IFERROR((VLOOKUP($A31&E$19,Llave,8,FALSE)),0) -> 0 | F31: =IFERROR((VLOOKUP($A31&F$19,Llave,8,FALSE)),0) -> 0 | G31: =IFERROR((VLOOKUP($A31&G$19,Llave,8,FALSE)),0) -> 4090.6 | H31: =IFERROR((VLOOKUP($A31&H$19,Llave,8,FALSE)),0) -> 68909.4 | I31: =IFERROR((VLOOKUP($A31&I$19,Llave,8,FALSE)),0) -> 7500 | ... M31: =IFERROR((VLOOKUP($A31&M$19,Llave,8,FALSE)),0) -> 6000 | N31: =SUM(B31:M31) -> 103000 | O31: =IFERROR((VLOOKUP($A31&O$19,Llave,9,FALSE)),0) -> 0 | P31: =IFERROR((VLOOKUP($A31&P$19,Llave,9,FALSE)),0) -> 0 | Q31: =IFERROR((VLOOKUP($A31&Q$19,Llave,9,FALSE)),0) -> 0 | R31: =IFERROR((VLOOKUP($A31&R$19,Llave,9,FALSE)),0) -> 0 | S31: =IFERROR((VLOOKUP($A31&S$19,Llave,9,FALSE)),0) -> 0 | T31: =IFERROR((VLOOKUP($A31&T$19,Llave,9,FALSE)),0) -> 4090.6 | U31: =IFERROR((VLOOKUP($A31&U$19,Llave,9,FALSE)),0) -> 565 | V31: =IFERROR((VLOOKUP($A31&V$19,Llave,9,FALSE)),0) -> 0 | ... Z31: =IFERROR((VLOOKUP($A31&Z$19,Llave,9,FALSE)),0) -> 0 | AA31: =SUM(O31:Z31) -> 4655.6 | AB31: =IFERROR((VLOOKUP($A31&AB$19,Llave,12,FALSE)),0) -> 0 | AC31: =IFERROR((VLOOKUP($A31&AC$19,Llave,12,FALSE)),0) -> 0 | AD31: =IFERROR((VLOOKUP($A31&AD$19,Llave,12,FALSE)),0) -> 0 | AE31: =IFERROR((VLOOKUP($A31&AE$19,Llave,12,FALSE)),0) -> 0 | AF31: =IFERROR((VLOOKUP($A31&AF$19,Llave,12,FALSE)),0) -> 0 | AG31: =IFERROR((VLOOKUP($A31&AG$19,Llave,12,FALSE)),0) -> 0 | AH31: =IFERROR((VLOOKUP($A31&AH$19,Llave,12,FALSE)),0) -> 68344.4 | AI31: =IFERROR((VLOOKUP($A31&AI$19,Llave,12,FALSE)),0) -> 7500 | ... AM31: =IFERROR((VLOOKUP($A31&AM$19,Llave,12,FALSE)),0) -> 6000 | AN31: =SUM(AB31:AM31) -> 98344.4 | AO31: =(OFFSET($AB31,0,((VLOOKUP('Calendario completo'!$F$10,Hoja6!$AG$3:$AI$14,3,FALSE))-1))) -> 68344.4
A32: 51311013 | B32: =IFERROR((VLOOKUP($A32&B$19,Llave,8,FALSE)),0) -> 0 | C32: =IFERROR((VLOOKUP($A32&C$19,Llave,8,FALSE)),0) -> 0 | D32: =IFERROR((VLOOKUP($A32&D$19,Llave,8,FALSE)),0) -> 0 | E32: =IFERROR((VLOOKUP($A32&E$19,Llave,8,FALSE)),0) -> 0 | F32: =IFERROR((VLOOKUP($A32&F$19,Llave,8,FALSE)),0) -> 0 | G32: =IFERROR((VLOOKUP($A32&G$19,Llave,8,FALSE)),0) -> 0 | H32: =IFERROR((VLOOKUP($A32&H$19,Llave,8,FALSE)),0) -> 7812 | I32: =IFERROR((VLOOKUP($A32&I$19,Llave,8,FALSE)),0) -> 1116 | ... M32: =IFERROR((VLOOKUP($A32&M$19,Llave,8,FALSE)),0) -> 1115 | N32: =SUM(B32:M32) -> 13390 | O32: =IFERROR((VLOOKUP($A32&O$19,Llave,9,FALSE)),0) -> 0 | P32: =IFERROR((VLOOKUP($A32&P$19,Llave,9,FALSE)),0) -> 0 | Q32: =IFERROR((VLOOKUP($A32&Q$19,Llave,9,FALSE)),0) -> 0 | R32: =IFERROR((VLOOKUP($A32&R$19,Llave,9,FALSE)),0) -> 0 | S32: =IFERROR((VLOOKUP($A32&S$19,Llave,9,FALSE)),0) -> 0 | T32: =IFERROR((VLOOKUP($A32&T$19,Llave,9,FALSE)),0) -> 0 | U32: =IFERROR((VLOOKUP($A32&U$19,Llave,9,FALSE)),0) -> 0 | V32: =IFERROR((VLOOKUP($A32&V$19,Llave,9,FALSE)),0) -> 0 | ... Z32: =IFERROR((VLOOKUP($A32&Z$19,Llave,9,FALSE)),0) -> 0 | AA32: =SUM(O32:Z32) -> 0 | AB32: =IFERROR((VLOOKUP($A32&AB$19,Llave,12,FALSE)),0) -> 0 | AC32: =IFERROR((VLOOKUP($A32&AC$19,Llave,12,FALSE)),0) -> 0 | AD32: =IFERROR((VLOOKUP($A32&AD$19,Llave,12,FALSE)),0) -> 0 | AE32: =IFERROR((VLOOKUP($A32&AE$19,Llave,12,FALSE)),0) -> 0 | AF32: =IFERROR((VLOOKUP($A32&AF$19,Llave,12,FALSE)),0) -> 0 | AG32: =IFERROR((VLOOKUP($A32&AG$19,Llave,12,FALSE)),0) -> 0 | AH32: =IFERROR((VLOOKUP($A32&AH$19,Llave,12,FALSE)),0) -> 7812 | AI32: =IFERROR((VLOOKUP($A32&AI$19,Llave,12,FALSE)),0) -> 1116 | ... AM32: =IFERROR((VLOOKUP($A32&AM$19,Llave,12,FALSE)),0) -> 1115 | AN32: =SUM(AB32:AM32) -> 13390 | AO32: =(OFFSET($AB32,0,((VLOOKUP('Calendario completo'!$F$10,Hoja6!$AG$3:$AI$14,3,FALSE))-1))) -> 7812
... A35: 51391001 | B35: =IFERROR((VLOOKUP($A35&B$19,Llave,8,FALSE)),0) -> 0 | C35: =IFERROR((VLOOKUP($A35&C$19,Llave,8,FALSE)),0) -> 0 | D35: =IFERROR((VLOOKUP($A35&D$19,Llave,8,FALSE)),0) -> 0 | E35: =IFERROR((VLOOKUP($A35&E$19,Llave,8,FALSE)),0) -> 0 | F35: =IFERROR((VLOOKUP($A35&F$19,Llave,8,FALSE)),0) -> 0 | G35: =IFERROR((VLOOKUP($A35&G$19,Llave,8,FALSE)),0) -> 0 | H35: =IFERROR((VLOOKUP($A35&H$19,Llave,8,FALSE)),0) -> 35768 | I35: =IFERROR((VLOOKUP($A35&I$19,Llave,8,FALSE)),0) -> 0 | ... M35: =IFERROR((VLOOKUP($A35&M$19,Llave,8,FALSE)),0) -> 0 | N35: =SUM(B35:M35) -> 35768 | O35: =IFERROR((VLOOKUP($A35&O$19,Llave,9,FALSE)),0) -> 0 | P35: =IFERROR((VLOOKUP($A35&P$19,Llave,9,FALSE)),0) -> 0 | Q35: =IFERROR((VLOOKUP($A35&Q$19,Llave,9,FALSE)),0) -> 0 | R35: =IFERROR((VLOOKUP($A35&R$19,Llave,9,FALSE)),0) -> 0 | S35: =IFERROR((VLOOKUP($A35&S$19,Llave,9,FALSE)),0) -> 0 | T35: =IFERROR((VLOOKUP($A35&T$19,Llave,9,FALSE)),0) -> 0 | U35: =IFERROR((VLOOKUP($A35&U$19,Llave,9,FALSE)),0) -> 35768 | V35: =IFERROR((VLOOKUP($A35&V$19,Llave,9,FALSE)),0) -> 0 | ... Z35: =IFERROR((VLOOKUP($A35&Z$19,Llave,9,FALSE)),0) -> 0 | AA35: =SUM(O35:Z35) -> 35768 | AB35: =IFERROR((VLOOKUP($A35&AB$19,Llave,12,FALSE)),0) -> 0 | AC35: =IFERROR((VLOOKUP($A35&AC$19,Llave,12,FALSE)),0) -> 0 | AD35: =IFERROR((VLOOKUP($A35&AD$19,Llave,12,FALSE)),0) -> 0 | AE35: =IFERROR((VLOOKUP($A35&AE$19,Llave,12,FALSE)),0) -> 0 | AF35: =IFERROR((VLOOKUP($A35&AF$19,Llave,12,FALSE)),0) -> 0 | AG35: =IFERROR((VLOOKUP($A35&AG$19,Llave,12,FALSE)),0) -> 0 | AH35: =IFERROR((VLOOKUP($A35&AH$19,Llave,12,FALSE)),0) -> 0 | AI35: =IFERROR((VLOOKUP($A35&AI$19,Llave,12,FALSE)),0) -> 0 | ... AM35: =IFERROR((VLOOKUP($A35&AM$19,Llave,12,FALSE)),0) -> 0 | AN35: =SUM(AB35:AM35) -> 0 | AO35: =(OFFSET($AB35,0,((VLOOKUP('Calendario completo'!$F$10,Hoja6!$AG$3:$AI$14,3,FALSE))-1))) -> 0
N36: =SUM(N21:N35) -> 1.9700083e+08 | AA36: =SUM(AA21:AA35) -> 61600972 | AH36: =SUM(AH21:AH35) -> 18410297 | AI36: =SUM(AI21:AI35) -> 6053277 | AJ36: =SUM(AJ21:AJ35) -> 10673121 | AK36: =SUM(AK21:AK35) -> 11891568 | AL36: =SUM(AL21:AL35) -> 11915339 | AM36: =SUM(AM21:AM35) -> 15612207 | AN36: =SUM(AN21:AN35) -> 74555809 | AO36: =SUM(AO21:AO35) -> 18410297
B39: COMPROMETIDO | O39: PRECOMPROMETIDO
B40: 2026M01 | C40: 2026M02 | D40: 2026M03 | E40: 2026M04 | F40: 2026M05 | G40: 2026M06 | H40: 2026M07 | I40: 2026M08 | J40: 2026M09 | K40: 2026M10 | L40: 2026M11 | M40: 2026M12 | O40: 2026M01 | P40: 2026M02 | Q40: 2026M03 | R40: 2026M04 | S40: 2026M05 | T40: 2026M06 | U40: 2026M07 | V40: 2026M08 | W40: 2026M09 | X40: 2026M10 | Y40: 2026M11 | Z40: 2026M12
B41: ENERO | C41: FEBRERO | D41: MARZO | E41: ABRIL | F41: MAYO | G41: JUNIO | H41: JULIO | I41: AGOSTO | J41: SEPTIEMBRE | K41: OCTUBRE | L41: NOVIEMBRE | M41: DICIEMBRE | N41: SubTotal Comprometido | O41: ENERO | P41: FEBRERO | Q41: MARZO | R41: ABRIL | S41: MAYO | T41: JUNIO | U41: JULIO | V41: AGOSTO | W41: SEPTIEMBRE | X41: OCTUBRE | Y41: NOVIEMBRE | Z41: DICIEMBRE | AA41: subtotal Precomprometido | AB41: Total Comprometido
A42: 51332007 | B42: =IFERROR((VLOOKUP($A42&B$19,Llave,10,FALSE)),0) -> 0 | C42: =IFERROR((VLOOKUP($A42&C$19,Llave,10,FALSE)),0) -> 0 | D42: =IFERROR((VLOOKUP($A42&D$19,Llave,10,FALSE)),0) -> 0 | E42: =IFERROR((VLOOKUP($A42&E$19,Llave,10,FALSE)),0) -> 0 | F42: =IFERROR((VLOOKUP($A42&F$19,Llave,10,FALSE)),0) -> 0 | G42: =IFERROR((VLOOKUP($A42&G$19,Llave,10,FALSE)),0) -> 0 | H42: =IFERROR((VLOOKUP($A42&H$19,Llave,10,FALSE)),0) -> 0 | I42: =IFERROR((VLOOKUP($A42&I$19,Llave,10,FALSE)),0) -> 0 | ... M42: =IFERROR((VLOOKUP($A42&M$19,Llave,10,FALSE)),0) -> 0 | N42: =SUM(B42:H42) -> 0 | O42: =IFERROR((VLOOKUP($A42&O$19,Llave,11,FALSE)),0) -> 0 | P42: =IFERROR((VLOOKUP($A42&P$19,Llave,11,FALSE)),0) -> 0 | Q42: =IFERROR((VLOOKUP($A42&Q$19,Llave,11,FALSE)),0) -> 0 | R42: =IFERROR((VLOOKUP($A42&R$19,Llave,11,FALSE)),0) -> 0 | S42: =IFERROR((VLOOKUP($A42&S$19,Llave,11,FALSE)),0) -> 0 | T42: =IFERROR((VLOOKUP($A42&T$19,Llave,11,FALSE)),0) -> 0 | U42: =IFERROR((VLOOKUP($A42&U$19,Llave,11,FALSE)),0) -> 0 | V42: =IFERROR((VLOOKUP($A42&V$19,Llave,11,FALSE)),0) -> 0 | ... Z42: =IFERROR((VLOOKUP($A42&Z$19,Llave,11,FALSE)),0) -> 0 | AA42: =SUM(O42:U42) -> 0 | AB42: =N42+AA42 -> 0
A43: 51211001 | B43: =IFERROR((VLOOKUP($A43&B$19,Llave,10,FALSE)),0) -> 0 | C43: =IFERROR((VLOOKUP($A43&C$19,Llave,10,FALSE)),0) -> 0 | D43: =IFERROR((VLOOKUP($A43&D$19,Llave,10,FALSE)),0) -> 0 | E43: =IFERROR((VLOOKUP($A43&E$19,Llave,10,FALSE)),0) -> 0 | F43: =IFERROR((VLOOKUP($A43&F$19,Llave,10,FALSE)),0) -> 0 | G43: =IFERROR((VLOOKUP($A43&G$19,Llave,10,FALSE)),0) -> 0 | H43: =IFERROR((VLOOKUP($A43&H$19,Llave,10,FALSE)),0) -> 0 | I43: =IFERROR((VLOOKUP($A43&I$19,Llave,10,FALSE)),0) -> 0 | ... M43: =IFERROR((VLOOKUP($A43&M$19,Llave,10,FALSE)),0) -> 0 | N43: =SUM(B43:H43) -> 0 | O43: =IFERROR((VLOOKUP($A43&O$19,Llave,11,FALSE)),0) -> 0 | P43: =IFERROR((VLOOKUP($A43&P$19,Llave,11,FALSE)),0) -> 0 | Q43: =IFERROR((VLOOKUP($A43&Q$19,Llave,11,FALSE)),0) -> 0 | R43: =IFERROR((VLOOKUP($A43&R$19,Llave,11,FALSE)),0) -> 0 | S43: =IFERROR((VLOOKUP($A43&S$19,Llave,11,FALSE)),0) -> 0 | T43: =IFERROR((VLOOKUP($A43&T$19,Llave,11,FALSE)),0) -> 0 | U43: =IFERROR((VLOOKUP($A43&U$19,Llave,11,FALSE)),0) -> 0 | V43: =IFERROR((VLOOKUP($A43&V$19,Llave,11,FALSE)),0) -> 0 | ... Z43: =IFERROR((VLOOKUP($A43&Z$19,Llave,11,FALSE)),0) -> 0 | AA43: =SUM(O43:U43) -> 0 | AB43: =N43+AA43 -> 0
A44: 51221003 | B44: =IFERROR((VLOOKUP($A44&B$19,Llave,10,FALSE)),0) -> 0 | C44: =IFERROR((VLOOKUP($A44&C$19,Llave,10,FALSE)),0) -> 0 | D44: =IFERROR((VLOOKUP($A44&D$19,Llave,10,FALSE)),0) -> 0 | E44: =IFERROR((VLOOKUP($A44&E$19,Llave,10,FALSE)),0) -> 0 | F44: =IFERROR((VLOOKUP($A44&F$19,Llave,10,FALSE)),0) -> 0 | G44: =IFERROR((VLOOKUP($A44&G$19,Llave,10,FALSE)),0) -> 0 | H44: =IFERROR((VLOOKUP($A44&H$19,Llave,10,FALSE)),0) -> 0 | I44: =IFERROR((VLOOKUP($A44&I$19,Llave,10,FALSE)),0) -> 0 | ... M44: =IFERROR((VLOOKUP($A44&M$19,Llave,10,FALSE)),0) -> 0 | N44: =SUM(B44:H44) -> 0 | O44: =IFERROR((VLOOKUP($A44&O$19,Llave,11,FALSE)),0) -> 0 | P44: =IFERROR((VLOOKUP($A44&P$19,Llave,11,FALSE)),0) -> 0 | Q44: =IFERROR((VLOOKUP($A44&Q$19,Llave,11,FALSE)),0) -> 0 | R44: =IFERROR((VLOOKUP($A44&R$19,Llave,11,FALSE)),0) -> 0 | S44: =IFERROR((VLOOKUP($A44&S$19,Llave,11,FALSE)),0) -> 0 | T44: =IFERROR((VLOOKUP($A44&T$19,Llave,11,FALSE)),0) -> 0 | U44: =IFERROR((VLOOKUP($A44&U$19,Llave,11,FALSE)),0) -> 0 | V44: =IFERROR((VLOOKUP($A44&V$19,Llave,11,FALSE)),0) -> 0 | ... Z44: =IFERROR((VLOOKUP($A44&Z$19,Llave,11,FALSE)),0) -> 0 | AA44: =SUM(O44:U44) -> 0 | AB44: =N44+AA44 -> 0
A45: 51261002 | B45: =IFERROR((VLOOKUP($A45&B$19,Llave,10,FALSE)),0) -> 0 | C45: =IFERROR((VLOOKUP($A45&C$19,Llave,10,FALSE)),0) -> 0 | D45: =IFERROR((VLOOKUP($A45&D$19,Llave,10,FALSE)),0) -> 0 | E45: =IFERROR((VLOOKUP($A45&E$19,Llave,10,FALSE)),0) -> 0 | F45: =IFERROR((VLOOKUP($A45&F$19,Llave,10,FALSE)),0) -> 0 | G45: =IFERROR((VLOOKUP($A45&G$19,Llave,10,FALSE)),0) -> 0 | H45: =IFERROR((VLOOKUP($A45&H$19,Llave,10,FALSE)),0) -> 0 | I45: =IFERROR((VLOOKUP($A45&I$19,Llave,10,FALSE)),0) -> 0 | ... M45: =IFERROR((VLOOKUP($A45&M$19,Llave,10,FALSE)),0) -> 0 | N45: =SUM(B45:H45) -> 0 | O45: =IFERROR((VLOOKUP($A45&O$19,Llave,11,FALSE)),0) -> 0 | P45: =IFERROR((VLOOKUP($A45&P$19,Llave,11,FALSE)),0) -> 0 | Q45: =IFERROR((VLOOKUP($A45&Q$19,Llave,11,FALSE)),0) -> 0 | R45: =IFERROR((VLOOKUP($A45&R$19,Llave,11,FALSE)),0) -> 0 | S45: =IFERROR((VLOOKUP($A45&S$19,Llave,11,FALSE)),0) -> 0 | T45: =IFERROR((VLOOKUP($A45&T$19,Llave,11,FALSE)),0) -> 0 | U45: =IFERROR((VLOOKUP($A45&U$19,Llave,11,FALSE)),0) -> 0 | V45: =IFERROR((VLOOKUP($A45&V$19,Llave,11,FALSE)),0) -> 0 | ... Z45: =IFERROR((VLOOKUP($A45&Z$19,Llave,11,FALSE)),0) -> 0 | AA45: =SUM(O45:U45) -> 0 | AB45: =N45+AA45 -> 0
A46: 51321001 | B46: =IFERROR((VLOOKUP($A46&B$19,Llave,10,FALSE)),0) -> 0 | C46: =IFERROR((VLOOKUP($A46&C$19,Llave,10,FALSE)),0) -> 0 | D46: =IFERROR((VLOOKUP($A46&D$19,Llave,10,FALSE)),0) -> 0 | E46: =IFERROR((VLOOKUP($A46&E$19,Llave,10,FALSE)),0) -> 0 | F46: =IFERROR((VLOOKUP($A46&F$19,Llave,10,FALSE)),0) -> 0 | G46: =IFERROR((VLOOKUP($A46&G$19,Llave,10,FALSE)),0) -> 0 | H46: =IFERROR((VLOOKUP($A46&H$19,Llave,10,FALSE)),0) -> 2346297.5 | I46: =IFERROR((VLOOKUP($A46&I$19,Llave,10,FALSE)),0) -> 9479108.3 | ... M46: =IFERROR((VLOOKUP($A46&M$19,Llave,10,FALSE)),0) -> 19074217 | N46: =SUM(B46:H46) -> 2346297.5 | O46: =IFERROR((VLOOKUP($A46&O$19,Llave,11,FALSE)),0) -> 0 | P46: =IFERROR((VLOOKUP($A46&P$19,Llave,11,FALSE)),0) -> 0 | Q46: =IFERROR((VLOOKUP($A46&Q$19,Llave,11,FALSE)),0) -> 0 | R46: =IFERROR((VLOOKUP($A46&R$19,Llave,11,FALSE)),0) -> 0 | S46: =IFERROR((VLOOKUP($A46&S$19,Llave,11,FALSE)),0) -> 0 | T46: =IFERROR((VLOOKUP($A46&T$19,Llave,11,FALSE)),0) -> 0 | U46: =IFERROR((VLOOKUP($A46&U$19,Llave,11,FALSE)),0) -> 0 | V46: =IFERROR((VLOOKUP($A46&V$19,Llave,11,FALSE)),0) -> 0 | ... Z46: =IFERROR((VLOOKUP($A46&Z$19,Llave,11,FALSE)),0) -> 0 | AA46: =SUM(O46:U46) -> 0 | AB46: =N46+AA46 -> 2346297.5
A47: 51311004 | B47: =IFERROR((VLOOKUP($A47&B$19,Llave,10,FALSE)),0) -> 0 | C47: =IFERROR((VLOOKUP($A47&C$19,Llave,10,FALSE)),0) -> 0 | D47: =IFERROR((VLOOKUP($A47&D$19,Llave,10,FALSE)),0) -> 0 | E47: =IFERROR((VLOOKUP($A47&E$19,Llave,10,FALSE)),0) -> 0 | F47: =IFERROR((VLOOKUP($A47&F$19,Llave,10,FALSE)),0) -> 0 | G47: =IFERROR((VLOOKUP($A47&G$19,Llave,10,FALSE)),0) -> 0 | H47: =IFERROR((VLOOKUP($A47&H$19,Llave,10,FALSE)),0) -> 0 | I47: =IFERROR((VLOOKUP($A47&I$19,Llave,10,FALSE)),0) -> 0 | ... M47: =IFERROR((VLOOKUP($A47&M$19,Llave,10,FALSE)),0) -> 0 | N47: =SUM(B47:H47) -> 0 | O47: =IFERROR((VLOOKUP($A47&O$19,Llave,11,FALSE)),0) -> 0 | P47: =IFERROR((VLOOKUP($A47&P$19,Llave,11,FALSE)),0) -> 0 | Q47: =IFERROR((VLOOKUP($A47&Q$19,Llave,11,FALSE)),0) -> 0 | R47: =IFERROR((VLOOKUP($A47&R$19,Llave,11,FALSE)),0) -> 0 | S47: =IFERROR((VLOOKUP($A47&S$19,Llave,11,FALSE)),0) -> 0 | T47: =IFERROR((VLOOKUP($A47&T$19,Llave,11,FALSE)),0) -> 0 | U47: =IFERROR((VLOOKUP($A47&U$19,Llave,11,FALSE)),0) -> 0 | V47: =IFERROR((VLOOKUP($A47&V$19,Llave,11,FALSE)),0) -> 0 | ... Z47: =IFERROR((VLOOKUP($A47&Z$19,Llave,11,FALSE)),0) -> 0 | AA47: =SUM(O47:U47) -> 0 | AB47: =N47+AA47 -> 0
A48: 51371004 | B48: =IFERROR((VLOOKUP($A48&B$19,Llave,10,FALSE)),0) -> 0 | C48: =IFERROR((VLOOKUP($A48&C$19,Llave,10,FALSE)),0) -> 0 | D48: =IFERROR((VLOOKUP($A48&D$19,Llave,10,FALSE)),0) -> 0 | E48: =IFERROR((VLOOKUP($A48&E$19,Llave,10,FALSE)),0) -> 0 | F48: =IFERROR((VLOOKUP($A48&F$19,Llave,10,FALSE)),0) -> 0 | G48: =IFERROR((VLOOKUP($A48&G$19,Llave,10,FALSE)),0) -> 0 | H48: =IFERROR((VLOOKUP($A48&H$19,Llave,10,FALSE)),0) -> 0 | I48: =IFERROR((VLOOKUP($A48&I$19,Llave,10,FALSE)),0) -> 0 | ... M48: =IFERROR((VLOOKUP($A48&M$19,Llave,10,FALSE)),0) -> 0 | N48: =SUM(B48:H48) -> 0 | O48: =IFERROR((VLOOKUP($A48&O$19,Llave,11,FALSE)),0) -> 0 | P48: =IFERROR((VLOOKUP($A48&P$19,Llave,11,FALSE)),0) -> 0 | Q48: =IFERROR((VLOOKUP($A48&Q$19,Llave,11,FALSE)),0) -> 0 | R48: =IFERROR((VLOOKUP($A48&R$19,Llave,11,FALSE)),0) -> 0 | S48: =IFERROR((VLOOKUP($A48&S$19,Llave,11,FALSE)),0) -> 0 | T48: =IFERROR((VLOOKUP($A48&T$19,Llave,11,FALSE)),0) -> 0 | U48: =IFERROR((VLOOKUP($A48&U$19,Llave,11,FALSE)),0) -> 0 | V48: =IFERROR((VLOOKUP($A48&V$19,Llave,11,FALSE)),0) -> 0 | ... Z48: =IFERROR((VLOOKUP($A48&Z$19,Llave,11,FALSE)),0) -> 0 | AA48: =SUM(O48:U48) -> 0 | AB48: =N48+AA48 -> 0
...

Sheet Hoja2
A3: Etiquetas de fila | B3: Suma de Presupuesto | C3: Suma de Gasto | D3: Suma de Comprometido | E3: Suma de Precomprometido | F3: Suma de Disponible
A4: 51211001 | B4: 44520 | C4: 0 | D4: 0 | E4: 0 | F4: 44520
A5: 51221003 | B5: 28740 | C5: 1043 | D5: 0 | E5: 0 | F5: 27697
A6: 51261002 | B6: 76432 | C6: 185.81 | D6: 0 | E6: 0 | F6: 76246.19
A7: 51311004 | B7: 12480 | C7: 3119.99 | D7: 0 | E7: 0 | F7: 9360.01
A8: 51311013 | B8: 13390 | C8: 0 | D8: 0 | E8: 0 | F8: 13390
A9: 51321001 | B9: 1.6607196e+08 | C9: 54528352 | D9: 59510947 | E9: 0 | F9: 52032660
A10: 51332001 | B10: 6503901.7 | C10: 0 | D10: 0 | E10: 0 | F10: 6503901.7
A11: 51332007 | B11: 114750 | C11: 0 | D11: 0 | E11: 0 | F11: 114750
A12: 51341005 | B12: 22242955 | C12: 6852843 | D12: 0 | E12: 0 | F12: 15390112
A13: 51371001 | B13: 923910 | C13: 21784.52 | D13: 0 | E13: 902125.48 | F13: 0
A14: 51371002 | B14: 544870 | C14: 113889.76 | D14: 0 | E14: 430980.24 | F14: 0
A15: 51371004 | B15: 10337 | C15: 2424 | D15: 0 | E15: 0 | F15: 7913
... A18: 51391001 | B18: 35768 | C18: 35768 | D18: 0 | E18: 0 | F18: 0
A19: Total general | B19: 1.9700083e+08 | C19: 61600972 | D19: 59510947 | E19: 1333105.7 | F19: 74555809

Sheet Hoja4
A1: Avance al 7 de julio de 2026
A3: Etiquetas de fila | B3: Suma de Cuenta | C3: Suma de Presupuesto | D3: Suma de Gasto | E3: Suma de Comprometido | F3: Suma de Precomprometido | G3: Suma de Disponible
A4: 51211001 | B4: 51211001 | C4: 25970 | D4: 0 | E4: 0 | F4: 0 | G4: 25970
A5: 51221003 | B5: 102442006 | C5: 16765 | D5: 1043 | E5: 0 | F5: 0 | G5: 15722
A6: 51261002 | B6: 102522004 | C6: 44585 | D6: 185.81 | E6: 0 | F6: 0 | G6: 44399.19
A7: 51311004 | B7: 205244016 | C7: 7280 | D7: 3119.99 | E7: 0 | F7: 0 | G7: 4160.01
A8: 51311013 | B8: 51311013 | C8: 7812 | D8: 0 | E8: 0 | F8: 0 | G8: 7812
A9: 51321001 | B9: 307926006 | C9: 67819450 | D9: 54528352 | E9: 2346297.5 | F9: 0 | G9: 10944801
A10: 51332001 | B10: 51332001 | C10: 2241926 | D10: 0 | E10: 0 | F10: 0 | G10: 2241926
A11: 51332007 | B11: 51332007 | C11: 45900 | D11: 0 | E11: 0 | F11: 0 | G11: 45900
A12: 51341005 | B12: 359387035 | C12: 11718407 | D12: 6852843 | E12: 0 | F12: 0 | G12: 4865564
A13: 51371001 | B13: 102742002 | C13: 923910 | D13: 21784.52 | E13: 0 | F13: 902125.48 | G13: 0
A14: 51371002 | B14: 205484008 | C14: 544870 | D14: 113889.76 | E14: 0 | F14: 430980.24 | G14: 0
A15: 51371004 | B15: 205484016 | C15: 6029 | D15: 2424 | E15: 0 | F15: 0 | G15: 3605
... A18: 51391001 | B18: 51391001 | C18: 35768 | D18: 35768 | E18: 0 | F18: 0 | G18: 0
A19: Total general | B19: 2310147175 | C19: 83690672 | D19: 61600972 | E19: 2346297.5 | F19: 1333105.7 | G19: 18410297

Sheet Hoja3
A1: Cuenta | B1: Uni.Explot | C1: Centro Costo | D1: Uni.Información | E1: Proyecto | F1: Periodo | G1: Presupuesto | H1: Gasto | I1: Comprometido | J1: Precomprometido | K1: Disponible
A2: 51211001 | B2: 9 | C2: 14D000 | D2: 99001 | E2: N/A | F2: 2026M07 | G2: 25970 | H2: 0 | I2: 0 | J2: 0 | K2: 25970
